{"text_format":"1","workbook":"xlsx","n_sheets":12,"sheets":["Indberetning","Log til revisionsbemærkninger","Log til risikostyring","Datavisualisering bemærkninger","Datavisualisering risikostyring","Pivot Risiko 1","Pivot Risiko 2","Pivot Revision 1","Pivot Revision 2","Pivot Revision 3","KPI til Revision","KPI til Risikostyring"],"not_rendered":{"charts":22,"images":0,"macros":1,"external_links":0,"defined_names":3,"comments":0,"pivot_tables":9},"unopened":[],"bounds":{"document_bytes":16777216,"sheet_cells":100000,"rows_first":2000,"rows_last":500,"rows_between":2000,"halvings":0,"cell_chars":16384,"cell_head_chars":4096},"cells_cut":0,"cells_raw":0,"read":"whole","date_system":"1900"}

{"sheet":"Indberetning","index":0,"n_rows":32,"n_cols":21,"rows_kept":32,"cut":false,"hidden":false,"merged":[[19,20,19,25],[20,20,20,25],[14,20,14,25],[15,20,15,25],[16,20,16,25],[17,20,17,25],[3,1,3,3],[4,1,4,2],[5,1,5,2],[13,1,13,7],[15,2,15,7],[14,2,14,7],[25,20,25,25],[26,20,26,25],[27,20,27,25],[21,20,21,25],[30,2,30,7],[25,2,25,7],[26,2,26,7],[27,2,27,7],[22,2,22,7],[24,2,24,7],[28,2,28,7],[29,2,29,7],[22,20,22,25],[23,20,23,25],[24,20,24,25],[23,2,23,7],[32,12,32,17],[6,1,6,2],[27,12,27,17],[28,12,28,17],[29,12,29,17],[19,2,19,7],[31,2,31,7],[30,12,30,17],[31,12,31,17],[33,2,33,7],[32,2,32,7],[16,2,16,7],[18,2,18,7],[20,2,20,7],[17,2,17,7]]}
[]
[]
[]
[null,"Stamdata "]
[null,"Institutionsnavn",null,"[Skriv fulde navn]"]
[null,"Risikobillede opdateret pr. ",null,"[DD.MM.ÅÅ]"]
[]
[]
[]
[]
[]
[]
[]
[null,"Vejledning til udfyldelse af skema for opretning af ny bemærkning",null,null,null,null,null,null,null,null,null,null,null,null,null,null,null,null,null,"Vejledning til udfyldelse af skema for opretning af risiko"]
[null,"ID","ID nummeret tildeles automatisk, når der oprettes en revisionsbemærkning.  ",null,null,null,null,null,null,null,null,null,null,null,null,null,null,null,null,"ID","ID nummeret tildeles automatisk, når der oprettes en risiko.  "]
[null,"Journalsagsnummer","Indtast nummeret for den interne journalisering af revisionsbemærkningen.",null,null,null,null,null,null,null,null,null,null,null,null,null,null,null,null,"Beskrivelse af risiko","Beskriv den identificerede risiko. Risikoen beskrives kort, men tilstrækkeligt fyldestgørende til, at den er forståelig for personer i andre dele af institutionen. "]
[null,"Rapporteringsform","Angiv hvor revisionsbemærkningen stammer fra. Valgmulighederne er: Beretning, Management Letter, Revisionsrapport, Tilsynsrapport, Afrapporteringsbrev, Mundtlig rapportering, Øvrig. ",null,null,null,null,null,null,null,null,null,null,null,null,null,null,null,null,"Risikotype","Angiv typen af risiko. Valgmulighederne er: Finansiel, Juridisk, Operationel og Strategisk. De fire risikotyper er ikke gensidigt udelukkende og vil ofte være internt forbudne. Vælg den type, som risikoen primært vedrører. \n"]
[null,"Rapporteringsnummer","Indtast nummeret på den rapport, beretning, etc., som revisionsbemærkningen stammer fra. Eksisterer der ikke en rapport på bemærkningen, indtast evt. eget defineret nummer eller spring over.",null,null,null,null,null,null,null,null,null,null,null,null,null,null,null,null,"Dato for identifikation","Indtast dato for identifikation af risikoen."]
[null,"Titel","Angiv en titel for revisionsbemærkningen.",null,null,null,null,null,null,null,null,null,null,null,null,null,null,null,null,"Ansvarlig enhed","Angiv navnet på den enhed (kontor), som risikoen organisatorisk er tilknyttet. "]
[null,"Observation","Angiv en beskrivelse af revisionsbemærkningen og den risiko, der er identificeret. ",null,null,null,null,null,null,null,null,null,null,null,null,null,null,null,null,"Risikoejer","Angiv hvem der er risikoejer. En risikoejer er typisk en kontorchef eller et direk-tionsmedlem med ansvar for den ansvarlige enhed. Risikoejeren har ansvaret for at sikre, at risikoen bliver håndteret. "]
[null,"Kilde","Angiv hvem der er afsender på revisionsbemærkningen. Mulighederne er: Rigsre-visionen, Statsrevisorerne, Øvrig ekstern og Øvrig intern. ",null,null,null,null,null,null,null,null,null,null,null,null,null,null,null,null,"Risikoansvarlig","Angiv hvem der er risikoansvarlig. En risikoansvarlig er typisk en medarbejder, der refererer til risikoejeren, og som har det operationelle ansvar for at håndtere risikoen. "]
[null,"Dato for rapportering","Indtast dato for, hvornår revisionsbemærkningen er modtaget.",null,null,null,null,null,null,null,null,null,null,null,null,null,null,null,null,"Sandsynlighed","Angiv hvad sandsynligheden er for, at risikoen indtræffer. Valgmulighederne er: 1 – Sjælden eller usandsynlig, 2 – Vil næppe forekomme, 3 – Er mulig, 4 – Må forventes at forekomme og 5 – Vil helt sikkert forekomme. "]
[null,"Typer af revisionsbemærkning","Angiv typen af revisionsbemærkning. Valgmulighederne er: Finansiel, Juridisk-kritisk, Forvaltning, It, Løn og Øvrig. ",null,null,null,null,null,null,null,null,null,null,null,null,null,null,null,null,"Konsekvens","Angiv hvor stor konsekvensen vil være for institutionen, hvis risikoen indtræffer. Valgmulighederne: 1 – Uvæsentlig, 2 – Mindre, 3 – Nogen, 4 – Stor og 5 – Uacceptabel"]
[null,"Art","Angiv om revisionsbemærkningen er Ny eller Gentaget (forekommet tidligere). ",null,null,null,null,null,null,null,null,null,null,null,null,null,null,null,null,"Risikoscore","I log til risikostyring vil der fremgå en samlet risikoscore, der udregnes automatisk som sandsynlighed x konsekvens. Farven i felterne bestemmes af risikoscoren, er defineret i intervallerne:\nGrøn = Mindre risiko (interval 1-4)\nGul = Kritisk risiko (interval 5-15)\nRød = Uacceptabel risiko (interval 16-25)"]
[null,"Kritikalitet","Angiv hvor kritisk bemærkningen vurderes at være. Vurderingen anbefales at tage udgangspunkt i Rigsrevisionens skala, hvis den er anført. Valgmulighederne er: 1 Rød – Afgørende forhold, som kræver hurtig handling, 2 Gul – Væsentlige forhold, som kræver handling, 3 Grøn – Mindre forhold, som bør behandles. ",null,null,null,null,null,null,null,null,null,null,null,null,null,null,null,null,"Strategi","Angiv valg af strategi for imødegåelse af risiko:  Reducere (aktivt at gøre risiko mindre), Acceptere (at risikoen overvåges, men at der ikke iværksættes mitigerende handlinger), Undgå (den årsagsgivende aktivitet stoppes), Overføre (at få anden aktør til at påtage sig del af ansvaret for behandling af risici)"]
[null,"Ansvarlig enhed","Angiv navnet på den enhed (kontor), som revisionsbemærkningen organisatorisk er tilknyttet.  ",null,null,null,null,null,null,null,null,null,null,null,null,null,null,null,null,"Mitigerende handlinger","Beskriv kort, hvilke handlinger der igangsættes for at mindske risikoen. "]
[null,"Ansvarshavende ledelse","Angiv navnet på den leder, som i den valgte enhed har det daglige ansvar for håndtering af revisionsbemærkningen. ",null,null,null,null,null,null,null,null,null,null,null,null,null,null,null,null,"Dato for opfølgning","Indtast dato for opfølgning på risikoen. "]
[null,"Kontaktperson","Angiv hvem der er kontaktperson i forbindelse med opfølgning på revisionsbe-mærkningen. Kontaktpersonen vælges i samarbejde med ansvarshavende ledelse.",null,null,null,null,null,null,null,null,null,null,null,null,null,null,null,null,"Forelagt for ledelsen","Angiv om risikoen skal forelægges for ledelsen/direktionen. Dette vil typisk afhænge af, hvor kritisk risikoen vurderes at være og af de interne processer."]
[null,"Mitigerende handlinger","Beskriv kort de initiativer, som igangsættes for at håndtere bemærkningen. De igangsatte initiativer bør afspejle den grad af kritikalitet, som bemærkningen vurderes at have. "]
[null,"Gennemførelsesfrist","Angiv dato for, hvornår de planlagte mitigerende handlinger skal være gennem-ført. Det er muligt at tilføje en ny gennemførelsesfrist i loggen, såfremt det ikke vurderes at være muligt at nå det inden for den oprindelige frist. "]
[null,"Opfølgningsdato","Indtast dato for opfølgning på håndtering af revisionsbemærkningen. "]
[null,"Forelagt for ledelsen","Angiv om revisionsbemærkningen skal forelægges ledelsen. Dette vurderes ud fra graden af kritikalitet og interne processer. Valgmulighederne er: Ja eller Nej. "]

{"sheet":"Log til revisionsbemærkninger","index":1,"n_rows":51,"n_cols":25,"rows_kept":51,"cut":false,"hidden":false,"merged":[[7,22,7,24],[3,2,4,7],[7,13,7,15],[7,2,7,12],[7,19,7,21],[7,16,7,18]]}
[]
[]
[]
[null,null,"Log til revisionsbemærkninger"]
[]
[]
[]
[null,null,"Beskrivelse af revisionsbemærkninger",null,null,null,null,null,null,null,null,null,null,"Ansvarstildeling",null,null,"Håndtering af revisionsbemærkninger",null,null,"Opfølgning",null,null,"Ledelsestilsyn\n(Udfyldes af ledelsen/direktionen)"]
[null,null,"ID","Journalsagsnr.","Rapporteringsform","Rapporteringsnr.","Titel for bemærkning","Observation","Kilde","Dato for rapportering","Type af revisionsbemærkning","Art","Kritikalitet","Ansvarlig enhed","Ansvarshavende ledelse","Kontaktperson","Mitigerende handlinger ","Gennemførselsfrist","Nyeste gennemførselsfrist","Status på opfølgning","Opfølgende kommentar","Opfølgningsdato","Status","Forelagt for ledelsen","Ledelseskommentar"]
[null,null,null,null,null,null,null,null,null,null,null,null,null,null,null,null,null,null,null,"Ikke startet"]
[null,null,null,null,null,null,null,null,null,null,null,null,null,null,null,null,null,null,null,"Ikke startet"]
[null,null,null,null,null,null,null,null,null,null,null,null,null,null,null,null,null,null,null,"Ikke startet"]
[null,null,null,null,null,null,null,null,null,null,null,null,null,null,null,null,null,null,null,"Ikke startet"]
[null,null,null,null,null,null,null,null,null,null,null,null,null,null,null,null,null,null,null,"Ikke startet"]
[null,null,null,null,null,null,null,null,null,null,null,null,null,null,null,null,null,null,null,"Ikke startet"]
[null,null,null,null,null,null,null,null,null,null,null,null,null,null,null,null,null,null,null,"Ikke startet"]
[null,null,null,null,null,null,null,null,null,null,null,null,null,null,null,null,null,null,null,"Ikke startet"]
[null,null,null,null,null,null,null,null,null,null,null,null,null,null,null,null,null,null,null,"Ikke startet"]
[null,null,null,null,null,null,null,null,null,null,null,null,null,null,null,null,null,null,null,"Ikke startet"]
[null,null,null,null,null,null,null,null,null,null,null,null,null,null,null,null,null,null,null,"Ikke startet"]
[null,null,null,null,null,null,null,null,null,null,null,null,null,null,null,null,null,null,null,"Ikke startet"]
[null,null,null,null,null,null,null,null,null,null,null,null,null,null,null,null,null,null,null,"Ikke startet"]
[null,null,null,null,null,null,null,null,null,null,null,null,null,null,null,null,null,null,null,"Ikke startet"]
[null,null,null,null,null,null,null,null,null,null,null,null,null,null,null,null,null,null,null,"Ikke startet"]
[null,null,null,null,null,null,null,null,null,null,null,null,null,null,null,null,null,null,null,"Ikke startet"]
[null,null,null,null,null,null,null,null,null,null,null,null,null,null,null,null,null,null,null,"Ikke startet"]
[null,null,null,null,null,null,null,null,null,null,null,null,null,null,null,null,null,null,null,"Ikke startet"]
[null,null,null,null,null,null,null,null,null,null,null,null,null,null,null,null,null,null,null,"Ikke startet"]
[null,null,null,null,null,null,null,null,null,null,null,null,null,null,null,null,null,null,null,"Ikke startet"]
[null,null,null,null,null,null,null,null,null,null,null,null,null,null,null,null,null,null,null,"Ikke startet"]
[null,null,null,null,null,null,null,null,null,null,null,null,null,null,null,null,null,null,null,"Ikke startet"]
[null,null,null,null,null,null,null,null,null,null,null,null,null,null,null,null,null,null,null,"Ikke startet"]
[null,null,null,null,null,null,null,null,null,null,null,null,null,null,null,null,null,null,null,"Ikke startet"]
[null,null,null,null,null,null,null,null,null,null,null,null,null,null,null,null,null,null,null,"Ikke startet"]
[null,null,null,null,null,null,null,null,null,null,null,null,null,null,null,null,null,null,null,"Ikke startet"]
[null,null,null,null,null,null,null,null,null,null,null,null,null,null,null,null,null,null,null,"Ikke startet"]
[null,null,null,null,null,null,null,null,null,null,null,null,null,null,null,null,null,null,null,"Ikke startet"]
[null,null,null,null,null,null,null,null,null,null,null,null,null,null,null,null,null,null,null,"Ikke startet"]
[null,null,null,null,null,null,null,null,null,null,null,null,null,null,null,null,null,null,null,"Ikke startet"]
[null,null,null,null,null,null,null,null,null,null,null,null,null,null,null,null,null,null,null,"Ikke startet"]
[null,null,null,null,null,null,null,null,null,null,null,null,null,null,null,null,null,null,null,"Ikke startet"]
[null,null,null,null,null,null,null,null,null,null,null,null,null,null,null,null,null,null,null,"Ikke startet"]
[null,null,null,null,null,null,null,null,null,null,null,null,null,null,null,null,null,null,null,"Ikke startet"]
[null,null,null,null,null,null,null,null,null,null,null,null,null,null,null,null,null,null,null,"Ikke startet"]
[null,null,null,null,null,null,null,null,null,null,null,null,null,null,null,null,null,null,null,"Ikke startet"]
[null,null,null,null,null,null,null,null,null,null,null,null,null,null,null,null,null,null,null,"Ikke startet"]
[null,null,null,null,null,null,null,null,null,null,null,null,null,null,null,null,null,null,null,"Ikke startet"]
[null,null,null,null,null,null,null,null,null,null,null,null,null,null,null,null,null,null,null,"Ikke startet"]
[null,null,null,null,null,null,null,null,null,null,null,null,null,null,null,null,null,null,null,"Ikke startet"]
[null,null,null,null,null,null,null,null,null,null,null,null,null,null,null,null,null,null,null,"Ikke startet"]
[null,null,null,null,null,null,null,null,null,null,null,null,null,null,null,null,null,null,null,"Ikke startet"]

{"sheet":"Log til risikostyring","index":2,"n_rows":51,"n_cols":19,"rows_kept":51,"cut":false,"hidden":false,"merged":[[5,15,5,17],[5,13,5,14],[2,1,3,4],[5,5,5,7],[5,8,5,10],[5,1,5,4],[5,11,5,12]]}
[]
[]
[null,"Log til risikostyring"]
[]
[]
[null,"Stamoplysninger",null,null,null,"Ansvarstildeling",null,null,"Vurdering af iboende risiko",null,null,"Risikohåndtering",null,"Opfølgning",null,"Vurdering af residual risiko",null,null,"Ledelsestilsyn"]
[null,"ID","Beskrivelse af risiko ","Risikotype","Dato for identifikation","Ansvarlig enhed","Risikoejer","Risikoansvarlig","Sandsynlighed","Konsekvens","Samlet risikoscore","Strategi","Mitigerende handlinger ","Dato for opfølgning","Status og evt. handlinger for imødekommelse af risiko","Sandsynlighed","Konsekvens","Samlet residual risikoscore","Forelagt for ledelsen"]
[null,null,null,null,null,null,null,null,null,null,{"$f":"I8*J8","v":0},null,null,null,null,null,null,{"$f":"SUM(P8*Q8)","v":0}]
[null,null,null,null,null,null,null,null,null,null,{"$f":"I9*J9","v":0},null,null,null,null,null,null,{"$f":"SUM(P9*Q9)","v":0}]
[null,null,null,null,null,null,null,null,null,null,{"$f":"I10*J10","v":0},null,null,null,null,null,null,0]
[null,null,null,null,null,null,null,null,null,null,{"$f":"I11*J11","v":0},null,null,null,null,null,null,0]
[null,null,null,null,null,null,null,null,null,null,{"$f":"I12*J12","v":0},null,null,null,null,null,null,0]
[null,null,null,null,null,null,null,null,null,null,0,null,null,null,null,null,null,0]
[null,null,null,null,null,null,null,null,null,null,0,null,null,null,null,null,null,0]
[null,null,null,null,null,null,null,null,null,null,0,null,null,null,null,null,null,0]
[null,null,null,null,null,null,null,null,null,null,0,null,null,null,null,null,null,0]
[null,null,null,null,null,null,null,null,null,null,0,null,null,null,null,null,null,0]
[null,null,null,null,null,null,null,null,null,null,0,null,null,null,null,null,null,0]
[null,null,null,null,null,null,null,null,null,null,0,null,null,null,null,null,null,0]
[null,null,null,null,null,null,null,null,null,null,0,null,null,null,null,null,null,0]
[null,null,null,null,null,null,null,null,null,null,0,null,null,null,null,null,null,0]
[null,null,null,null,null,null,null,null,null,null,0,null,null,null,null,null,null,0]
[null,null,null,null,null,null,null,null,null,null,0,null,null,null,null,null,null,0]
[null,null,null,null,null,null,null,null,null,null,0,null,null,null,null,null,null,0]
[null,null,null,null,null,null,null,null,null,null,{"$f":"I25*J25","v":0},null,null,null,null,null,null,0]
[null,null,null,null,null,null,null,null,null,null,0,null,null,null,null,null,null,0]
[null,null,null,null,null,null,null,null,null,null,0,null,null,null,null,null,null,0]
[null,null,null,null,null,null,null,null,null,null,0,null,null,null,null,null,null,0]
[null,null,null,null,null,null,null,null,null,null,0,null,null,null,null,null,null,0]
[null,null,null,null,null,null,null,null,null,null,0,null,null,null,null,null,null,0]
[null,null,null,null,null,null,null,null,null,null,0,null,null,null,null,null,null,0]
[null,null,null,null,null,null,null,null,null,null,0,null,null,null,null,null,null,0]
[null,null,null,null,null,null,null,null,null,null,0,null,null,null,null,null,null,0]
[null,null,null,null,null,null,null,null,null,null,0,null,null,null,null,null,null,0]
[null,null,null,null,null,null,null,null,null,null,0,null,null,null,null,null,null,0]
[null,null,null,null,null,null,null,null,null,null,0,null,null,null,null,null,null,0]
[null,null,null,null,null,null,null,null,null,null,0,null,null,null,null,null,null,0]
[null,null,null,null,null,null,null,null,null,null,0,null,null,null,null,null,null,0]
[null,null,null,null,null,null,null,null,null,null,{"$f":"I39*J39","v":0},null,null,null,null,null,null,0]
[null,null,null,null,null,null,null,null,null,null,0,null,null,null,null,null,null,0]
[null,null,null,null,null,null,null,null,null,null,0,null,null,null,null,null,null,0]
[null,null,null,null,null,null,null,null,null,null,0,null,null,null,null,null,null,0]
[null,null,null,null,null,null,null,null,null,null,0,null,null,null,null,null,null,0]
[null,null,null,null,null,null,null,null,null,null,0,null,null,null,null,null,null,0]
[null,null,null,null,null,null,null,null,null,null,0,null,null,null,null,null,null,0]
[null,null,null,null,null,null,null,null,null,null,0,null,null,null,null,null,null,0]
[null,null,null,null,null,null,null,null,null,null,0,null,null,null,null,null,null,0]
[null,null,null,null,null,null,null,null,null,null,0,null,null,null,null,null,null,0]
[null,null,null,null,null,null,null,null,null,null,0,null,null,null,null,null,null,0]
[null,null,null,null,null,null,null,null,null,null,0,null,null,null,null,null,null,0]
[null,null,null,null,null,null,null,null,null,null,0,null,null,null,null,null,null,0]

{"sheet":"Datavisualisering bemærkninger","index":3,"n_rows":74,"n_cols":33,"rows_kept":74,"cut":false,"hidden":false,"merged":[[0,0,1,31],[64,1,64,22]]}
["Datavisualisering til revisionsbemærkninger",null,null,null,null,null,null,null,null,null,null,null,null,null,null,null,null,null,null,null,null,null,null,null,null,null,null,null,null,null,null,null,"1 Rød - Afgørende forhold, som kræver hurtig behandling"]
[null,null,null,null,null,null,null,null,null,null,null,null,null,null,null,null,null,null,null,null,null,null,null,null,null,null,null,null,null,null,null,null,"Åben"]
[]
[]
[]
[]
[]
[]
[]
[]
[]
[]
[]
[]
[]
[]
[]
[]
[]
[]
[]
[]
[]
[]
[]
[]
[]
[]
[]
[]
[]
[]
[]
[]
[]
[]
[]
[]
[]
[]
[]
[]
[]
[]
[]
[]
[]
[]
[]
[]
[]
[]
[]
[]
[]
[]
[]
[]
[]
[]
[]
[]
[]
[]
[null,"Oversigt over bemærkninger med afgørende forhold"]
[null,"Nr.",null,"Rapporteringsform","Rapporteringsnr.","Titel",null,null,null,null,null,"Kritikalitet",null,null,null,null,null,null,"Opfølgningsstatus",null,"Opfølgningsdato",null,"Forelagt ledelsen"]
[]
[]
[null,null,null,null,null,null,null,null,null,null,"Ny",null,"Kontor D","Helle Hellesen","Jørgn Jørgnsen ","Bemærkningen er taget til efterretning, og der vil blive udarbejdet en beskrivelse af forretningsområdet, hvori processen for fastsættelsen af bidragssatserne vil indgå. I forlængelse heraf anser Koncernøkonomi risikoen for håndteret.","07.02.2020",null,null,null,null,"Åben"]
[null,null,null,null,null,null,null,null,null,null,"Ny",null,"Kontor B","Anders Andersen ","Niels Nilesen ","Bærkningen er taget til efterretning og der handles hurtigt for at dæmme op. ","30.12.2021",null,null,null,null,"Åben"]
[null,null,null,null,null,null,null,null,null,null,"Ny",null,"Kontor C","Bent Bentsen ","Andrea Andreasen ","Vi har igangsat undersøgelse af logning for at imødekomme risikoen","22.10.2021",null,null,null,null,"Åben"]
[null,null,null,null,null,null,null,null,null,null,"Ny",null,"Kontor C","Bent Bentsen ","Andrea Andreasen ","DEMO vil iværksætte stikprøvekontrol af efterreguleringer dannet via SLS og sikre dokumentation og korrekt sagsbehandling, hvor der er tale om en normal refusionsanmodning.","31.12.21",null,null,null,null,"Åben"]
[null,null,null,null,null,null,null,null,null,null,"Ny",null,"Kontor C","Bent Bentsen ","Andrea Andreasen ","Bærkningen er taget til efterretning og der handles hurtigt for at dæmme op. ","07.12.2020",null,null,null,null,"Åben"]
[null,null,null,null,null,null,null,null,null,null,"Ny",null,"Kontor E","Ulla Ullasen","Igen igen igen ","Er bekendt med risici men vælger at accptere denne, da den er for omkostlig at gøre noget ved. ","31.12.2021",null,null,null,null,"Åben"]

{"sheet":"Datavisualisering risikostyring","index":4,"n_rows":300,"n_cols":7,"rows_kept":300,"cut":false,"hidden":false,"merged":[[10,27,10,30],[0,0,1,21],[54,1,54,6]]}
["Datavisualisering til risikostyring"]
[]
[]
[]
[]
[]
[]
[]
[]
[]
[]
[]
[]
[]
[]
[]
[]
[]
[]
[]
[]
[]
[]
[]
[]
[]
[]
[]
[]
[]
[]
[]
[]
[]
[]
[]
[]
[]
[]
[]
[]
[]
[]
[]
[]
[]
[]
[]
[]
[]
[]
[]
[]
[]
[null,"Oversigt over mest kritiske risici"]
[null,"ID nr.","Beskrivelse","Risikotype","Samlede risiko","Opfølgningsdato","Status"]
[null,{"$f":"'KPI til Risikostyring'!B4","v":0},{"$f":"'KPI til Risikostyring'!C4","v":0},{"$f":"'KPI til Risikostyring'!D4","v":0},{"$f":"'KPI til Risikostyring'!K4","v":0},{"$f":"'KPI til Risikostyring'!N4","v":0},{"$f":"'KPI til Risikostyring'!O4","v":0}]
[null,{"$f":"'KPI til Risikostyring'!B13","v":0},{"$f":"'KPI til Risikostyring'!C5","v":0},{"$f":"'KPI til Risikostyring'!D13","v":0},{"$f":"'KPI til Risikostyring'!K13","v":0},{"$f":"'KPI til Risikostyring'!N5","v":0},{"$f":"'KPI til Risikostyring'!O5","v":0}]
[null,{"$f":"'KPI til Risikostyring'!B21","v":0},{"$f":"'KPI til Risikostyring'!C6","v":0},{"$f":"'KPI til Risikostyring'!D21","v":0},{"$f":"'KPI til Risikostyring'!K21","v":0},{"$f":"'KPI til Risikostyring'!N6","v":0},{"$f":"'KPI til Risikostyring'!O6","v":0}]
[null,{"$f":"'KPI til Risikostyring'!B10","v":0},{"$f":"'KPI til Risikostyring'!C7","v":0},{"$f":"'KPI til Risikostyring'!D10","v":0},{"$f":"'KPI til Risikostyring'!K10","v":0},{"$f":"'KPI til Risikostyring'!N7","v":0},{"$f":"'KPI til Risikostyring'!O7","v":0}]
[null,{"$f":"'KPI til Risikostyring'!B19","v":0},{"$f":"'KPI til Risikostyring'!C8","v":0},{"$f":"'KPI til Risikostyring'!D19","v":0},{"$f":"'KPI til Risikostyring'!K19","v":0},{"$f":"'KPI til Risikostyring'!N8","v":0},{"$f":"'KPI til Risikostyring'!O8","v":0}]
[null,{"$f":"'KPI til Risikostyring'!B20","v":0},{"$f":"'KPI til Risikostyring'!C9","v":0},{"$f":"'KPI til Risikostyring'!D20","v":0},{"$f":"'KPI til Risikostyring'!K20","v":0},{"$f":"'KPI til Risikostyring'!N9","v":0},{"$f":"'KPI til Risikostyring'!O9","v":0}]
[null,{"$f":"'KPI til Risikostyring'!B9","v":0},{"$f":"'KPI til Risikostyring'!C10","v":0},{"$f":"'KPI til Risikostyring'!D9","v":0},{"$f":"'KPI til Risikostyring'!K9","v":0},{"$f":"'KPI til Risikostyring'!N10","v":0},{"$f":"'KPI til Risikostyring'!O10","v":0}]
[null,{"$f":"'KPI til Risikostyring'!B14","v":0},{"$f":"'KPI til Risikostyring'!C11","v":0},{"$f":"'KPI til Risikostyring'!D14","v":0},{"$f":"'KPI til Risikostyring'!K14","v":0},{"$f":"'KPI til Risikostyring'!N11","v":0},{"$f":"'KPI til Risikostyring'!O11","v":0}]
[null,{"$f":"'KPI til Risikostyring'!B5","v":0},{"$f":"'KPI til Risikostyring'!C12","v":0},{"$f":"'KPI til Risikostyring'!D5","v":0},{"$f":"'KPI til Risikostyring'!K5","v":0},{"$f":"'KPI til Risikostyring'!N12","v":0},{"$f":"'KPI til Risikostyring'!O12","v":0}]
[null,{"$f":"'KPI til Risikostyring'!B7","v":0},{"$f":"'KPI til Risikostyring'!C13","v":0},{"$f":"'KPI til Risikostyring'!D7","v":0},{"$f":"'KPI til Risikostyring'!K7","v":0},{"$f":"'KPI til Risikostyring'!N13","v":0},{"$f":"'KPI til Risikostyring'!O13","v":0}]
[null,{"$f":"'KPI til Risikostyring'!B17","v":0},{"$f":"'KPI til Risikostyring'!C14","v":0},{"$f":"'KPI til Risikostyring'!D17","v":0},{"$f":"'KPI til Risikostyring'!K17","v":0},{"$f":"'KPI til Risikostyring'!N14","v":0},{"$f":"'KPI til Risikostyring'!O14","v":0}]
[null,{"$f":"'KPI til Risikostyring'!B6","v":0},{"$f":"'KPI til Risikostyring'!C15","v":0},{"$f":"'KPI til Risikostyring'!D6","v":0},{"$f":"'KPI til Risikostyring'!K6","v":0},{"$f":"'KPI til Risikostyring'!N15","v":0},{"$f":"'KPI til Risikostyring'!O15","v":0}]
[null,{"$f":"'KPI til Risikostyring'!B18","v":0},{"$f":"'KPI til Risikostyring'!C16","v":0},{"$f":"'KPI til Risikostyring'!D18","v":0},{"$f":"'KPI til Risikostyring'!K18","v":0},{"$f":"'KPI til Risikostyring'!N16","v":0},{"$f":"'KPI til Risikostyring'!O16","v":0}]
[null,{"$f":"'KPI til Risikostyring'!B11","v":0},{"$f":"'KPI til Risikostyring'!C17","v":0},{"$f":"'KPI til Risikostyring'!D11","v":0},{"$f":"'KPI til Risikostyring'!K11","v":0},{"$f":"'KPI til Risikostyring'!N17","v":0},{"$f":"'KPI til Risikostyring'!O17","v":0}]
[null,{"$f":"'KPI til Risikostyring'!B8","v":0},{"$f":"'KPI til Risikostyring'!C18","v":0},{"$f":"'KPI til Risikostyring'!D8","v":0},{"$f":"'KPI til Risikostyring'!K8","v":0},{"$f":"'KPI til Risikostyring'!N18","v":0},{"$f":"'KPI til Risikostyring'!O18","v":0}]
[null,{"$f":"'KPI til Risikostyring'!B15","v":0},{"$f":"'KPI til Risikostyring'!C19","v":0},{"$f":"'KPI til Risikostyring'!D15","v":0},{"$f":"'KPI til Risikostyring'!K15","v":0},{"$f":"'KPI til Risikostyring'!N19","v":0},{"$f":"'KPI til Risikostyring'!O19","v":0}]
[null,{"$f":"'KPI til Risikostyring'!B12","v":0},{"$f":"'KPI til Risikostyring'!C20","v":0},{"$f":"'KPI til Risikostyring'!D12","v":0},{"$f":"'KPI til Risikostyring'!K12","v":0},{"$f":"'KPI til Risikostyring'!N20","v":0},{"$f":"'KPI til Risikostyring'!O20","v":0}]
[null,{"$f":"'KPI til Risikostyring'!B16","v":0},{"$f":"'KPI til Risikostyring'!C21","v":0},{"$f":"'KPI til Risikostyring'!D16","v":0},{"$f":"'KPI til Risikostyring'!K16","v":0},{"$f":"'KPI til Risikostyring'!N21","v":0},{"$f":"'KPI til Risikostyring'!O21","v":0}]
[null,{"$f":"'KPI til Risikostyring'!B22","v":0},{"$f":"'KPI til Risikostyring'!C22","v":0},{"$f":"'KPI til Risikostyring'!D22","v":0},{"$f":"'KPI til Risikostyring'!K22","v":0},{"$f":"'KPI til Risikostyring'!N22","v":0},{"$f":"'KPI til Risikostyring'!O22","v":0}]
[null,{"$f":"'KPI til Risikostyring'!B23","v":0},{"$f":"'KPI til Risikostyring'!C23","v":0},{"$f":"'KPI til Risikostyring'!D23","v":0},{"$f":"'KPI til Risikostyring'!K23","v":0},{"$f":"'KPI til Risikostyring'!N23","v":0},{"$f":"'KPI til Risikostyring'!O23","v":0}]
[null,{"$f":"'KPI til Risikostyring'!B24","v":0},{"$f":"'KPI til Risikostyring'!C24","v":0},{"$f":"'KPI til Risikostyring'!D24","v":0},{"$f":"'KPI til Risikostyring'!K24","v":0},{"$f":"'KPI til Risikostyring'!N24","v":0},{"$f":"'KPI til Risikostyring'!O24","v":0}]
[null,{"$f":"'KPI til Risikostyring'!B25","v":0},{"$f":"'KPI til Risikostyring'!C25","v":0},{"$f":"'KPI til Risikostyring'!D25","v":0},{"$f":"'KPI til Risikostyring'!K25","v":0},{"$f":"'KPI til Risikostyring'!N25","v":0},{"$f":"'KPI til Risikostyring'!O25","v":0}]
[null,{"$f":"'KPI til Risikostyring'!B26","v":0},{"$f":"'KPI til Risikostyring'!C26","v":0},{"$f":"'KPI til Risikostyring'!D26","v":0},{"$f":"'KPI til Risikostyring'!K26","v":0},{"$f":"'KPI til Risikostyring'!N26","v":0},{"$f":"'KPI til Risikostyring'!O26","v":0}]
[null,{"$f":"'KPI til Risikostyring'!B27","v":0},{"$f":"'KPI til Risikostyring'!C27","v":0},{"$f":"'KPI til Risikostyring'!D27","v":0},{"$f":"'KPI til Risikostyring'!K27","v":0},{"$f":"'KPI til Risikostyring'!N27","v":0},{"$f":"'KPI til Risikostyring'!O27","v":0}]
[null,{"$f":"'KPI til Risikostyring'!B28","v":0},{"$f":"'KPI til Risikostyring'!C28","v":0},{"$f":"'KPI til Risikostyring'!D28","v":0},{"$f":"'KPI til Risikostyring'!K28","v":0},{"$f":"'KPI til Risikostyring'!N28","v":0},{"$f":"'KPI til Risikostyring'!O28","v":0}]
[null,{"$f":"'KPI til Risikostyring'!B29","v":0},{"$f":"'KPI til Risikostyring'!C29","v":0},{"$f":"'KPI til Risikostyring'!D29","v":0},{"$f":"'KPI til Risikostyring'!K29","v":0},{"$f":"'KPI til Risikostyring'!N29","v":0},{"$f":"'KPI til Risikostyring'!O29","v":0}]
[null,{"$f":"'KPI til Risikostyring'!B30","v":0},{"$f":"'KPI til Risikostyring'!C30","v":0},{"$f":"'KPI til Risikostyring'!D30","v":0},{"$f":"'KPI til Risikostyring'!K30","v":0},{"$f":"'KPI til Risikostyring'!N30","v":0},{"$f":"'KPI til Risikostyring'!O30","v":0}]
[null,{"$f":"'KPI til Risikostyring'!B31","v":0},{"$f":"'KPI til Risikostyring'!C31","v":0},{"$f":"'KPI til Risikostyring'!D31","v":0},{"$f":"'KPI til Risikostyring'!K31","v":0},{"$f":"'KPI til Risikostyring'!N31","v":0},{"$f":"'KPI til Risikostyring'!O31","v":0}]
[null,{"$f":"'KPI til Risikostyring'!B32","v":0},{"$f":"'KPI til Risikostyring'!C32","v":0},{"$f":"'KPI til Risikostyring'!D32","v":0},{"$f":"'KPI til Risikostyring'!K32","v":0},{"$f":"'KPI til Risikostyring'!N32","v":0},{"$f":"'KPI til Risikostyring'!O32","v":0}]
[null,{"$f":"'KPI til Risikostyring'!B33","v":0},{"$f":"'KPI til Risikostyring'!C33","v":0},{"$f":"'KPI til Risikostyring'!D33","v":0},{"$f":"'KPI til Risikostyring'!K33","v":0},{"$f":"'KPI til Risikostyring'!N33","v":0},{"$f":"'KPI til Risikostyring'!O33","v":0}]
[null,{"$f":"'KPI til Risikostyring'!B34","v":0},{"$f":"'KPI til Risikostyring'!C34","v":0},{"$f":"'KPI til Risikostyring'!D34","v":0},{"$f":"'KPI til Risikostyring'!K34","v":0},{"$f":"'KPI til Risikostyring'!N34","v":0},{"$f":"'KPI til Risikostyring'!O34","v":0}]
[null,{"$f":"'KPI til Risikostyring'!B35","v":0},{"$f":"'KPI til Risikostyring'!C35","v":0},{"$f":"'KPI til Risikostyring'!D35","v":0},{"$f":"'KPI til Risikostyring'!K35","v":0},{"$f":"'KPI til Risikostyring'!N35","v":0},{"$f":"'KPI til Risikostyring'!O35","v":0}]
[null,{"$f":"'KPI til Risikostyring'!B36","v":0},{"$f":"'KPI til Risikostyring'!C36","v":0},{"$f":"'KPI til Risikostyring'!D36","v":0},{"$f":"'KPI til Risikostyring'!K36","v":0},{"$f":"'KPI til Risikostyring'!N36","v":0},{"$f":"'KPI til Risikostyring'!O36","v":0}]
[null,{"$f":"'KPI til Risikostyring'!B37","v":0},{"$f":"'KPI til Risikostyring'!C37","v":0},{"$f":"'KPI til Risikostyring'!D37","v":0},{"$f":"'KPI til Risikostyring'!K37","v":0},{"$f":"'KPI til Risikostyring'!N37","v":0},{"$f":"'KPI til Risikostyring'!O37","v":0}]
[null,{"$f":"'KPI til Risikostyring'!B38","v":0},{"$f":"'KPI til Risikostyring'!C38","v":0},{"$f":"'KPI til Risikostyring'!D38","v":0},{"$f":"'KPI til Risikostyring'!K38","v":0},{"$f":"'KPI til Risikostyring'!N38","v":0},{"$f":"'KPI til Risikostyring'!O38","v":0}]
[null,{"$f":"'KPI til Risikostyring'!B39","v":0},{"$f":"'KPI til Risikostyring'!C39","v":0},{"$f":"'KPI til Risikostyring'!D39","v":0},{"$f":"'KPI til Risikostyring'!K39","v":0},{"$f":"'KPI til Risikostyring'!N39","v":0},{"$f":"'KPI til Risikostyring'!O39","v":0}]
[null,{"$f":"'KPI til Risikostyring'!B40","v":0},{"$f":"'KPI til Risikostyring'!C40","v":0},{"$f":"'KPI til Risikostyring'!D40","v":0},{"$f":"'KPI til Risikostyring'!K40","v":0},{"$f":"'KPI til Risikostyring'!N40","v":0},{"$f":"'KPI til Risikostyring'!O40","v":0}]
[null,{"$f":"'KPI til Risikostyring'!B41","v":0},{"$f":"'KPI til Risikostyring'!C41","v":0},{"$f":"'KPI til Risikostyring'!D41","v":0},{"$f":"'KPI til Risikostyring'!K41","v":0},{"$f":"'KPI til Risikostyring'!N41","v":0},{"$f":"'KPI til Risikostyring'!O41","v":0}]
[null,{"$f":"'KPI til Risikostyring'!B42","v":0},{"$f":"'KPI til Risikostyring'!C42","v":0},{"$f":"'KPI til Risikostyring'!D42","v":0},{"$f":"'KPI til Risikostyring'!K42","v":0},{"$f":"'KPI til Risikostyring'!N42","v":0},{"$f":"'KPI til Risikostyring'!O42","v":0}]
[null,{"$f":"'KPI til Risikostyring'!B43","v":0},{"$f":"'KPI til Risikostyring'!C43","v":0},{"$f":"'KPI til Risikostyring'!D43","v":0},{"$f":"'KPI til Risikostyring'!K43","v":0},{"$f":"'KPI til Risikostyring'!N43","v":0},{"$f":"'KPI til Risikostyring'!O43","v":0}]
[null,{"$f":"'KPI til Risikostyring'!B44","v":0},{"$f":"'KPI til Risikostyring'!C44","v":0},{"$f":"'KPI til Risikostyring'!D44","v":0},{"$f":"'KPI til Risikostyring'!K44","v":0},{"$f":"'KPI til Risikostyring'!N44","v":0},{"$f":"'KPI til Risikostyring'!O44","v":0}]
[null,{"$f":"'KPI til Risikostyring'!B45","v":0},{"$f":"'KPI til Risikostyring'!C45","v":0},{"$f":"'KPI til Risikostyring'!D45","v":0},{"$f":"'KPI til Risikostyring'!K45","v":0},{"$f":"'KPI til Risikostyring'!N45","v":0},{"$f":"'KPI til Risikostyring'!O45","v":0}]
[null,{"$f":"'KPI til Risikostyring'!B46","v":0},{"$f":"'KPI til Risikostyring'!C46","v":0},{"$f":"'KPI til Risikostyring'!D46","v":0},{"$f":"'KPI til Risikostyring'!K46","v":0},{"$f":"'KPI til Risikostyring'!N46","v":0},{"$f":"'KPI til Risikostyring'!O46","v":0}]
[null,{"$f":"'KPI til Risikostyring'!B47","v":0},{"$f":"'KPI til Risikostyring'!C47","v":0},{"$f":"'KPI til Risikostyring'!D47","v":0},{"$f":"'KPI til Risikostyring'!K47","v":0},{"$f":"'KPI til Risikostyring'!N47","v":0},{"$f":"'KPI til Risikostyring'!O47","v":0}]
[null,{"$f":"'KPI til Risikostyring'!B48","v":0},{"$f":"'KPI til Risikostyring'!C48","v":0},{"$f":"'KPI til Risikostyring'!D48","v":0},{"$f":"'KPI til Risikostyring'!K48","v":0},{"$f":"'KPI til Risikostyring'!N48","v":0},{"$f":"'KPI til Risikostyring'!O48","v":0}]
[null,{"$f":"'KPI til Risikostyring'!B49","v":0},{"$f":"'KPI til Risikostyring'!C49","v":0},{"$f":"'KPI til Risikostyring'!D49","v":0},{"$f":"'KPI til Risikostyring'!K49","v":0},{"$f":"'KPI til Risikostyring'!N49","v":0},{"$f":"'KPI til Risikostyring'!O49","v":0}]
[null,{"$f":"'KPI til Risikostyring'!B50","v":0},{"$f":"'KPI til Risikostyring'!C50","v":0},{"$f":"'KPI til Risikostyring'!D50","v":0},{"$f":"'KPI til Risikostyring'!K50","v":0},{"$f":"'KPI til Risikostyring'!N50","v":0},{"$f":"'KPI til Risikostyring'!O50","v":0}]
[null,{"$f":"'KPI til Risikostyring'!B51","v":0},{"$f":"'KPI til Risikostyring'!C51","v":0},{"$f":"'KPI til Risikostyring'!D51","v":0},{"$f":"'KPI til Risikostyring'!K51","v":0},{"$f":"'KPI til Risikostyring'!N51","v":0},{"$f":"'KPI til Risikostyring'!O51","v":0}]
[null,{"$f":"'KPI til Risikostyring'!B52","v":0},{"$f":"'KPI til Risikostyring'!C52","v":0},{"$f":"'KPI til Risikostyring'!D52","v":0},{"$f":"'KPI til Risikostyring'!K52","v":0},{"$f":"'KPI til Risikostyring'!N52","v":0},{"$f":"'KPI til Risikostyring'!O52","v":0}]
[null,{"$f":"'KPI til Risikostyring'!B53","v":0},{"$f":"'KPI til Risikostyring'!C53","v":0},{"$f":"'KPI til Risikostyring'!D53","v":0},{"$f":"'KPI til Risikostyring'!K53","v":0},{"$f":"'KPI til Risikostyring'!N53","v":0},{"$f":"'KPI til Risikostyring'!O53","v":0}]
[null,{"$f":"'KPI til Risikostyring'!B54","v":0},{"$f":"'KPI til Risikostyring'!C54","v":0},{"$f":"'KPI til Risikostyring'!D54","v":0},{"$f":"'KPI til Risikostyring'!K54","v":0},{"$f":"'KPI til Risikostyring'!N54","v":0},{"$f":"'KPI til Risikostyring'!O54","v":0}]
[null,{"$f":"'KPI til Risikostyring'!B55","v":0},{"$f":"'KPI til Risikostyring'!C55","v":0},{"$f":"'KPI til Risikostyring'!D55","v":0},{"$f":"'KPI til Risikostyring'!K55","v":0},{"$f":"'KPI til Risikostyring'!N55","v":0},{"$f":"'KPI til Risikostyring'!O55","v":0}]
[null,{"$f":"'KPI til Risikostyring'!B56","v":0},{"$f":"'KPI til Risikostyring'!C56","v":0},{"$f":"'KPI til Risikostyring'!D56","v":0},{"$f":"'KPI til Risikostyring'!K56","v":0},{"$f":"'KPI til Risikostyring'!N56","v":0},{"$f":"'KPI til Risikostyring'!O56","v":0}]
[null,{"$f":"'KPI til Risikostyring'!B57","v":0},{"$f":"'KPI til Risikostyring'!C57","v":0},{"$f":"'KPI til Risikostyring'!D57","v":0},{"$f":"'KPI til Risikostyring'!K57","v":0},{"$f":"'KPI til Risikostyring'!N57","v":0},{"$f":"'KPI til Risikostyring'!O57","v":0}]
[null,{"$f":"'KPI til Risikostyring'!B58","v":0},{"$f":"'KPI til Risikostyring'!C58","v":0},{"$f":"'KPI til Risikostyring'!D58","v":0},{"$f":"'KPI til Risikostyring'!K58","v":0},{"$f":"'KPI til Risikostyring'!N58","v":0},{"$f":"'KPI til Risikostyring'!O58","v":0}]
[null,{"$f":"'KPI til Risikostyring'!B59","v":0},{"$f":"'KPI til Risikostyring'!C59","v":0},{"$f":"'KPI til Risikostyring'!D59","v":0},{"$f":"'KPI til Risikostyring'!K59","v":0},{"$f":"'KPI til Risikostyring'!N59","v":0},{"$f":"'KPI til Risikostyring'!O59","v":0}]
[null,{"$f":"'KPI til Risikostyring'!B60","v":0},{"$f":"'KPI til Risikostyring'!C60","v":0},{"$f":"'KPI til Risikostyring'!D60","v":0},{"$f":"'KPI til Risikostyring'!K60","v":0},{"$f":"'KPI til Risikostyring'!N60","v":0},{"$f":"'KPI til Risikostyring'!O60","v":0}]
[null,{"$f":"'KPI til Risikostyring'!B61","v":0},{"$f":"'KPI til Risikostyring'!C61","v":0},{"$f":"'KPI til Risikostyring'!D61","v":0},{"$f":"'KPI til Risikostyring'!K61","v":0},{"$f":"'KPI til Risikostyring'!N61","v":0},{"$f":"'KPI til Risikostyring'!O61","v":0}]
[null,{"$f":"'KPI til Risikostyring'!B62","v":0},{"$f":"'KPI til Risikostyring'!C62","v":0},{"$f":"'KPI til Risikostyring'!D62","v":0},{"$f":"'KPI til Risikostyring'!K62","v":0},{"$f":"'KPI til Risikostyring'!N62","v":0},{"$f":"'KPI til Risikostyring'!O62","v":0}]
[null,{"$f":"'KPI til Risikostyring'!B63","v":0},{"$f":"'KPI til Risikostyring'!C63","v":0},{"$f":"'KPI til Risikostyring'!D63","v":0},{"$f":"'KPI til Risikostyring'!K63","v":0},{"$f":"'KPI til Risikostyring'!N63","v":0},{"$f":"'KPI til Risikostyring'!O63","v":0}]
[null,{"$f":"'KPI til Risikostyring'!B64","v":0},{"$f":"'KPI til Risikostyring'!C64","v":0},{"$f":"'KPI til Risikostyring'!D64","v":0},{"$f":"'KPI til Risikostyring'!K64","v":0},{"$f":"'KPI til Risikostyring'!N64","v":0},{"$f":"'KPI til Risikostyring'!O64","v":0}]
[null,{"$f":"'KPI til Risikostyring'!B65","v":0},{"$f":"'KPI til Risikostyring'!C65","v":0},{"$f":"'KPI til Risikostyring'!D65","v":0},{"$f":"'KPI til Risikostyring'!K65","v":0},{"$f":"'KPI til Risikostyring'!N65","v":0},{"$f":"'KPI til Risikostyring'!O65","v":0}]
[null,{"$f":"'KPI til Risikostyring'!B66","v":0},{"$f":"'KPI til Risikostyring'!C66","v":0},{"$f":"'KPI til Risikostyring'!D66","v":0},{"$f":"'KPI til Risikostyring'!K66","v":0},{"$f":"'KPI til Risikostyring'!N66","v":0},{"$f":"'KPI til Risikostyring'!O66","v":0}]
[null,{"$f":"'KPI til Risikostyring'!B67","v":0},{"$f":"'KPI til Risikostyring'!C67","v":0},{"$f":"'KPI til Risikostyring'!D67","v":0},{"$f":"'KPI til Risikostyring'!K67","v":0},{"$f":"'KPI til Risikostyring'!N67","v":0},{"$f":"'KPI til Risikostyring'!O67","v":0}]
[null,{"$f":"'KPI til Risikostyring'!B68","v":0},{"$f":"'KPI til Risikostyring'!C68","v":0},{"$f":"'KPI til Risikostyring'!D68","v":0},{"$f":"'KPI til Risikostyring'!K68","v":0},{"$f":"'KPI til Risikostyring'!N68","v":0},{"$f":"'KPI til Risikostyring'!O68","v":0}]
[null,{"$f":"'KPI til Risikostyring'!B69","v":0},{"$f":"'KPI til Risikostyring'!C69","v":0},{"$f":"'KPI til Risikostyring'!D69","v":0},{"$f":"'KPI til Risikostyring'!K69","v":0},{"$f":"'KPI til Risikostyring'!N69","v":0},{"$f":"'KPI til Risikostyring'!O69","v":0}]
[null,{"$f":"'KPI til Risikostyring'!B70","v":0},{"$f":"'KPI til Risikostyring'!C70","v":0},{"$f":"'KPI til Risikostyring'!D70","v":0},{"$f":"'KPI til Risikostyring'!K70","v":0},{"$f":"'KPI til Risikostyring'!N70","v":0},{"$f":"'KPI til Risikostyring'!O70","v":0}]
[null,{"$f":"'KPI til Risikostyring'!B71","v":0},{"$f":"'KPI til Risikostyring'!C71","v":0},{"$f":"'KPI til Risikostyring'!D71","v":0},{"$f":"'KPI til Risikostyring'!K71","v":0},{"$f":"'KPI til Risikostyring'!N71","v":0},{"$f":"'KPI til Risikostyring'!O71","v":0}]
[null,{"$f":"'KPI til Risikostyring'!B72","v":0},{"$f":"'KPI til Risikostyring'!C72","v":0},{"$f":"'KPI til Risikostyring'!D72","v":0},{"$f":"'KPI til Risikostyring'!K72","v":0},{"$f":"'KPI til Risikostyring'!N72","v":0},{"$f":"'KPI til Risikostyring'!O72","v":0}]
[null,{"$f":"'KPI til Risikostyring'!B73","v":0},{"$f":"'KPI til Risikostyring'!C73","v":0},{"$f":"'KPI til Risikostyring'!D73","v":0},{"$f":"'KPI til Risikostyring'!K73","v":0},{"$f":"'KPI til Risikostyring'!N73","v":0},{"$f":"'KPI til Risikostyring'!O73","v":0}]
[null,{"$f":"'KPI til Risikostyring'!B74","v":0},{"$f":"'KPI til Risikostyring'!C74","v":0},{"$f":"'KPI til Risikostyring'!D74","v":0},{"$f":"'KPI til Risikostyring'!K74","v":0},{"$f":"'KPI til Risikostyring'!N74","v":0},{"$f":"'KPI til Risikostyring'!O74","v":0}]
[null,{"$f":"'KPI til Risikostyring'!B75","v":0},{"$f":"'KPI til Risikostyring'!C75","v":0},{"$f":"'KPI til Risikostyring'!D75","v":0},{"$f":"'KPI til Risikostyring'!K75","v":0},{"$f":"'KPI til Risikostyring'!N75","v":0},{"$f":"'KPI til Risikostyring'!O75","v":0}]
[null,{"$f":"'KPI til Risikostyring'!B76","v":0},{"$f":"'KPI til Risikostyring'!C76","v":0},{"$f":"'KPI til Risikostyring'!D76","v":0},{"$f":"'KPI til Risikostyring'!K76","v":0},{"$f":"'KPI til Risikostyring'!N76","v":0},{"$f":"'KPI til Risikostyring'!O76","v":0}]
[null,{"$f":"'KPI til Risikostyring'!B77","v":0},{"$f":"'KPI til Risikostyring'!C77","v":0},{"$f":"'KPI til Risikostyring'!D77","v":0},{"$f":"'KPI til Risikostyring'!K77","v":0},{"$f":"'KPI til Risikostyring'!N77","v":0},{"$f":"'KPI til Risikostyring'!O77","v":0}]
[null,{"$f":"'KPI til Risikostyring'!B78","v":0},{"$f":"'KPI til Risikostyring'!C78","v":0},{"$f":"'KPI til Risikostyring'!D78","v":0},{"$f":"'KPI til Risikostyring'!K78","v":0},{"$f":"'KPI til Risikostyring'!N78","v":0},{"$f":"'KPI til Risikostyring'!O78","v":0}]
[null,{"$f":"'KPI til Risikostyring'!B79","v":0},{"$f":"'KPI til Risikostyring'!C79","v":0},{"$f":"'KPI til Risikostyring'!D79","v":0},{"$f":"'KPI til Risikostyring'!K79","v":0},{"$f":"'KPI til Risikostyring'!N79","v":0},{"$f":"'KPI til Risikostyring'!O79","v":0}]
[null,{"$f":"'KPI til Risikostyring'!B80","v":0},{"$f":"'KPI til Risikostyring'!C80","v":0},{"$f":"'KPI til Risikostyring'!D80","v":0},{"$f":"'KPI til Risikostyring'!K80","v":0},{"$f":"'KPI til Risikostyring'!N80","v":0},{"$f":"'KPI til Risikostyring'!O80","v":0}]
[null,{"$f":"'KPI til Risikostyring'!B81","v":0},{"$f":"'KPI til Risikostyring'!C81","v":0},{"$f":"'KPI til Risikostyring'!D81","v":0},{"$f":"'KPI til Risikostyring'!K81","v":0},{"$f":"'KPI til Risikostyring'!N81","v":0},{"$f":"'KPI til Risikostyring'!O81","v":0}]
[null,{"$f":"'KPI til Risikostyring'!B82","v":0},{"$f":"'KPI til Risikostyring'!C82","v":0},{"$f":"'KPI til Risikostyring'!D82","v":0},{"$f":"'KPI til Risikostyring'!K82","v":0},{"$f":"'KPI til Risikostyring'!N82","v":0},{"$f":"'KPI til Risikostyring'!O82","v":0}]
[null,{"$f":"'KPI til Risikostyring'!B83","v":0},{"$f":"'KPI til Risikostyring'!C83","v":0},{"$f":"'KPI til Risikostyring'!D83","v":0},{"$f":"'KPI til Risikostyring'!K83","v":0},{"$f":"'KPI til Risikostyring'!N83","v":0},{"$f":"'KPI til Risikostyring'!O83","v":0}]
[null,{"$f":"'KPI til Risikostyring'!B84","v":0},{"$f":"'KPI til Risikostyring'!C84","v":0},{"$f":"'KPI til Risikostyring'!D84","v":0},{"$f":"'KPI til Risikostyring'!K84","v":0},{"$f":"'KPI til Risikostyring'!N84","v":0},{"$f":"'KPI til Risikostyring'!O84","v":0}]
[null,{"$f":"'KPI til Risikostyring'!B85","v":0},{"$f":"'KPI til Risikostyring'!C85","v":0},{"$f":"'KPI til Risikostyring'!D85","v":0},{"$f":"'KPI til Risikostyring'!K85","v":0},{"$f":"'KPI til Risikostyring'!N85","v":0},{"$f":"'KPI til Risikostyring'!O85","v":0}]
[null,{"$f":"'KPI til Risikostyring'!B86","v":0},{"$f":"'KPI til Risikostyring'!C86","v":0},{"$f":"'KPI til Risikostyring'!D86","v":0},{"$f":"'KPI til Risikostyring'!K86","v":0},{"$f":"'KPI til Risikostyring'!N86","v":0},{"$f":"'KPI til Risikostyring'!O86","v":0}]
[null,{"$f":"'KPI til Risikostyring'!B87","v":0},{"$f":"'KPI til Risikostyring'!C87","v":0},{"$f":"'KPI til Risikostyring'!D87","v":0},{"$f":"'KPI til Risikostyring'!K87","v":0},{"$f":"'KPI til Risikostyring'!N87","v":0},{"$f":"'KPI til Risikostyring'!O87","v":0}]
[null,{"$f":"'KPI til Risikostyring'!B88","v":0},{"$f":"'KPI til Risikostyring'!C88","v":0},{"$f":"'KPI til Risikostyring'!D88","v":0},{"$f":"'KPI til Risikostyring'!K88","v":0},{"$f":"'KPI til Risikostyring'!N88","v":0},{"$f":"'KPI til Risikostyring'!O88","v":0}]
[null,{"$f":"'KPI til Risikostyring'!B89","v":0},{"$f":"'KPI til Risikostyring'!C89","v":0},{"$f":"'KPI til Risikostyring'!D89","v":0},{"$f":"'KPI til Risikostyring'!K89","v":0},{"$f":"'KPI til Risikostyring'!N89","v":0},{"$f":"'KPI til Risikostyring'!O89","v":0}]
[null,{"$f":"'KPI til Risikostyring'!B90","v":0},{"$f":"'KPI til Risikostyring'!C90","v":0},{"$f":"'KPI til Risikostyring'!D90","v":0},{"$f":"'KPI til Risikostyring'!K90","v":0},{"$f":"'KPI til Risikostyring'!N90","v":0},{"$f":"'KPI til Risikostyring'!O90","v":0}]
[null,{"$f":"'KPI til Risikostyring'!B91","v":0},{"$f":"'KPI til Risikostyring'!C91","v":0},{"$f":"'KPI til Risikostyring'!D91","v":0},{"$f":"'KPI til Risikostyring'!K91","v":0},{"$f":"'KPI til Risikostyring'!N91","v":0},{"$f":"'KPI til Risikostyring'!O91","v":0}]
[null,{"$f":"'KPI til Risikostyring'!B92","v":0},{"$f":"'KPI til Risikostyring'!C92","v":0},{"$f":"'KPI til Risikostyring'!D92","v":0},{"$f":"'KPI til Risikostyring'!K92","v":0},{"$f":"'KPI til Risikostyring'!N92","v":0},{"$f":"'KPI til Risikostyring'!O92","v":0}]
[null,{"$f":"'KPI til Risikostyring'!B93","v":0},{"$f":"'KPI til Risikostyring'!C93","v":0},{"$f":"'KPI til Risikostyring'!D93","v":0},{"$f":"'KPI til Risikostyring'!K93","v":0},{"$f":"'KPI til Risikostyring'!N93","v":0},{"$f":"'KPI til Risikostyring'!O93","v":0}]
[null,{"$f":"'KPI til Risikostyring'!B94","v":0},{"$f":"'KPI til Risikostyring'!C94","v":0},{"$f":"'KPI til Risikostyring'!D94","v":0},{"$f":"'KPI til Risikostyring'!K94","v":0},{"$f":"'KPI til Risikostyring'!N94","v":0},{"$f":"'KPI til Risikostyring'!O94","v":0}]
[null,{"$f":"'KPI til Risikostyring'!B95","v":0},{"$f":"'KPI til Risikostyring'!C95","v":0},{"$f":"'KPI til Risikostyring'!D95","v":0},{"$f":"'KPI til Risikostyring'!K95","v":0},{"$f":"'KPI til Risikostyring'!N95","v":0},{"$f":"'KPI til Risikostyring'!O95","v":0}]
[null,{"$f":"'KPI til Risikostyring'!B96","v":0},{"$f":"'KPI til Risikostyring'!C96","v":0},{"$f":"'KPI til Risikostyring'!D96","v":0},{"$f":"'KPI til Risikostyring'!K96","v":0},{"$f":"'KPI til Risikostyring'!N96","v":0},{"$f":"'KPI til Risikostyring'!O96","v":0}]
[null,{"$f":"'KPI til Risikostyring'!B97","v":0},{"$f":"'KPI til Risikostyring'!C97","v":0},{"$f":"'KPI til Risikostyring'!D97","v":0},{"$f":"'KPI til Risikostyring'!K97","v":0},{"$f":"'KPI til Risikostyring'!N97","v":0},{"$f":"'KPI til Risikostyring'!O97","v":0}]
[null,{"$f":"'KPI til Risikostyring'!B98","v":0},{"$f":"'KPI til Risikostyring'!C98","v":0},{"$f":"'KPI til Risikostyring'!D98","v":0},{"$f":"'KPI til Risikostyring'!K98","v":0},{"$f":"'KPI til Risikostyring'!N98","v":0},{"$f":"'KPI til Risikostyring'!O98","v":0}]
[null,{"$f":"'KPI til Risikostyring'!B99","v":0},{"$f":"'KPI til Risikostyring'!C99","v":0},{"$f":"'KPI til Risikostyring'!D99","v":0},{"$f":"'KPI til Risikostyring'!K99","v":0},{"$f":"'KPI til Risikostyring'!N99","v":0},{"$f":"'KPI til Risikostyring'!O99","v":0}]
[null,{"$f":"'KPI til Risikostyring'!B100","v":0},{"$f":"'KPI til Risikostyring'!C100","v":0},{"$f":"'KPI til Risikostyring'!D100","v":0},{"$f":"'KPI til Risikostyring'!K100","v":0},{"$f":"'KPI til Risikostyring'!N100","v":0},{"$f":"'KPI til Risikostyring'!O100","v":0}]
[null,{"$f":"'KPI til Risikostyring'!B101","v":0},{"$f":"'KPI til Risikostyring'!C101","v":0},{"$f":"'KPI til Risikostyring'!D101","v":0},{"$f":"'KPI til Risikostyring'!K101","v":0},{"$f":"'KPI til Risikostyring'!N101","v":0},{"$f":"'KPI til Risikostyring'!O101","v":0}]
[null,{"$f":"'KPI til Risikostyring'!B102","v":0},{"$f":"'KPI til Risikostyring'!C102","v":0},{"$f":"'KPI til Risikostyring'!D102","v":0},{"$f":"'KPI til Risikostyring'!K102","v":0},{"$f":"'KPI til Risikostyring'!N102","v":0},{"$f":"'KPI til Risikostyring'!O102","v":0}]
[null,{"$f":"'KPI til Risikostyring'!B103","v":0},{"$f":"'KPI til Risikostyring'!C103","v":0},{"$f":"'KPI til Risikostyring'!D103","v":0},{"$f":"'KPI til Risikostyring'!K103","v":0},{"$f":"'KPI til Risikostyring'!N103","v":0},{"$f":"'KPI til Risikostyring'!O103","v":0}]
[null,{"$f":"'KPI til Risikostyring'!B104","v":0},{"$f":"'KPI til Risikostyring'!C104","v":0},{"$f":"'KPI til Risikostyring'!D104","v":0},{"$f":"'KPI til Risikostyring'!K104","v":0},{"$f":"'KPI til Risikostyring'!N104","v":0},{"$f":"'KPI til Risikostyring'!O104","v":0}]
[null,{"$f":"'KPI til Risikostyring'!B105","v":0},{"$f":"'KPI til Risikostyring'!C105","v":0},{"$f":"'KPI til Risikostyring'!D105","v":0},{"$f":"'KPI til Risikostyring'!K105","v":0},{"$f":"'KPI til Risikostyring'!N105","v":0},{"$f":"'KPI til Risikostyring'!O105","v":0}]
[null,{"$f":"'KPI til Risikostyring'!B106","v":0},{"$f":"'KPI til Risikostyring'!C106","v":0},{"$f":"'KPI til Risikostyring'!D106","v":0},{"$f":"'KPI til Risikostyring'!K106","v":0},{"$f":"'KPI til Risikostyring'!N106","v":0},{"$f":"'KPI til Risikostyring'!O106","v":0}]
[null,{"$f":"'KPI til Risikostyring'!B107","v":0},{"$f":"'KPI til Risikostyring'!C107","v":0},{"$f":"'KPI til Risikostyring'!D107","v":0},{"$f":"'KPI til Risikostyring'!K107","v":0},{"$f":"'KPI til Risikostyring'!N107","v":0},{"$f":"'KPI til Risikostyring'!O107","v":0}]
[null,{"$f":"'KPI til Risikostyring'!B108","v":0},{"$f":"'KPI til Risikostyring'!C108","v":0},{"$f":"'KPI til Risikostyring'!D108","v":0},{"$f":"'KPI til Risikostyring'!K108","v":0},{"$f":"'KPI til Risikostyring'!N108","v":0},{"$f":"'KPI til Risikostyring'!O108","v":0}]
[null,{"$f":"'KPI til Risikostyring'!B109","v":0},{"$f":"'KPI til Risikostyring'!C109","v":0},{"$f":"'KPI til Risikostyring'!D109","v":0},{"$f":"'KPI til Risikostyring'!K109","v":0},{"$f":"'KPI til Risikostyring'!N109","v":0},{"$f":"'KPI til Risikostyring'!O109","v":0}]
[null,{"$f":"'KPI til Risikostyring'!B110","v":0},{"$f":"'KPI til Risikostyring'!C110","v":0},{"$f":"'KPI til Risikostyring'!D110","v":0},{"$f":"'KPI til Risikostyring'!K110","v":0},{"$f":"'KPI til Risikostyring'!N110","v":0},{"$f":"'KPI til Risikostyring'!O110","v":0}]
[null,{"$f":"'KPI til Risikostyring'!B111","v":0},{"$f":"'KPI til Risikostyring'!C111","v":0},{"$f":"'KPI til Risikostyring'!D111","v":0},{"$f":"'KPI til Risikostyring'!K111","v":0},{"$f":"'KPI til Risikostyring'!N111","v":0},{"$f":"'KPI til Risikostyring'!O111","v":0}]
[null,{"$f":"'KPI til Risikostyring'!B112","v":0},{"$f":"'KPI til Risikostyring'!C112","v":0},{"$f":"'KPI til Risikostyring'!D112","v":0},{"$f":"'KPI til Risikostyring'!K112","v":0},{"$f":"'KPI til Risikostyring'!N112","v":0},{"$f":"'KPI til Risikostyring'!O112","v":0}]
[null,{"$f":"'KPI til Risikostyring'!B113","v":0},{"$f":"'KPI til Risikostyring'!C113","v":0},{"$f":"'KPI til Risikostyring'!D113","v":0},{"$f":"'KPI til Risikostyring'!K113","v":0},{"$f":"'KPI til Risikostyring'!N113","v":0},{"$f":"'KPI til Risikostyring'!O113","v":0}]
[null,{"$f":"'KPI til Risikostyring'!B114","v":0},{"$f":"'KPI til Risikostyring'!C114","v":0},{"$f":"'KPI til Risikostyring'!D114","v":0},{"$f":"'KPI til Risikostyring'!K114","v":0},{"$f":"'KPI til Risikostyring'!N114","v":0},{"$f":"'KPI til Risikostyring'!O114","v":0}]
[null,{"$f":"'KPI til Risikostyring'!B115","v":0},{"$f":"'KPI til Risikostyring'!C115","v":0},{"$f":"'KPI til Risikostyring'!D115","v":0},{"$f":"'KPI til Risikostyring'!K115","v":0},{"$f":"'KPI til Risikostyring'!N115","v":0},{"$f":"'KPI til Risikostyring'!O115","v":0}]
[null,{"$f":"'KPI til Risikostyring'!B116","v":0},{"$f":"'KPI til Risikostyring'!C116","v":0},{"$f":"'KPI til Risikostyring'!D116","v":0},{"$f":"'KPI til Risikostyring'!K116","v":0},{"$f":"'KPI til Risikostyring'!N116","v":0},{"$f":"'KPI til Risikostyring'!O116","v":0}]
[null,{"$f":"'KPI til Risikostyring'!B117","v":0},{"$f":"'KPI til Risikostyring'!C117","v":0},{"$f":"'KPI til Risikostyring'!D117","v":0},{"$f":"'KPI til Risikostyring'!K117","v":0},{"$f":"'KPI til Risikostyring'!N117","v":0},{"$f":"'KPI til Risikostyring'!O117","v":0}]
[null,{"$f":"'KPI til Risikostyring'!B118","v":0},{"$f":"'KPI til Risikostyring'!C118","v":0},{"$f":"'KPI til Risikostyring'!D118","v":0},{"$f":"'KPI til Risikostyring'!K118","v":0},{"$f":"'KPI til Risikostyring'!N118","v":0},{"$f":"'KPI til Risikostyring'!O118","v":0}]
[null,{"$f":"'KPI til Risikostyring'!B119","v":0},{"$f":"'KPI til Risikostyring'!C119","v":0},{"$f":"'KPI til Risikostyring'!D119","v":0},{"$f":"'KPI til Risikostyring'!K119","v":0},{"$f":"'KPI til Risikostyring'!N119","v":0},{"$f":"'KPI til Risikostyring'!O119","v":0}]
[null,{"$f":"'KPI til Risikostyring'!B120","v":0},{"$f":"'KPI til Risikostyring'!C120","v":0},{"$f":"'KPI til Risikostyring'!D120","v":0},{"$f":"'KPI til Risikostyring'!K120","v":0},{"$f":"'KPI til Risikostyring'!N120","v":0},{"$f":"'KPI til Risikostyring'!O120","v":0}]
[null,{"$f":"'KPI til Risikostyring'!B121","v":0},{"$f":"'KPI til Risikostyring'!C121","v":0},{"$f":"'KPI til Risikostyring'!D121","v":0},{"$f":"'KPI til Risikostyring'!K121","v":0},{"$f":"'KPI til Risikostyring'!N121","v":0},{"$f":"'KPI til Risikostyring'!O121","v":0}]
[null,{"$f":"'KPI til Risikostyring'!B122","v":0},{"$f":"'KPI til Risikostyring'!C122","v":0},{"$f":"'KPI til Risikostyring'!D122","v":0},{"$f":"'KPI til Risikostyring'!K122","v":0},{"$f":"'KPI til Risikostyring'!N122","v":0},{"$f":"'KPI til Risikostyring'!O122","v":0}]
[null,{"$f":"'KPI til Risikostyring'!B123","v":0},{"$f":"'KPI til Risikostyring'!C123","v":0},{"$f":"'KPI til Risikostyring'!D123","v":0},{"$f":"'KPI til Risikostyring'!K123","v":0},{"$f":"'KPI til Risikostyring'!N123","v":0},{"$f":"'KPI til Risikostyring'!O123","v":0}]
[null,{"$f":"'KPI til Risikostyring'!B124","v":0},{"$f":"'KPI til Risikostyring'!C124","v":0},{"$f":"'KPI til Risikostyring'!D124","v":0},{"$f":"'KPI til Risikostyring'!K124","v":0},{"$f":"'KPI til Risikostyring'!N124","v":0},{"$f":"'KPI til Risikostyring'!O124","v":0}]
[null,{"$f":"'KPI til Risikostyring'!B125","v":0},{"$f":"'KPI til Risikostyring'!C125","v":0},{"$f":"'KPI til Risikostyring'!D125","v":0},{"$f":"'KPI til Risikostyring'!K125","v":0},{"$f":"'KPI til Risikostyring'!N125","v":0},{"$f":"'KPI til Risikostyring'!O125","v":0}]
[null,{"$f":"'KPI til Risikostyring'!B126","v":0},{"$f":"'KPI til Risikostyring'!C126","v":0},{"$f":"'KPI til Risikostyring'!D126","v":0},{"$f":"'KPI til Risikostyring'!K126","v":0},{"$f":"'KPI til Risikostyring'!N126","v":0},{"$f":"'KPI til Risikostyring'!O126","v":0}]
[null,{"$f":"'KPI til Risikostyring'!B127","v":0},{"$f":"'KPI til Risikostyring'!C127","v":0},{"$f":"'KPI til Risikostyring'!D127","v":0},{"$f":"'KPI til Risikostyring'!K127","v":0},{"$f":"'KPI til Risikostyring'!N127","v":0},{"$f":"'KPI til Risikostyring'!O127","v":0}]
[null,{"$f":"'KPI til Risikostyring'!B128","v":0},{"$f":"'KPI til Risikostyring'!C128","v":0},{"$f":"'KPI til Risikostyring'!D128","v":0},{"$f":"'KPI til Risikostyring'!K128","v":0},{"$f":"'KPI til Risikostyring'!N128","v":0},{"$f":"'KPI til Risikostyring'!O128","v":0}]
[null,{"$f":"'KPI til Risikostyring'!B129","v":0},{"$f":"'KPI til Risikostyring'!C129","v":0},{"$f":"'KPI til Risikostyring'!D129","v":0},{"$f":"'KPI til Risikostyring'!K129","v":0},{"$f":"'KPI til Risikostyring'!N129","v":0},{"$f":"'KPI til Risikostyring'!O129","v":0}]
[null,{"$f":"'KPI til Risikostyring'!B130","v":0},{"$f":"'KPI til Risikostyring'!C130","v":0},{"$f":"'KPI til Risikostyring'!D130","v":0},{"$f":"'KPI til Risikostyring'!K130","v":0},{"$f":"'KPI til Risikostyring'!N130","v":0},{"$f":"'KPI til Risikostyring'!O130","v":0}]
[null,{"$f":"'KPI til Risikostyring'!B131","v":0},{"$f":"'KPI til Risikostyring'!C131","v":0},{"$f":"'KPI til Risikostyring'!D131","v":0},{"$f":"'KPI til Risikostyring'!K131","v":0},{"$f":"'KPI til Risikostyring'!N131","v":0},{"$f":"'KPI til Risikostyring'!O131","v":0}]
[null,{"$f":"'KPI til Risikostyring'!B132","v":0},{"$f":"'KPI til Risikostyring'!C132","v":0},{"$f":"'KPI til Risikostyring'!D132","v":0},{"$f":"'KPI til Risikostyring'!K132","v":0},{"$f":"'KPI til Risikostyring'!N132","v":0},{"$f":"'KPI til Risikostyring'!O132","v":0}]
[null,{"$f":"'KPI til Risikostyring'!B133","v":0},{"$f":"'KPI til Risikostyring'!C133","v":0},{"$f":"'KPI til Risikostyring'!D133","v":0},{"$f":"'KPI til Risikostyring'!K133","v":0},{"$f":"'KPI til Risikostyring'!N133","v":0},{"$f":"'KPI til Risikostyring'!O133","v":0}]
[null,{"$f":"'KPI til Risikostyring'!B134","v":0},{"$f":"'KPI til Risikostyring'!C134","v":0},{"$f":"'KPI til Risikostyring'!D134","v":0},{"$f":"'KPI til Risikostyring'!K134","v":0},{"$f":"'KPI til Risikostyring'!N134","v":0},{"$f":"'KPI til Risikostyring'!O134","v":0}]
[null,{"$f":"'KPI til Risikostyring'!B135","v":0},{"$f":"'KPI til Risikostyring'!C135","v":0},{"$f":"'KPI til Risikostyring'!D135","v":0},{"$f":"'KPI til Risikostyring'!K135","v":0},{"$f":"'KPI til Risikostyring'!N135","v":0},{"$f":"'KPI til Risikostyring'!O135","v":0}]
[null,{"$f":"'KPI til Risikostyring'!B136","v":0},{"$f":"'KPI til Risikostyring'!C136","v":0},{"$f":"'KPI til Risikostyring'!D136","v":0},{"$f":"'KPI til Risikostyring'!K136","v":0},{"$f":"'KPI til Risikostyring'!N136","v":0},{"$f":"'KPI til Risikostyring'!O136","v":0}]
[null,{"$f":"'KPI til Risikostyring'!B137","v":0},{"$f":"'KPI til Risikostyring'!C137","v":0},{"$f":"'KPI til Risikostyring'!D137","v":0},{"$f":"'KPI til Risikostyring'!K137","v":0},{"$f":"'KPI til Risikostyring'!N137","v":0},{"$f":"'KPI til Risikostyring'!O137","v":0}]
[null,{"$f":"'KPI til Risikostyring'!B138","v":0},{"$f":"'KPI til Risikostyring'!C138","v":0},{"$f":"'KPI til Risikostyring'!D138","v":0},{"$f":"'KPI til Risikostyring'!K138","v":0},{"$f":"'KPI til Risikostyring'!N138","v":0},{"$f":"'KPI til Risikostyring'!O138","v":0}]
[null,{"$f":"'KPI til Risikostyring'!B139","v":0},{"$f":"'KPI til Risikostyring'!C139","v":0},{"$f":"'KPI til Risikostyring'!D139","v":0},{"$f":"'KPI til Risikostyring'!K139","v":0},{"$f":"'KPI til Risikostyring'!N139","v":0},{"$f":"'KPI til Risikostyring'!O139","v":0}]
[null,{"$f":"'KPI til Risikostyring'!B140","v":0},{"$f":"'KPI til Risikostyring'!C140","v":0},{"$f":"'KPI til Risikostyring'!D140","v":0},{"$f":"'KPI til Risikostyring'!K140","v":0},{"$f":"'KPI til Risikostyring'!N140","v":0},{"$f":"'KPI til Risikostyring'!O140","v":0}]
[null,{"$f":"'KPI til Risikostyring'!B141","v":0},{"$f":"'KPI til Risikostyring'!C141","v":0},{"$f":"'KPI til Risikostyring'!D141","v":0},{"$f":"'KPI til Risikostyring'!K141","v":0},{"$f":"'KPI til Risikostyring'!N141","v":0},{"$f":"'KPI til Risikostyring'!O141","v":0}]
[null,{"$f":"'KPI til Risikostyring'!B142","v":0},{"$f":"'KPI til Risikostyring'!C142","v":0},{"$f":"'KPI til Risikostyring'!D142","v":0},{"$f":"'KPI til Risikostyring'!K142","v":0},{"$f":"'KPI til Risikostyring'!N142","v":0},{"$f":"'KPI til Risikostyring'!O142","v":0}]
[null,{"$f":"'KPI til Risikostyring'!B143","v":0},{"$f":"'KPI til Risikostyring'!C143","v":0},{"$f":"'KPI til Risikostyring'!D143","v":0},{"$f":"'KPI til Risikostyring'!K143","v":0},{"$f":"'KPI til Risikostyring'!N143","v":0},{"$f":"'KPI til Risikostyring'!O143","v":0}]
[null,{"$f":"'KPI til Risikostyring'!B144","v":0},{"$f":"'KPI til Risikostyring'!C144","v":0},{"$f":"'KPI til Risikostyring'!D144","v":0},{"$f":"'KPI til Risikostyring'!K144","v":0},{"$f":"'KPI til Risikostyring'!N144","v":0},{"$f":"'KPI til Risikostyring'!O144","v":0}]
[null,{"$f":"'KPI til Risikostyring'!B145","v":0},{"$f":"'KPI til Risikostyring'!C145","v":0},{"$f":"'KPI til Risikostyring'!D145","v":0},{"$f":"'KPI til Risikostyring'!K145","v":0},{"$f":"'KPI til Risikostyring'!N145","v":0},{"$f":"'KPI til Risikostyring'!O145","v":0}]
[null,{"$f":"'KPI til Risikostyring'!B146","v":0},{"$f":"'KPI til Risikostyring'!C146","v":0},{"$f":"'KPI til Risikostyring'!D146","v":0},{"$f":"'KPI til Risikostyring'!K146","v":0},{"$f":"'KPI til Risikostyring'!N146","v":0},{"$f":"'KPI til Risikostyring'!O146","v":0}]
[null,{"$f":"'KPI til Risikostyring'!B147","v":0},{"$f":"'KPI til Risikostyring'!C147","v":0},{"$f":"'KPI til Risikostyring'!D147","v":0},{"$f":"'KPI til Risikostyring'!K147","v":0},{"$f":"'KPI til Risikostyring'!N147","v":0},{"$f":"'KPI til Risikostyring'!O147","v":0}]
[null,{"$f":"'KPI til Risikostyring'!B148","v":0},{"$f":"'KPI til Risikostyring'!C148","v":0},{"$f":"'KPI til Risikostyring'!D148","v":0},{"$f":"'KPI til Risikostyring'!K148","v":0},{"$f":"'KPI til Risikostyring'!N148","v":0},{"$f":"'KPI til Risikostyring'!O148","v":0}]
[null,{"$f":"'KPI til Risikostyring'!B149","v":0},{"$f":"'KPI til Risikostyring'!C149","v":0},{"$f":"'KPI til Risikostyring'!D149","v":0},{"$f":"'KPI til Risikostyring'!K149","v":0},{"$f":"'KPI til Risikostyring'!N149","v":0},{"$f":"'KPI til Risikostyring'!O149","v":0}]
[null,{"$f":"'KPI til Risikostyring'!B150","v":0},{"$f":"'KPI til Risikostyring'!C150","v":0},{"$f":"'KPI til Risikostyring'!D150","v":0},{"$f":"'KPI til Risikostyring'!K150","v":0},{"$f":"'KPI til Risikostyring'!N150","v":0},{"$f":"'KPI til Risikostyring'!O150","v":0}]
[null,{"$f":"'KPI til Risikostyring'!B151","v":0},{"$f":"'KPI til Risikostyring'!C151","v":0},{"$f":"'KPI til Risikostyring'!D151","v":0},{"$f":"'KPI til Risikostyring'!K151","v":0},{"$f":"'KPI til Risikostyring'!N151","v":0},{"$f":"'KPI til Risikostyring'!O151","v":0}]
[null,{"$f":"'KPI til Risikostyring'!B152","v":0},{"$f":"'KPI til Risikostyring'!C152","v":0},{"$f":"'KPI til Risikostyring'!D152","v":0},{"$f":"'KPI til Risikostyring'!K152","v":0},{"$f":"'KPI til Risikostyring'!N152","v":0},{"$f":"'KPI til Risikostyring'!O152","v":0}]
[null,{"$f":"'KPI til Risikostyring'!B153","v":0},{"$f":"'KPI til Risikostyring'!C153","v":0},{"$f":"'KPI til Risikostyring'!D153","v":0},{"$f":"'KPI til Risikostyring'!K153","v":0},{"$f":"'KPI til Risikostyring'!N153","v":0},{"$f":"'KPI til Risikostyring'!O153","v":0}]
[null,{"$f":"'KPI til Risikostyring'!B154","v":0},{"$f":"'KPI til Risikostyring'!C154","v":0},{"$f":"'KPI til Risikostyring'!D154","v":0},{"$f":"'KPI til Risikostyring'!K154","v":0},{"$f":"'KPI til Risikostyring'!N154","v":0},{"$f":"'KPI til Risikostyring'!O154","v":0}]
[null,{"$f":"'KPI til Risikostyring'!B155","v":0},{"$f":"'KPI til Risikostyring'!C155","v":0},{"$f":"'KPI til Risikostyring'!D155","v":0},{"$f":"'KPI til Risikostyring'!K155","v":0},{"$f":"'KPI til Risikostyring'!N155","v":0},{"$f":"'KPI til Risikostyring'!O155","v":0}]
[null,{"$f":"'KPI til Risikostyring'!B156","v":0},{"$f":"'KPI til Risikostyring'!C156","v":0},{"$f":"'KPI til Risikostyring'!D156","v":0},{"$f":"'KPI til Risikostyring'!K156","v":0},{"$f":"'KPI til Risikostyring'!N156","v":0},{"$f":"'KPI til Risikostyring'!O156","v":0}]
[null,{"$f":"'KPI til Risikostyring'!B157","v":0},{"$f":"'KPI til Risikostyring'!C157","v":0},{"$f":"'KPI til Risikostyring'!D157","v":0},{"$f":"'KPI til Risikostyring'!K157","v":0},{"$f":"'KPI til Risikostyring'!N157","v":0},{"$f":"'KPI til Risikostyring'!O157","v":0}]
[null,{"$f":"'KPI til Risikostyring'!B158","v":0},{"$f":"'KPI til Risikostyring'!C158","v":0},{"$f":"'KPI til Risikostyring'!D158","v":0},{"$f":"'KPI til Risikostyring'!K158","v":0},{"$f":"'KPI til Risikostyring'!N158","v":0},{"$f":"'KPI til Risikostyring'!O158","v":0}]
[null,{"$f":"'KPI til Risikostyring'!B159","v":0},{"$f":"'KPI til Risikostyring'!C159","v":0},{"$f":"'KPI til Risikostyring'!D159","v":0},{"$f":"'KPI til Risikostyring'!K159","v":0},{"$f":"'KPI til Risikostyring'!N159","v":0},{"$f":"'KPI til Risikostyring'!O159","v":0}]
[null,{"$f":"'KPI til Risikostyring'!B160","v":0},{"$f":"'KPI til Risikostyring'!C160","v":0},{"$f":"'KPI til Risikostyring'!D160","v":0},{"$f":"'KPI til Risikostyring'!K160","v":0},{"$f":"'KPI til Risikostyring'!N160","v":0},{"$f":"'KPI til Risikostyring'!O160","v":0}]
[null,{"$f":"'KPI til Risikostyring'!B161","v":0},{"$f":"'KPI til Risikostyring'!C161","v":0},{"$f":"'KPI til Risikostyring'!D161","v":0},{"$f":"'KPI til Risikostyring'!K161","v":0},{"$f":"'KPI til Risikostyring'!N161","v":0},{"$f":"'KPI til Risikostyring'!O161","v":0}]
[null,{"$f":"'KPI til Risikostyring'!B162","v":0},{"$f":"'KPI til Risikostyring'!C162","v":0},{"$f":"'KPI til Risikostyring'!D162","v":0},{"$f":"'KPI til Risikostyring'!K162","v":0},{"$f":"'KPI til Risikostyring'!N162","v":0},{"$f":"'KPI til Risikostyring'!O162","v":0}]
[null,{"$f":"'KPI til Risikostyring'!B163","v":0},{"$f":"'KPI til Risikostyring'!C163","v":0},{"$f":"'KPI til Risikostyring'!D163","v":0},{"$f":"'KPI til Risikostyring'!K163","v":0},{"$f":"'KPI til Risikostyring'!N163","v":0},{"$f":"'KPI til Risikostyring'!O163","v":0}]
[null,{"$f":"'KPI til Risikostyring'!B164","v":0},{"$f":"'KPI til Risikostyring'!C164","v":0},{"$f":"'KPI til Risikostyring'!D164","v":0},{"$f":"'KPI til Risikostyring'!K164","v":0},{"$f":"'KPI til Risikostyring'!N164","v":0},{"$f":"'KPI til Risikostyring'!O164","v":0}]
[null,{"$f":"'KPI til Risikostyring'!B165","v":0},{"$f":"'KPI til Risikostyring'!C165","v":0},{"$f":"'KPI til Risikostyring'!D165","v":0},{"$f":"'KPI til Risikostyring'!K165","v":0},{"$f":"'KPI til Risikostyring'!N165","v":0},{"$f":"'KPI til Risikostyring'!O165","v":0}]
[null,{"$f":"'KPI til Risikostyring'!B166","v":0},{"$f":"'KPI til Risikostyring'!C166","v":0},{"$f":"'KPI til Risikostyring'!D166","v":0},{"$f":"'KPI til Risikostyring'!K166","v":0},{"$f":"'KPI til Risikostyring'!N166","v":0},{"$f":"'KPI til Risikostyring'!O166","v":0}]
[null,{"$f":"'KPI til Risikostyring'!B167","v":0},{"$f":"'KPI til Risikostyring'!C167","v":0},{"$f":"'KPI til Risikostyring'!D167","v":0},{"$f":"'KPI til Risikostyring'!K167","v":0},{"$f":"'KPI til Risikostyring'!N167","v":0},{"$f":"'KPI til Risikostyring'!O167","v":0}]
[null,{"$f":"'KPI til Risikostyring'!B168","v":0},{"$f":"'KPI til Risikostyring'!C168","v":0},{"$f":"'KPI til Risikostyring'!D168","v":0},{"$f":"'KPI til Risikostyring'!K168","v":0},{"$f":"'KPI til Risikostyring'!N168","v":0},{"$f":"'KPI til Risikostyring'!O168","v":0}]
[null,{"$f":"'KPI til Risikostyring'!B169","v":0},{"$f":"'KPI til Risikostyring'!C169","v":0},{"$f":"'KPI til Risikostyring'!D169","v":0},{"$f":"'KPI til Risikostyring'!K169","v":0},{"$f":"'KPI til Risikostyring'!N169","v":0},{"$f":"'KPI til Risikostyring'!O169","v":0}]
[null,{"$f":"'KPI til Risikostyring'!B170","v":0},{"$f":"'KPI til Risikostyring'!C170","v":0},{"$f":"'KPI til Risikostyring'!D170","v":0},{"$f":"'KPI til Risikostyring'!K170","v":0},{"$f":"'KPI til Risikostyring'!N170","v":0},{"$f":"'KPI til Risikostyring'!O170","v":0}]
[null,{"$f":"'KPI til Risikostyring'!B171","v":0},{"$f":"'KPI til Risikostyring'!C171","v":0},{"$f":"'KPI til Risikostyring'!D171","v":0},{"$f":"'KPI til Risikostyring'!K171","v":0},{"$f":"'KPI til Risikostyring'!N171","v":0},{"$f":"'KPI til Risikostyring'!O171","v":0}]
[null,{"$f":"'KPI til Risikostyring'!B172","v":0},{"$f":"'KPI til Risikostyring'!C172","v":0},{"$f":"'KPI til Risikostyring'!D172","v":0},{"$f":"'KPI til Risikostyring'!K172","v":0},{"$f":"'KPI til Risikostyring'!N172","v":0},{"$f":"'KPI til Risikostyring'!O172","v":0}]
[null,{"$f":"'KPI til Risikostyring'!B173","v":0},{"$f":"'KPI til Risikostyring'!C173","v":0},{"$f":"'KPI til Risikostyring'!D173","v":0},{"$f":"'KPI til Risikostyring'!K173","v":0},{"$f":"'KPI til Risikostyring'!N173","v":0},{"$f":"'KPI til Risikostyring'!O173","v":0}]
[null,{"$f":"'KPI til Risikostyring'!B174","v":0},{"$f":"'KPI til Risikostyring'!C174","v":0},{"$f":"'KPI til Risikostyring'!D174","v":0},{"$f":"'KPI til Risikostyring'!K174","v":0},{"$f":"'KPI til Risikostyring'!N174","v":0},{"$f":"'KPI til Risikostyring'!O174","v":0}]
[null,{"$f":"'KPI til Risikostyring'!B175","v":0},{"$f":"'KPI til Risikostyring'!C175","v":0},{"$f":"'KPI til Risikostyring'!D175","v":0},{"$f":"'KPI til Risikostyring'!K175","v":0},{"$f":"'KPI til Risikostyring'!N175","v":0},{"$f":"'KPI til Risikostyring'!O175","v":0}]
[null,{"$f":"'KPI til Risikostyring'!B176","v":0},{"$f":"'KPI til Risikostyring'!C176","v":0},{"$f":"'KPI til Risikostyring'!D176","v":0},{"$f":"'KPI til Risikostyring'!K176","v":0},{"$f":"'KPI til Risikostyring'!N176","v":0},{"$f":"'KPI til Risikostyring'!O176","v":0}]
[null,{"$f":"'KPI til Risikostyring'!B177","v":0},{"$f":"'KPI til Risikostyring'!C177","v":0},{"$f":"'KPI til Risikostyring'!D177","v":0},{"$f":"'KPI til Risikostyring'!K177","v":0},{"$f":"'KPI til Risikostyring'!N177","v":0},{"$f":"'KPI til Risikostyring'!O177","v":0}]
[null,{"$f":"'KPI til Risikostyring'!B178","v":0},{"$f":"'KPI til Risikostyring'!C178","v":0},{"$f":"'KPI til Risikostyring'!D178","v":0},{"$f":"'KPI til Risikostyring'!K178","v":0},{"$f":"'KPI til Risikostyring'!N178","v":0},{"$f":"'KPI til Risikostyring'!O178","v":0}]
[null,{"$f":"'KPI til Risikostyring'!B179","v":0},{"$f":"'KPI til Risikostyring'!C179","v":0},{"$f":"'KPI til Risikostyring'!D179","v":0},{"$f":"'KPI til Risikostyring'!K179","v":0},{"$f":"'KPI til Risikostyring'!N179","v":0},{"$f":"'KPI til Risikostyring'!O179","v":0}]
[null,{"$f":"'KPI til Risikostyring'!B180","v":0},{"$f":"'KPI til Risikostyring'!C180","v":0},{"$f":"'KPI til Risikostyring'!D180","v":0},{"$f":"'KPI til Risikostyring'!K180","v":0},{"$f":"'KPI til Risikostyring'!N180","v":0},{"$f":"'KPI til Risikostyring'!O180","v":0}]
[null,{"$f":"'KPI til Risikostyring'!B181","v":0},{"$f":"'KPI til Risikostyring'!C181","v":0},{"$f":"'KPI til Risikostyring'!D181","v":0},{"$f":"'KPI til Risikostyring'!K181","v":0},{"$f":"'KPI til Risikostyring'!N181","v":0},{"$f":"'KPI til Risikostyring'!O181","v":0}]
[null,{"$f":"'KPI til Risikostyring'!B182","v":0},{"$f":"'KPI til Risikostyring'!C182","v":0},{"$f":"'KPI til Risikostyring'!D182","v":0},{"$f":"'KPI til Risikostyring'!K182","v":0},{"$f":"'KPI til Risikostyring'!N182","v":0},{"$f":"'KPI til Risikostyring'!O182","v":0}]
[null,{"$f":"'KPI til Risikostyring'!B183","v":0},{"$f":"'KPI til Risikostyring'!C183","v":0},{"$f":"'KPI til Risikostyring'!D183","v":0},{"$f":"'KPI til Risikostyring'!K183","v":0},{"$f":"'KPI til Risikostyring'!N183","v":0},{"$f":"'KPI til Risikostyring'!O183","v":0}]
[null,{"$f":"'KPI til Risikostyring'!B184","v":0},{"$f":"'KPI til Risikostyring'!C184","v":0},{"$f":"'KPI til Risikostyring'!D184","v":0},{"$f":"'KPI til Risikostyring'!K184","v":0},{"$f":"'KPI til Risikostyring'!N184","v":0},{"$f":"'KPI til Risikostyring'!O184","v":0}]
[null,{"$f":"'KPI til Risikostyring'!B185","v":0},{"$f":"'KPI til Risikostyring'!C185","v":0},{"$f":"'KPI til Risikostyring'!D185","v":0},{"$f":"'KPI til Risikostyring'!K185","v":0},{"$f":"'KPI til Risikostyring'!N185","v":0},{"$f":"'KPI til Risikostyring'!O185","v":0}]
[null,{"$f":"'KPI til Risikostyring'!B186","v":0},{"$f":"'KPI til Risikostyring'!C186","v":0},{"$f":"'KPI til Risikostyring'!D186","v":0},{"$f":"'KPI til Risikostyring'!K186","v":0},{"$f":"'KPI til Risikostyring'!N186","v":0},{"$f":"'KPI til Risikostyring'!O186","v":0}]
[null,{"$f":"'KPI til Risikostyring'!B187","v":0},{"$f":"'KPI til Risikostyring'!C187","v":0},{"$f":"'KPI til Risikostyring'!D187","v":0},{"$f":"'KPI til Risikostyring'!K187","v":0},{"$f":"'KPI til Risikostyring'!N187","v":0},{"$f":"'KPI til Risikostyring'!O187","v":0}]
[null,{"$f":"'KPI til Risikostyring'!B188","v":0},{"$f":"'KPI til Risikostyring'!C188","v":0},{"$f":"'KPI til Risikostyring'!D188","v":0},{"$f":"'KPI til Risikostyring'!K188","v":0},{"$f":"'KPI til Risikostyring'!N188","v":0},{"$f":"'KPI til Risikostyring'!O188","v":0}]
[null,{"$f":"'KPI til Risikostyring'!B189","v":0},{"$f":"'KPI til Risikostyring'!C189","v":0},{"$f":"'KPI til Risikostyring'!D189","v":0},{"$f":"'KPI til Risikostyring'!K189","v":0},{"$f":"'KPI til Risikostyring'!N189","v":0},{"$f":"'KPI til Risikostyring'!O189","v":0}]
[null,{"$f":"'KPI til Risikostyring'!B190","v":0},{"$f":"'KPI til Risikostyring'!C190","v":0},{"$f":"'KPI til Risikostyring'!D190","v":0},{"$f":"'KPI til Risikostyring'!K190","v":0},{"$f":"'KPI til Risikostyring'!N190","v":0},{"$f":"'KPI til Risikostyring'!O190","v":0}]
[null,{"$f":"'KPI til Risikostyring'!B191","v":0},{"$f":"'KPI til Risikostyring'!C191","v":0},{"$f":"'KPI til Risikostyring'!D191","v":0},{"$f":"'KPI til Risikostyring'!K191","v":0},{"$f":"'KPI til Risikostyring'!N191","v":0},{"$f":"'KPI til Risikostyring'!O191","v":0}]
[null,{"$f":"'KPI til Risikostyring'!B192","v":0},{"$f":"'KPI til Risikostyring'!C192","v":0},{"$f":"'KPI til Risikostyring'!D192","v":0},{"$f":"'KPI til Risikostyring'!K192","v":0},{"$f":"'KPI til Risikostyring'!N192","v":0},{"$f":"'KPI til Risikostyring'!O192","v":0}]
[null,{"$f":"'KPI til Risikostyring'!B193","v":0},{"$f":"'KPI til Risikostyring'!C193","v":0},{"$f":"'KPI til Risikostyring'!D193","v":0},{"$f":"'KPI til Risikostyring'!K193","v":0},{"$f":"'KPI til Risikostyring'!N193","v":0},{"$f":"'KPI til Risikostyring'!O193","v":0}]
[null,{"$f":"'KPI til Risikostyring'!B194","v":0},{"$f":"'KPI til Risikostyring'!C194","v":0},{"$f":"'KPI til Risikostyring'!D194","v":0},{"$f":"'KPI til Risikostyring'!K194","v":0},{"$f":"'KPI til Risikostyring'!N194","v":0},{"$f":"'KPI til Risikostyring'!O194","v":0}]
[null,{"$f":"'KPI til Risikostyring'!B195","v":0},{"$f":"'KPI til Risikostyring'!C195","v":0},{"$f":"'KPI til Risikostyring'!D195","v":0},{"$f":"'KPI til Risikostyring'!K195","v":0},{"$f":"'KPI til Risikostyring'!N195","v":0},{"$f":"'KPI til Risikostyring'!O195","v":0}]
[null,{"$f":"'KPI til Risikostyring'!B196","v":0},{"$f":"'KPI til Risikostyring'!C196","v":0},{"$f":"'KPI til Risikostyring'!D196","v":0},{"$f":"'KPI til Risikostyring'!K196","v":0},{"$f":"'KPI til Risikostyring'!N196","v":0},{"$f":"'KPI til Risikostyring'!O196","v":0}]
[null,{"$f":"'KPI til Risikostyring'!B197","v":0},{"$f":"'KPI til Risikostyring'!C197","v":0},{"$f":"'KPI til Risikostyring'!D197","v":0},{"$f":"'KPI til Risikostyring'!K197","v":0},{"$f":"'KPI til Risikostyring'!N197","v":0},{"$f":"'KPI til Risikostyring'!O197","v":0}]
[null,{"$f":"'KPI til Risikostyring'!B198","v":0},{"$f":"'KPI til Risikostyring'!C198","v":0},{"$f":"'KPI til Risikostyring'!D198","v":0},{"$f":"'KPI til Risikostyring'!K198","v":0},{"$f":"'KPI til Risikostyring'!N198","v":0},{"$f":"'KPI til Risikostyring'!O198","v":0}]
[null,{"$f":"'KPI til Risikostyring'!B199","v":0},{"$f":"'KPI til Risikostyring'!C199","v":0},{"$f":"'KPI til Risikostyring'!D199","v":0},{"$f":"'KPI til Risikostyring'!K199","v":0},{"$f":"'KPI til Risikostyring'!N199","v":0},{"$f":"'KPI til Risikostyring'!O199","v":0}]
[null,{"$f":"'KPI til Risikostyring'!B200","v":0},{"$f":"'KPI til Risikostyring'!C200","v":0},{"$f":"'KPI til Risikostyring'!D200","v":0},{"$f":"'KPI til Risikostyring'!K200","v":0},{"$f":"'KPI til Risikostyring'!N200","v":0},{"$f":"'KPI til Risikostyring'!O200","v":0}]
[null,{"$f":"'KPI til Risikostyring'!B201","v":0},{"$f":"'KPI til Risikostyring'!C201","v":0},{"$f":"'KPI til Risikostyring'!D201","v":0},{"$f":"'KPI til Risikostyring'!K201","v":0},{"$f":"'KPI til Risikostyring'!N201","v":0},{"$f":"'KPI til Risikostyring'!O201","v":0}]
[null,{"$f":"'KPI til Risikostyring'!B202","v":0},{"$f":"'KPI til Risikostyring'!C202","v":0},{"$f":"'KPI til Risikostyring'!D202","v":0},{"$f":"'KPI til Risikostyring'!K202","v":0},{"$f":"'KPI til Risikostyring'!N202","v":0},{"$f":"'KPI til Risikostyring'!O202","v":0}]
[null,{"$f":"'KPI til Risikostyring'!B203","v":0},{"$f":"'KPI til Risikostyring'!C203","v":0},{"$f":"'KPI til Risikostyring'!D203","v":0},{"$f":"'KPI til Risikostyring'!K203","v":0},{"$f":"'KPI til Risikostyring'!N203","v":0},{"$f":"'KPI til Risikostyring'!O203","v":0}]
[null,{"$f":"'KPI til Risikostyring'!B204","v":0},{"$f":"'KPI til Risikostyring'!C204","v":0},{"$f":"'KPI til Risikostyring'!D204","v":0},{"$f":"'KPI til Risikostyring'!K204","v":0},{"$f":"'KPI til Risikostyring'!N204","v":0},{"$f":"'KPI til Risikostyring'!O204","v":0}]
[null,{"$f":"'KPI til Risikostyring'!B205","v":0},{"$f":"'KPI til Risikostyring'!C205","v":0},{"$f":"'KPI til Risikostyring'!D205","v":0},{"$f":"'KPI til Risikostyring'!K205","v":0},{"$f":"'KPI til Risikostyring'!N205","v":0},{"$f":"'KPI til Risikostyring'!O205","v":0}]
[null,{"$f":"'KPI til Risikostyring'!B206","v":0},{"$f":"'KPI til Risikostyring'!C206","v":0},{"$f":"'KPI til Risikostyring'!D206","v":0},{"$f":"'KPI til Risikostyring'!K206","v":0},{"$f":"'KPI til Risikostyring'!N206","v":0},{"$f":"'KPI til Risikostyring'!O206","v":0}]
[null,{"$f":"'KPI til Risikostyring'!B207","v":0},{"$f":"'KPI til Risikostyring'!C207","v":0},{"$f":"'KPI til Risikostyring'!D207","v":0},{"$f":"'KPI til Risikostyring'!K207","v":0},{"$f":"'KPI til Risikostyring'!N207","v":0},{"$f":"'KPI til Risikostyring'!O207","v":0}]
[null,{"$f":"'KPI til Risikostyring'!B208","v":0},{"$f":"'KPI til Risikostyring'!C208","v":0},{"$f":"'KPI til Risikostyring'!D208","v":0},{"$f":"'KPI til Risikostyring'!K208","v":0},{"$f":"'KPI til Risikostyring'!N208","v":0},{"$f":"'KPI til Risikostyring'!O208","v":0}]
[null,{"$f":"'KPI til Risikostyring'!B209","v":0},{"$f":"'KPI til Risikostyring'!C209","v":0},{"$f":"'KPI til Risikostyring'!D209","v":0},{"$f":"'KPI til Risikostyring'!K209","v":0},{"$f":"'KPI til Risikostyring'!N209","v":0},{"$f":"'KPI til Risikostyring'!O209","v":0}]
[null,{"$f":"'KPI til Risikostyring'!B210","v":0},{"$f":"'KPI til Risikostyring'!C210","v":0},{"$f":"'KPI til Risikostyring'!D210","v":0},{"$f":"'KPI til Risikostyring'!K210","v":0},{"$f":"'KPI til Risikostyring'!N210","v":0},{"$f":"'KPI til Risikostyring'!O210","v":0}]
[null,{"$f":"'KPI til Risikostyring'!B211","v":0},{"$f":"'KPI til Risikostyring'!C211","v":0},{"$f":"'KPI til Risikostyring'!D211","v":0},{"$f":"'KPI til Risikostyring'!K211","v":0},{"$f":"'KPI til Risikostyring'!N211","v":0},{"$f":"'KPI til Risikostyring'!O211","v":0}]
[null,{"$f":"'KPI til Risikostyring'!B212","v":0},{"$f":"'KPI til Risikostyring'!C212","v":0},{"$f":"'KPI til Risikostyring'!D212","v":0},{"$f":"'KPI til Risikostyring'!K212","v":0},{"$f":"'KPI til Risikostyring'!N212","v":0},{"$f":"'KPI til Risikostyring'!O212","v":0}]
[null,{"$f":"'KPI til Risikostyring'!B213","v":0},{"$f":"'KPI til Risikostyring'!C213","v":0},{"$f":"'KPI til Risikostyring'!D213","v":0},{"$f":"'KPI til Risikostyring'!K213","v":0},{"$f":"'KPI til Risikostyring'!N213","v":0},{"$f":"'KPI til Risikostyring'!O213","v":0}]
[null,{"$f":"'KPI til Risikostyring'!B214","v":0},{"$f":"'KPI til Risikostyring'!C214","v":0},{"$f":"'KPI til Risikostyring'!D214","v":0},{"$f":"'KPI til Risikostyring'!K214","v":0},{"$f":"'KPI til Risikostyring'!N214","v":0},{"$f":"'KPI til Risikostyring'!O214","v":0}]
[null,{"$f":"'KPI til Risikostyring'!B215","v":0},{"$f":"'KPI til Risikostyring'!C215","v":0},{"$f":"'KPI til Risikostyring'!D215","v":0},{"$f":"'KPI til Risikostyring'!K215","v":0},{"$f":"'KPI til Risikostyring'!N215","v":0},{"$f":"'KPI til Risikostyring'!O215","v":0}]
[null,{"$f":"'KPI til Risikostyring'!B216","v":0},{"$f":"'KPI til Risikostyring'!C216","v":0},{"$f":"'KPI til Risikostyring'!D216","v":0},{"$f":"'KPI til Risikostyring'!K216","v":0},{"$f":"'KPI til Risikostyring'!N216","v":0},{"$f":"'KPI til Risikostyring'!O216","v":0}]
[null,{"$f":"'KPI til Risikostyring'!B217","v":0},{"$f":"'KPI til Risikostyring'!C217","v":0},{"$f":"'KPI til Risikostyring'!D217","v":0},{"$f":"'KPI til Risikostyring'!K217","v":0},{"$f":"'KPI til Risikostyring'!N217","v":0},{"$f":"'KPI til Risikostyring'!O217","v":0}]
[null,{"$f":"'KPI til Risikostyring'!B218","v":0},{"$f":"'KPI til Risikostyring'!C218","v":0},{"$f":"'KPI til Risikostyring'!D218","v":0},{"$f":"'KPI til Risikostyring'!K218","v":0},{"$f":"'KPI til Risikostyring'!N218","v":0},{"$f":"'KPI til Risikostyring'!O218","v":0}]
[null,{"$f":"'KPI til Risikostyring'!B219","v":0},{"$f":"'KPI til Risikostyring'!C219","v":0},{"$f":"'KPI til Risikostyring'!D219","v":0},{"$f":"'KPI til Risikostyring'!K219","v":0},{"$f":"'KPI til Risikostyring'!N219","v":0},{"$f":"'KPI til Risikostyring'!O219","v":0}]
[null,{"$f":"'KPI til Risikostyring'!B220","v":0},{"$f":"'KPI til Risikostyring'!C220","v":0},{"$f":"'KPI til Risikostyring'!D220","v":0},{"$f":"'KPI til Risikostyring'!K220","v":0},{"$f":"'KPI til Risikostyring'!N220","v":0},{"$f":"'KPI til Risikostyring'!O220","v":0}]
[null,{"$f":"'KPI til Risikostyring'!B221","v":0},{"$f":"'KPI til Risikostyring'!C221","v":0},{"$f":"'KPI til Risikostyring'!D221","v":0},{"$f":"'KPI til Risikostyring'!K221","v":0},{"$f":"'KPI til Risikostyring'!N221","v":0},{"$f":"'KPI til Risikostyring'!O221","v":0}]
[null,{"$f":"'KPI til Risikostyring'!B222","v":0},{"$f":"'KPI til Risikostyring'!C222","v":0},{"$f":"'KPI til Risikostyring'!D222","v":0},{"$f":"'KPI til Risikostyring'!K222","v":0},{"$f":"'KPI til Risikostyring'!N222","v":0},{"$f":"'KPI til Risikostyring'!O222","v":0}]
[null,{"$f":"'KPI til Risikostyring'!B223","v":0},{"$f":"'KPI til Risikostyring'!C223","v":0},{"$f":"'KPI til Risikostyring'!D223","v":0},{"$f":"'KPI til Risikostyring'!K223","v":0},{"$f":"'KPI til Risikostyring'!N223","v":0},{"$f":"'KPI til Risikostyring'!O223","v":0}]
[null,{"$f":"'KPI til Risikostyring'!B224","v":0},{"$f":"'KPI til Risikostyring'!C224","v":0},{"$f":"'KPI til Risikostyring'!D224","v":0},{"$f":"'KPI til Risikostyring'!K224","v":0},{"$f":"'KPI til Risikostyring'!N224","v":0},{"$f":"'KPI til Risikostyring'!O224","v":0}]
[null,{"$f":"'KPI til Risikostyring'!B225","v":0},{"$f":"'KPI til Risikostyring'!C225","v":0},{"$f":"'KPI til Risikostyring'!D225","v":0},{"$f":"'KPI til Risikostyring'!K225","v":0},{"$f":"'KPI til Risikostyring'!N225","v":0},{"$f":"'KPI til Risikostyring'!O225","v":0}]
[null,{"$f":"'KPI til Risikostyring'!B226","v":0},{"$f":"'KPI til Risikostyring'!C226","v":0},{"$f":"'KPI til Risikostyring'!D226","v":0},{"$f":"'KPI til Risikostyring'!K226","v":0},{"$f":"'KPI til Risikostyring'!N226","v":0},{"$f":"'KPI til Risikostyring'!O226","v":0}]
[null,{"$f":"'KPI til Risikostyring'!B227","v":0},{"$f":"'KPI til Risikostyring'!C227","v":0},{"$f":"'KPI til Risikostyring'!D227","v":0},{"$f":"'KPI til Risikostyring'!K227","v":0},{"$f":"'KPI til Risikostyring'!N227","v":0},{"$f":"'KPI til Risikostyring'!O227","v":0}]
[null,{"$f":"'KPI til Risikostyring'!B228","v":0},{"$f":"'KPI til Risikostyring'!C228","v":0},{"$f":"'KPI til Risikostyring'!D228","v":0},{"$f":"'KPI til Risikostyring'!K228","v":0},{"$f":"'KPI til Risikostyring'!N228","v":0},{"$f":"'KPI til Risikostyring'!O228","v":0}]
[null,{"$f":"'KPI til Risikostyring'!B229","v":0},{"$f":"'KPI til Risikostyring'!C229","v":0},{"$f":"'KPI til Risikostyring'!D229","v":0},{"$f":"'KPI til Risikostyring'!K229","v":0},{"$f":"'KPI til Risikostyring'!N229","v":0},{"$f":"'KPI til Risikostyring'!O229","v":0}]
[null,{"$f":"'KPI til Risikostyring'!B230","v":0},{"$f":"'KPI til Risikostyring'!C230","v":0},{"$f":"'KPI til Risikostyring'!D230","v":0},{"$f":"'KPI til Risikostyring'!K230","v":0},{"$f":"'KPI til Risikostyring'!N230","v":0},{"$f":"'KPI til Risikostyring'!O230","v":0}]
[null,{"$f":"'KPI til Risikostyring'!B231","v":0},{"$f":"'KPI til Risikostyring'!C231","v":0},{"$f":"'KPI til Risikostyring'!D231","v":0},{"$f":"'KPI til Risikostyring'!K231","v":0},{"$f":"'KPI til Risikostyring'!N231","v":0},{"$f":"'KPI til Risikostyring'!O231","v":0}]
[null,{"$f":"'KPI til Risikostyring'!B232","v":0},{"$f":"'KPI til Risikostyring'!C232","v":0},{"$f":"'KPI til Risikostyring'!D232","v":0},{"$f":"'KPI til Risikostyring'!K232","v":0},{"$f":"'KPI til Risikostyring'!N232","v":0},{"$f":"'KPI til Risikostyring'!O232","v":0}]
[null,{"$f":"'KPI til Risikostyring'!B233","v":0},{"$f":"'KPI til Risikostyring'!C233","v":0},{"$f":"'KPI til Risikostyring'!D233","v":0},{"$f":"'KPI til Risikostyring'!K233","v":0},{"$f":"'KPI til Risikostyring'!N233","v":0},{"$f":"'KPI til Risikostyring'!O233","v":0}]
[null,{"$f":"'KPI til Risikostyring'!B234","v":0},{"$f":"'KPI til Risikostyring'!C234","v":0},{"$f":"'KPI til Risikostyring'!D234","v":0},{"$f":"'KPI til Risikostyring'!K234","v":0},{"$f":"'KPI til Risikostyring'!N234","v":0},{"$f":"'KPI til Risikostyring'!O234","v":0}]
[null,{"$f":"'KPI til Risikostyring'!B235","v":0},{"$f":"'KPI til Risikostyring'!C235","v":0},{"$f":"'KPI til Risikostyring'!D235","v":0},{"$f":"'KPI til Risikostyring'!K235","v":0},{"$f":"'KPI til Risikostyring'!N235","v":0},{"$f":"'KPI til Risikostyring'!O235","v":0}]
[null,{"$f":"'KPI til Risikostyring'!B236","v":0},{"$f":"'KPI til Risikostyring'!C236","v":0},{"$f":"'KPI til Risikostyring'!D236","v":0},{"$f":"'KPI til Risikostyring'!K236","v":0},{"$f":"'KPI til Risikostyring'!N236","v":0},{"$f":"'KPI til Risikostyring'!O236","v":0}]
[null,{"$f":"'KPI til Risikostyring'!B237","v":0},{"$f":"'KPI til Risikostyring'!C237","v":0},{"$f":"'KPI til Risikostyring'!D237","v":0},{"$f":"'KPI til Risikostyring'!K237","v":0},{"$f":"'KPI til Risikostyring'!N237","v":0},{"$f":"'KPI til Risikostyring'!O237","v":0}]
[null,{"$f":"'KPI til Risikostyring'!B238","v":0},{"$f":"'KPI til Risikostyring'!C238","v":0},{"$f":"'KPI til Risikostyring'!D238","v":0},{"$f":"'KPI til Risikostyring'!K238","v":0},{"$f":"'KPI til Risikostyring'!N238","v":0},{"$f":"'KPI til Risikostyring'!O238","v":0}]
[null,{"$f":"'KPI til Risikostyring'!B239","v":0},{"$f":"'KPI til Risikostyring'!C239","v":0},{"$f":"'KPI til Risikostyring'!D239","v":0},{"$f":"'KPI til Risikostyring'!K239","v":0},{"$f":"'KPI til Risikostyring'!N239","v":0},{"$f":"'KPI til Risikostyring'!O239","v":0}]
[null,{"$f":"'KPI til Risikostyring'!B240","v":0},{"$f":"'KPI til Risikostyring'!C240","v":0},{"$f":"'KPI til Risikostyring'!D240","v":0},{"$f":"'KPI til Risikostyring'!K240","v":0},{"$f":"'KPI til Risikostyring'!N240","v":0},{"$f":"'KPI til Risikostyring'!O240","v":0}]
[null,{"$f":"'KPI til Risikostyring'!B241","v":0},{"$f":"'KPI til Risikostyring'!C241","v":0},{"$f":"'KPI til Risikostyring'!D241","v":0},{"$f":"'KPI til Risikostyring'!K241","v":0},{"$f":"'KPI til Risikostyring'!N241","v":0},{"$f":"'KPI til Risikostyring'!O241","v":0}]
[null,{"$f":"'KPI til Risikostyring'!B242","v":0},{"$f":"'KPI til Risikostyring'!C242","v":0},{"$f":"'KPI til Risikostyring'!D242","v":0},{"$f":"'KPI til Risikostyring'!K242","v":0},{"$f":"'KPI til Risikostyring'!N242","v":0},{"$f":"'KPI til Risikostyring'!O242","v":0}]
[null,{"$f":"'KPI til Risikostyring'!B243","v":0},{"$f":"'KPI til Risikostyring'!C243","v":0},{"$f":"'KPI til Risikostyring'!D243","v":0},{"$f":"'KPI til Risikostyring'!K243","v":0},{"$f":"'KPI til Risikostyring'!N243","v":0},{"$f":"'KPI til Risikostyring'!O243","v":0}]
[null,{"$f":"'KPI til Risikostyring'!B244","v":0},{"$f":"'KPI til Risikostyring'!C244","v":0},{"$f":"'KPI til Risikostyring'!D244","v":0},{"$f":"'KPI til Risikostyring'!K244","v":0},{"$f":"'KPI til Risikostyring'!N244","v":0},{"$f":"'KPI til Risikostyring'!O244","v":0}]
[null,{"$f":"'KPI til Risikostyring'!B245","v":0},{"$f":"'KPI til Risikostyring'!C245","v":0},{"$f":"'KPI til Risikostyring'!D245","v":0},{"$f":"'KPI til Risikostyring'!K245","v":0},{"$f":"'KPI til Risikostyring'!N245","v":0},{"$f":"'KPI til Risikostyring'!O245","v":0}]
[null,{"$f":"'KPI til Risikostyring'!B246","v":0},{"$f":"'KPI til Risikostyring'!C246","v":0},{"$f":"'KPI til Risikostyring'!D246","v":0},{"$f":"'KPI til Risikostyring'!K246","v":0},{"$f":"'KPI til Risikostyring'!N246","v":0},{"$f":"'KPI til Risikostyring'!O246","v":0}]
[null,{"$f":"'KPI til Risikostyring'!B247","v":0},{"$f":"'KPI til Risikostyring'!C247","v":0},{"$f":"'KPI til Risikostyring'!D247","v":0},{"$f":"'KPI til Risikostyring'!K247","v":0},{"$f":"'KPI til Risikostyring'!N247","v":0},{"$f":"'KPI til Risikostyring'!O247","v":0}]

{"sheet":"Pivot Risiko 1","index":5,"n_rows":5,"n_cols":11,"rows_kept":5,"cut":false,"hidden":true,"merged":[]}
[]
[]
["Antal af Risikotype","Kolonnenavne",null,null,null,null,null,null,null,"Rækkenavne","Antal af Strategi"]
["Rækkenavne","Hovedtotal",null,null,null,null,null,null,null,"Hovedtotal"]
["Hovedtotal"]

{"sheet":"Pivot Risiko 2","index":6,"n_rows":5,"n_cols":2,"rows_kept":5,"cut":false,"hidden":true,"merged":[]}
[]
[]
["Rækkenavne","Antal af Ansvarlig enhed"]
["(tom)"]
["Hovedtotal"]

{"sheet":"Pivot Revision 1","index":7,"n_rows":25,"n_cols":3,"rows_kept":25,"cut":false,"hidden":true,"merged":[]}
["1 - Afgørende forhold, som kræver hurtig behandling"]
[]
[]
[]
[]
[]
[]
[]
[]
[]
[]
[]
[]
[]
[]
[]
[]
[]
[]
[]
[]
["Antal af Rapporteringsform","Kolonnenavne"]
["Rækkenavne","(tom)","Hovedtotal"]
["(tom)"]
["Hovedtotal"]

{"sheet":"Pivot Revision 2","index":8,"n_rows":25,"n_cols":3,"rows_kept":25,"cut":false,"hidden":true,"merged":[]}
[]
[]
["Rækkenavne","Antal af Type af revisionsbemærkning"]
["(tom)"]
["Hovedtotal"]
[]
[]
[]
[]
[]
[]
[]
[]
[]
[]
[]
[]
[]
[]
[]
[]
["Antal af Kilde","Kolonnenavne"]
["Rækkenavne","(tom)","Hovedtotal"]
["(tom)"]
["Hovedtotal"]

{"sheet":"Pivot Revision 3","index":9,"n_rows":24,"n_cols":2,"rows_kept":24,"cut":false,"hidden":true,"merged":[]}
["Status","Åben"]
[]
["Rækkenavne","Antal af Ansvarlig enhed"]
["(tom)"]
["Hovedtotal"]
[]
[]
[]
[]
[]
[]
[]
[]
[]
[]
[]
[]
[]
["Kritikalitet","(tom)"]
["Status","Åben"]
[]
["Rækkenavne","Antal af Kritikalitet"]
["(tom)"]
["Hovedtotal"]

{"sheet":"KPI til Revision","index":10,"n_rows":140,"n_cols":29,"rows_kept":140,"cut":false,"hidden":true,"merged":[]}
[null,null,null,null,null,null,null,null,null,null,null,null,null,null,null,null,null,null,null,null,null,null,null,null,null,"3 Grøn - Mindre forhold, som skal behandles","1 Rød - Afgørende forhold, som kræver hurtig behandling"]
[null,null,null,null,null,null,null,null,null,null,null,null,null,null,null,null,null,null,null,null,null,null,null,null,null,null,"2 Gul - væsentlige forhold, som kræver behandling"]
[null,{"$f":"'Log til revisionsbemærkninger'!C9","v":"ID"},{"$f":"'Log til revisionsbemærkninger'!D9","v":"Journalsagsnr."},{"$f":"'Log til revisionsbemærkninger'!E9","v":"Rapporteringsform"},{"$f":"'Log til revisionsbemærkninger'!F9","v":"Rapporteringsnr."},{"$f":"'Log til revisionsbemærkninger'!G9","v":"Titel for bemærkning"},{"$f":"'Log til revisionsbemærkninger'!H9","v":"Observation"},{"$f":"'Log til revisionsbemærkninger'!I9","v":"Kilde"},{"$f":"'Log til revisionsbemærkninger'!J9","v":"Dato for rapportering"},{"$f":"'Log til revisionsbemærkninger'!K9","v":"Type af revisionsbemærkning"},{"$f":"'Log til revisionsbemærkninger'!L9","v":"Art"},{"$f":"'Log til revisionsbemærkninger'!M9","v":"Kritikalitet"},{"$f":"'Log til revisionsbemærkninger'!N9","v":"Ansvarlig enhed"},{"$f":"'Log til revisionsbemærkninger'!O9","v":"Ansvarshavende ledelse"},{"$f":"'Log til revisionsbemærkninger'!P9","v":"Kontaktperson"},{"$f":"'Log til revisionsbemærkninger'!Q9","v":"Mitigerende handlinger "},{"$f":"'Log til revisionsbemærkninger'!R9","v":"Gennemførselsfrist"},{"$f":"'Log til revisionsbemærkninger'!S9","v":"Nyeste gennemførselsfrist"},{"$f":"'Log til revisionsbemærkninger'!T9","v":"Status på opfølgning"},{"$f":"'Log til revisionsbemærkninger'!U9","v":"Opfølgende kommentar"},{"$f":"'Log til revisionsbemærkninger'!V9","v":"Opfølgningsdato"},{"$f":"'Log til revisionsbemærkninger'!W9","v":"Status"},{"$f":"'Log til revisionsbemærkninger'!X9","v":"Forelagt for ledelsen"},"antal Ny ","antal gentagende","Antal sager med 1 - afgørende","antal åbne sager","antal i alt ","åben og kategori 1"]
[null,{"$f":"'Log til revisionsbemærkninger'!C10","v":0},{"$f":"'Log til revisionsbemærkninger'!D10","v":0},{"$f":"'Log til revisionsbemærkninger'!E10","v":0},{"$f":"'Log til revisionsbemærkninger'!F10","v":0},{"$f":"'Log til revisionsbemærkninger'!G10","v":0},{"$f":"'Log til revisionsbemærkninger'!H10","v":0},{"$f":"'Log til revisionsbemærkninger'!I10","v":0},{"$f":"'Log til revisionsbemærkninger'!J10","v":0},{"$f":"'Log til revisionsbemærkninger'!K10","v":0},{"$f":"'Log til revisionsbemærkninger'!L10","v":0},{"$f":"'Log til revisionsbemærkninger'!M10","v":0},{"$f":"'Log til revisionsbemærkninger'!N10","v":0},{"$f":"'Log til revisionsbemærkninger'!O10","v":0},{"$f":"'Log til revisionsbemærkninger'!P10","v":0},{"$f":"'Log til revisionsbemærkninger'!Q10","v":0},{"$f":"'Log til revisionsbemærkninger'!R10","v":0},{"$f":"'Log til revisionsbemærkninger'!S10","v":0},{"$f":"'Log til revisionsbemærkninger'!T10","v":"Ikke startet"},{"$f":"'Log til revisionsbemærkninger'!U10","v":0},{"$f":"'Log til revisionsbemærkninger'!V10","v":0},{"$f":"'Log til revisionsbemærkninger'!W10","v":0},{"$f":"'Log til revisionsbemærkninger'!X10","v":0},{"$f":"COUNTIFS(K:K,\"Ny\",V:V,AA4)","v":0},{"$f":"COUNTIFS(K:K,\"Gentaget\",V:V,AA4)","v":0},"1 Rød - Afgørende forhold, som kræver hurtig behandling","Åben",{"$f":"COUNTIF(B:B,\">0\")","v":0},{"$f":"COUNTIFS(L:L,Z4,V:V,AA4)","v":0}]
[null,{"$f":"'Log til revisionsbemærkninger'!C11","v":0},{"$f":"'Log til revisionsbemærkninger'!D11","v":0},{"$f":"'Log til revisionsbemærkninger'!E11","v":0},{"$f":"'Log til revisionsbemærkninger'!F11","v":0},{"$f":"'Log til revisionsbemærkninger'!G11","v":0},{"$f":"'Log til revisionsbemærkninger'!H11","v":0},{"$f":"'Log til revisionsbemærkninger'!I11","v":0},{"$f":"'Log til revisionsbemærkninger'!J11","v":0},{"$f":"'Log til revisionsbemærkninger'!K11","v":0},{"$f":"'Log til revisionsbemærkninger'!L11","v":0},{"$f":"'Log til revisionsbemærkninger'!M11","v":0},{"$f":"'Log til revisionsbemærkninger'!N11","v":0},{"$f":"'Log til revisionsbemærkninger'!O11","v":0},{"$f":"'Log til revisionsbemærkninger'!P11","v":0},{"$f":"'Log til revisionsbemærkninger'!Q11","v":0},{"$f":"'Log til revisionsbemærkninger'!R11","v":0},{"$f":"'Log til revisionsbemærkninger'!S11","v":0},{"$f":"'Log til revisionsbemærkninger'!T11","v":"Ikke startet"},{"$f":"'Log til revisionsbemærkninger'!U11","v":0},{"$f":"'Log til revisionsbemærkninger'!V11","v":0},{"$f":"'Log til revisionsbemærkninger'!W11","v":0},{"$f":"'Log til revisionsbemærkninger'!X11","v":0},null,null,{"$f":"COUNTIF(L:L,Z4)","v":0},{"$f":"COUNTIF(V:V,AA4)","v":0}]
[null,{"$f":"'Log til revisionsbemærkninger'!C12","v":0},{"$f":"'Log til revisionsbemærkninger'!D12","v":0},{"$f":"'Log til revisionsbemærkninger'!E12","v":0},{"$f":"'Log til revisionsbemærkninger'!F12","v":0},{"$f":"'Log til revisionsbemærkninger'!G12","v":0},{"$f":"'Log til revisionsbemærkninger'!H12","v":0},{"$f":"'Log til revisionsbemærkninger'!I12","v":0},{"$f":"'Log til revisionsbemærkninger'!J12","v":0},{"$f":"'Log til revisionsbemærkninger'!K12","v":0},{"$f":"'Log til revisionsbemærkninger'!L12","v":0},{"$f":"'Log til revisionsbemærkninger'!M12","v":0},{"$f":"'Log til revisionsbemærkninger'!N12","v":0},{"$f":"'Log til revisionsbemærkninger'!O12","v":0},{"$f":"'Log til revisionsbemærkninger'!P12","v":0},{"$f":"'Log til revisionsbemærkninger'!Q12","v":0},{"$f":"'Log til revisionsbemærkninger'!R12","v":0},{"$f":"'Log til revisionsbemærkninger'!S12","v":0},{"$f":"'Log til revisionsbemærkninger'!T12","v":"Ikke startet"},{"$f":"'Log til revisionsbemærkninger'!U12","v":0},{"$f":"'Log til revisionsbemærkninger'!V12","v":0},{"$f":"'Log til revisionsbemærkninger'!W12","v":0},{"$f":"'Log til revisionsbemærkninger'!X12","v":0}]
[null,{"$f":"'Log til revisionsbemærkninger'!C13","v":0},{"$f":"'Log til revisionsbemærkninger'!D13","v":0},{"$f":"'Log til revisionsbemærkninger'!E13","v":0},{"$f":"'Log til revisionsbemærkninger'!F13","v":0},{"$f":"'Log til revisionsbemærkninger'!G13","v":0},{"$f":"'Log til revisionsbemærkninger'!H13","v":0},{"$f":"'Log til revisionsbemærkninger'!I13","v":0},{"$f":"'Log til revisionsbemærkninger'!J13","v":0},{"$f":"'Log til revisionsbemærkninger'!K13","v":0},{"$f":"'Log til revisionsbemærkninger'!L13","v":0},{"$f":"'Log til revisionsbemærkninger'!M13","v":0},{"$f":"'Log til revisionsbemærkninger'!N13","v":0},{"$f":"'Log til revisionsbemærkninger'!O13","v":0},{"$f":"'Log til revisionsbemærkninger'!P13","v":0},{"$f":"'Log til revisionsbemærkninger'!Q13","v":0},{"$f":"'Log til revisionsbemærkninger'!R13","v":0},{"$f":"'Log til revisionsbemærkninger'!S13","v":0},{"$f":"'Log til revisionsbemærkninger'!T13","v":"Ikke startet"},{"$f":"'Log til revisionsbemærkninger'!U13","v":0},{"$f":"'Log til revisionsbemærkninger'!V13","v":0},{"$f":"'Log til revisionsbemærkninger'!W13","v":0},{"$f":"'Log til revisionsbemærkninger'!X13","v":0}]
[null,{"$f":"'Log til revisionsbemærkninger'!C14","v":0},{"$f":"'Log til revisionsbemærkninger'!D14","v":0},{"$f":"'Log til revisionsbemærkninger'!E14","v":0},{"$f":"'Log til revisionsbemærkninger'!F14","v":0},{"$f":"'Log til revisionsbemærkninger'!G14","v":0},{"$f":"'Log til revisionsbemærkninger'!H14","v":0},{"$f":"'Log til revisionsbemærkninger'!I14","v":0},{"$f":"'Log til revisionsbemærkninger'!J14","v":0},{"$f":"'Log til revisionsbemærkninger'!K14","v":0},{"$f":"'Log til revisionsbemærkninger'!L14","v":0},{"$f":"'Log til revisionsbemærkninger'!M14","v":0},{"$f":"'Log til revisionsbemærkninger'!N14","v":0},{"$f":"'Log til revisionsbemærkninger'!O14","v":0},{"$f":"'Log til revisionsbemærkninger'!P14","v":0},{"$f":"'Log til revisionsbemærkninger'!Q14","v":0},{"$f":"'Log til revisionsbemærkninger'!R14","v":0},{"$f":"'Log til revisionsbemærkninger'!S14","v":0},{"$f":"'Log til revisionsbemærkninger'!T14","v":"Ikke startet"},{"$f":"'Log til revisionsbemærkninger'!U14","v":0},{"$f":"'Log til revisionsbemærkninger'!V14","v":0},{"$f":"'Log til revisionsbemærkninger'!W14","v":0},{"$f":"'Log til revisionsbemærkninger'!X14","v":0}]
[null,{"$f":"'Log til revisionsbemærkninger'!C15","v":0},{"$f":"'Log til revisionsbemærkninger'!D15","v":0},{"$f":"'Log til revisionsbemærkninger'!E15","v":0},{"$f":"'Log til revisionsbemærkninger'!F15","v":0},{"$f":"'Log til revisionsbemærkninger'!G15","v":0},{"$f":"'Log til revisionsbemærkninger'!H15","v":0},{"$f":"'Log til revisionsbemærkninger'!I15","v":0},{"$f":"'Log til revisionsbemærkninger'!J15","v":0},{"$f":"'Log til revisionsbemærkninger'!K15","v":0},{"$f":"'Log til revisionsbemærkninger'!L15","v":0},{"$f":"'Log til revisionsbemærkninger'!M15","v":0},{"$f":"'Log til revisionsbemærkninger'!N15","v":0},{"$f":"'Log til revisionsbemærkninger'!O15","v":0},{"$f":"'Log til revisionsbemærkninger'!P15","v":0},{"$f":"'Log til revisionsbemærkninger'!Q15","v":0},{"$f":"'Log til revisionsbemærkninger'!R15","v":0},{"$f":"'Log til revisionsbemærkninger'!S15","v":0},{"$f":"'Log til revisionsbemærkninger'!T15","v":"Ikke startet"},{"$f":"'Log til revisionsbemærkninger'!U15","v":0},{"$f":"'Log til revisionsbemærkninger'!V15","v":0},{"$f":"'Log til revisionsbemærkninger'!W15","v":0},{"$f":"'Log til revisionsbemærkninger'!X15","v":0}]
[null,{"$f":"'Log til revisionsbemærkninger'!C16","v":0},{"$f":"'Log til revisionsbemærkninger'!D16","v":0},{"$f":"'Log til revisionsbemærkninger'!E16","v":0},{"$f":"'Log til revisionsbemærkninger'!F16","v":0},{"$f":"'Log til revisionsbemærkninger'!G16","v":0},{"$f":"'Log til revisionsbemærkninger'!H16","v":0},{"$f":"'Log til revisionsbemærkninger'!I16","v":0},{"$f":"'Log til revisionsbemærkninger'!J16","v":0},{"$f":"'Log til revisionsbemærkninger'!K16","v":0},{"$f":"'Log til revisionsbemærkninger'!L16","v":0},{"$f":"'Log til revisionsbemærkninger'!M16","v":0},{"$f":"'Log til revisionsbemærkninger'!N16","v":0},{"$f":"'Log til revisionsbemærkninger'!O16","v":0},{"$f":"'Log til revisionsbemærkninger'!P16","v":0},{"$f":"'Log til revisionsbemærkninger'!Q16","v":0},{"$f":"'Log til revisionsbemærkninger'!R16","v":0},{"$f":"'Log til revisionsbemærkninger'!S16","v":0},{"$f":"'Log til revisionsbemærkninger'!T16","v":"Ikke startet"},{"$f":"'Log til revisionsbemærkninger'!U16","v":0},{"$f":"'Log til revisionsbemærkninger'!V16","v":0},{"$f":"'Log til revisionsbemærkninger'!W16","v":0},{"$f":"'Log til revisionsbemærkninger'!X16","v":0}]
[null,{"$f":"'Log til revisionsbemærkninger'!C17","v":0},{"$f":"'Log til revisionsbemærkninger'!D17","v":0},{"$f":"'Log til revisionsbemærkninger'!E17","v":0},{"$f":"'Log til revisionsbemærkninger'!F17","v":0},{"$f":"'Log til revisionsbemærkninger'!G17","v":0},{"$f":"'Log til revisionsbemærkninger'!H17","v":0},{"$f":"'Log til revisionsbemærkninger'!I17","v":0},{"$f":"'Log til revisionsbemærkninger'!J17","v":0},{"$f":"'Log til revisionsbemærkninger'!K17","v":0},{"$f":"'Log til revisionsbemærkninger'!L17","v":0},{"$f":"'Log til revisionsbemærkninger'!M17","v":0},{"$f":"'Log til revisionsbemærkninger'!N17","v":0},{"$f":"'Log til revisionsbemærkninger'!O17","v":0},{"$f":"'Log til revisionsbemærkninger'!P17","v":0},{"$f":"'Log til revisionsbemærkninger'!Q17","v":0},{"$f":"'Log til revisionsbemærkninger'!R17","v":0},{"$f":"'Log til revisionsbemærkninger'!S17","v":0},{"$f":"'Log til revisionsbemærkninger'!T17","v":"Ikke startet"},{"$f":"'Log til revisionsbemærkninger'!U17","v":0},{"$f":"'Log til revisionsbemærkninger'!V17","v":0},{"$f":"'Log til revisionsbemærkninger'!W17","v":0},{"$f":"'Log til revisionsbemærkninger'!X17","v":0}]
[null,{"$f":"'Log til revisionsbemærkninger'!C18","v":0},{"$f":"'Log til revisionsbemærkninger'!D18","v":0},{"$f":"'Log til revisionsbemærkninger'!E18","v":0},{"$f":"'Log til revisionsbemærkninger'!F18","v":0},{"$f":"'Log til revisionsbemærkninger'!G18","v":0},{"$f":"'Log til revisionsbemærkninger'!H18","v":0},{"$f":"'Log til revisionsbemærkninger'!I18","v":0},{"$f":"'Log til revisionsbemærkninger'!J18","v":0},{"$f":"'Log til revisionsbemærkninger'!K18","v":0},{"$f":"'Log til revisionsbemærkninger'!L18","v":0},{"$f":"'Log til revisionsbemærkninger'!M18","v":0},{"$f":"'Log til revisionsbemærkninger'!N18","v":0},{"$f":"'Log til revisionsbemærkninger'!O18","v":0},{"$f":"'Log til revisionsbemærkninger'!P18","v":0},{"$f":"'Log til revisionsbemærkninger'!Q18","v":0},{"$f":"'Log til revisionsbemærkninger'!R18","v":0},{"$f":"'Log til revisionsbemærkninger'!S18","v":0},{"$f":"'Log til revisionsbemærkninger'!T18","v":"Ikke startet"},{"$f":"'Log til revisionsbemærkninger'!U18","v":0},{"$f":"'Log til revisionsbemærkninger'!V18","v":0},{"$f":"'Log til revisionsbemærkninger'!W18","v":0},{"$f":"'Log til revisionsbemærkninger'!X18","v":0}]
[null,{"$f":"'Log til revisionsbemærkninger'!C19","v":0},{"$f":"'Log til revisionsbemærkninger'!D19","v":0},{"$f":"'Log til revisionsbemærkninger'!E19","v":0},{"$f":"'Log til revisionsbemærkninger'!F19","v":0},{"$f":"'Log til revisionsbemærkninger'!G19","v":0},{"$f":"'Log til revisionsbemærkninger'!H19","v":0},{"$f":"'Log til revisionsbemærkninger'!I19","v":0},{"$f":"'Log til revisionsbemærkninger'!J19","v":0},{"$f":"'Log til revisionsbemærkninger'!K19","v":0},{"$f":"'Log til revisionsbemærkninger'!L19","v":0},{"$f":"'Log til revisionsbemærkninger'!M19","v":0},{"$f":"'Log til revisionsbemærkninger'!N19","v":0},{"$f":"'Log til revisionsbemærkninger'!O19","v":0},{"$f":"'Log til revisionsbemærkninger'!P19","v":0},{"$f":"'Log til revisionsbemærkninger'!Q19","v":0},{"$f":"'Log til revisionsbemærkninger'!R19","v":0},{"$f":"'Log til revisionsbemærkninger'!S19","v":0},{"$f":"'Log til revisionsbemærkninger'!T19","v":"Ikke startet"},{"$f":"'Log til revisionsbemærkninger'!U19","v":0},{"$f":"'Log til revisionsbemærkninger'!V19","v":0},{"$f":"'Log til revisionsbemærkninger'!W19","v":0},{"$f":"'Log til revisionsbemærkninger'!X19","v":0}]
[null,{"$f":"'Log til revisionsbemærkninger'!C20","v":0},{"$f":"'Log til revisionsbemærkninger'!D20","v":0},{"$f":"'Log til revisionsbemærkninger'!E20","v":0},{"$f":"'Log til revisionsbemærkninger'!F20","v":0},{"$f":"'Log til revisionsbemærkninger'!G20","v":0},{"$f":"'Log til revisionsbemærkninger'!H20","v":0},{"$f":"'Log til revisionsbemærkninger'!I20","v":0},{"$f":"'Log til revisionsbemærkninger'!J20","v":0},{"$f":"'Log til revisionsbemærkninger'!K20","v":0},{"$f":"'Log til revisionsbemærkninger'!L20","v":0},{"$f":"'Log til revisionsbemærkninger'!M20","v":0},{"$f":"'Log til revisionsbemærkninger'!N20","v":0},{"$f":"'Log til revisionsbemærkninger'!O20","v":0},{"$f":"'Log til revisionsbemærkninger'!P20","v":0},{"$f":"'Log til revisionsbemærkninger'!Q20","v":0},{"$f":"'Log til revisionsbemærkninger'!R20","v":0},{"$f":"'Log til revisionsbemærkninger'!S20","v":0},{"$f":"'Log til revisionsbemærkninger'!T20","v":"Ikke startet"},{"$f":"'Log til revisionsbemærkninger'!U20","v":0},{"$f":"'Log til revisionsbemærkninger'!V20","v":0},{"$f":"'Log til revisionsbemærkninger'!W20","v":0},{"$f":"'Log til revisionsbemærkninger'!X20","v":0}]
[null,{"$f":"'Log til revisionsbemærkninger'!C21","v":0},{"$f":"'Log til revisionsbemærkninger'!D21","v":0},{"$f":"'Log til revisionsbemærkninger'!E21","v":0},{"$f":"'Log til revisionsbemærkninger'!F21","v":0},{"$f":"'Log til revisionsbemærkninger'!G21","v":0},{"$f":"'Log til revisionsbemærkninger'!H21","v":0},{"$f":"'Log til revisionsbemærkninger'!I21","v":0},{"$f":"'Log til revisionsbemærkninger'!J21","v":0},{"$f":"'Log til revisionsbemærkninger'!K21","v":0},{"$f":"'Log til revisionsbemærkninger'!L21","v":0},{"$f":"'Log til revisionsbemærkninger'!M21","v":0},{"$f":"'Log til revisionsbemærkninger'!N21","v":0},{"$f":"'Log til revisionsbemærkninger'!O21","v":0},{"$f":"'Log til revisionsbemærkninger'!P21","v":0},{"$f":"'Log til revisionsbemærkninger'!Q21","v":0},{"$f":"'Log til revisionsbemærkninger'!R21","v":0},{"$f":"'Log til revisionsbemærkninger'!S21","v":0},{"$f":"'Log til revisionsbemærkninger'!T21","v":"Ikke startet"},{"$f":"'Log til revisionsbemærkninger'!U21","v":0},{"$f":"'Log til revisionsbemærkninger'!V21","v":0},{"$f":"'Log til revisionsbemærkninger'!W21","v":0},{"$f":"'Log til revisionsbemærkninger'!X21","v":0}]
[null,{"$f":"'Log til revisionsbemærkninger'!C22","v":0},{"$f":"'Log til revisionsbemærkninger'!D22","v":0},{"$f":"'Log til revisionsbemærkninger'!E22","v":0},{"$f":"'Log til revisionsbemærkninger'!F22","v":0},{"$f":"'Log til revisionsbemærkninger'!G22","v":0},{"$f":"'Log til revisionsbemærkninger'!H22","v":0},{"$f":"'Log til revisionsbemærkninger'!I22","v":0},{"$f":"'Log til revisionsbemærkninger'!J22","v":0},{"$f":"'Log til revisionsbemærkninger'!K22","v":0},{"$f":"'Log til revisionsbemærkninger'!L22","v":0},{"$f":"'Log til revisionsbemærkninger'!M22","v":0},{"$f":"'Log til revisionsbemærkninger'!N22","v":0},{"$f":"'Log til revisionsbemærkninger'!O22","v":0},{"$f":"'Log til revisionsbemærkninger'!P22","v":0},{"$f":"'Log til revisionsbemærkninger'!Q22","v":0},{"$f":"'Log til revisionsbemærkninger'!R22","v":0},{"$f":"'Log til revisionsbemærkninger'!S22","v":0},{"$f":"'Log til revisionsbemærkninger'!T22","v":"Ikke startet"},{"$f":"'Log til revisionsbemærkninger'!U22","v":0},{"$f":"'Log til revisionsbemærkninger'!V22","v":0},{"$f":"'Log til revisionsbemærkninger'!W22","v":0},{"$f":"'Log til revisionsbemærkninger'!X22","v":0}]
[null,{"$f":"'Log til revisionsbemærkninger'!C23","v":0},{"$f":"'Log til revisionsbemærkninger'!D23","v":0},{"$f":"'Log til revisionsbemærkninger'!E23","v":0},{"$f":"'Log til revisionsbemærkninger'!F23","v":0},{"$f":"'Log til revisionsbemærkninger'!G23","v":0},{"$f":"'Log til revisionsbemærkninger'!H23","v":0},{"$f":"'Log til revisionsbemærkninger'!I23","v":0},{"$f":"'Log til revisionsbemærkninger'!J23","v":0},{"$f":"'Log til revisionsbemærkninger'!K23","v":0},{"$f":"'Log til revisionsbemærkninger'!L23","v":0},{"$f":"'Log til revisionsbemærkninger'!M23","v":0},{"$f":"'Log til revisionsbemærkninger'!N23","v":0},{"$f":"'Log til revisionsbemærkninger'!O23","v":0},{"$f":"'Log til revisionsbemærkninger'!P23","v":0},{"$f":"'Log til revisionsbemærkninger'!Q23","v":0},{"$f":"'Log til revisionsbemærkninger'!R23","v":0},{"$f":"'Log til revisionsbemærkninger'!S23","v":0},{"$f":"'Log til revisionsbemærkninger'!T23","v":"Ikke startet"},{"$f":"'Log til revisionsbemærkninger'!U23","v":0},{"$f":"'Log til revisionsbemærkninger'!V23","v":0},{"$f":"'Log til revisionsbemærkninger'!W23","v":0},{"$f":"'Log til revisionsbemærkninger'!X23","v":0}]
[null,{"$f":"'Log til revisionsbemærkninger'!C24","v":0},{"$f":"'Log til revisionsbemærkninger'!D24","v":0},{"$f":"'Log til revisionsbemærkninger'!E24","v":0},{"$f":"'Log til revisionsbemærkninger'!F24","v":0},{"$f":"'Log til revisionsbemærkninger'!G24","v":0},{"$f":"'Log til revisionsbemærkninger'!H24","v":0},{"$f":"'Log til revisionsbemærkninger'!I24","v":0},{"$f":"'Log til revisionsbemærkninger'!J24","v":0},{"$f":"'Log til revisionsbemærkninger'!K24","v":0},{"$f":"'Log til revisionsbemærkninger'!L24","v":0},{"$f":"'Log til revisionsbemærkninger'!M24","v":0},{"$f":"'Log til revisionsbemærkninger'!N24","v":0},{"$f":"'Log til revisionsbemærkninger'!O24","v":0},{"$f":"'Log til revisionsbemærkninger'!P24","v":0},{"$f":"'Log til revisionsbemærkninger'!Q24","v":0},{"$f":"'Log til revisionsbemærkninger'!R24","v":0},{"$f":"'Log til revisionsbemærkninger'!S24","v":0},{"$f":"'Log til revisionsbemærkninger'!T24","v":"Ikke startet"},{"$f":"'Log til revisionsbemærkninger'!U24","v":0},{"$f":"'Log til revisionsbemærkninger'!V24","v":0},{"$f":"'Log til revisionsbemærkninger'!W24","v":0},{"$f":"'Log til revisionsbemærkninger'!X24","v":0}]
[null,{"$f":"'Log til revisionsbemærkninger'!C25","v":0},{"$f":"'Log til revisionsbemærkninger'!D25","v":0},{"$f":"'Log til revisionsbemærkninger'!E25","v":0},{"$f":"'Log til revisionsbemærkninger'!F25","v":0},{"$f":"'Log til revisionsbemærkninger'!G25","v":0},{"$f":"'Log til revisionsbemærkninger'!H25","v":0},{"$f":"'Log til revisionsbemærkninger'!I25","v":0},{"$f":"'Log til revisionsbemærkninger'!J25","v":0},{"$f":"'Log til revisionsbemærkninger'!K25","v":0},{"$f":"'Log til revisionsbemærkninger'!L25","v":0},{"$f":"'Log til revisionsbemærkninger'!M25","v":0},{"$f":"'Log til revisionsbemærkninger'!N25","v":0},{"$f":"'Log til revisionsbemærkninger'!O25","v":0},{"$f":"'Log til revisionsbemærkninger'!P25","v":0},{"$f":"'Log til revisionsbemærkninger'!Q25","v":0},{"$f":"'Log til revisionsbemærkninger'!R25","v":0},{"$f":"'Log til revisionsbemærkninger'!S25","v":0},{"$f":"'Log til revisionsbemærkninger'!T25","v":"Ikke startet"},{"$f":"'Log til revisionsbemærkninger'!U25","v":0},{"$f":"'Log til revisionsbemærkninger'!V25","v":0},{"$f":"'Log til revisionsbemærkninger'!W25","v":0},{"$f":"'Log til revisionsbemærkninger'!X25","v":0}]
[null,{"$f":"'Log til revisionsbemærkninger'!C26","v":0},{"$f":"'Log til revisionsbemærkninger'!D26","v":0},{"$f":"'Log til revisionsbemærkninger'!E26","v":0},{"$f":"'Log til revisionsbemærkninger'!F26","v":0},{"$f":"'Log til revisionsbemærkninger'!G26","v":0},{"$f":"'Log til revisionsbemærkninger'!H26","v":0},{"$f":"'Log til revisionsbemærkninger'!I26","v":0},{"$f":"'Log til revisionsbemærkninger'!J26","v":0},{"$f":"'Log til revisionsbemærkninger'!K26","v":0},{"$f":"'Log til revisionsbemærkninger'!L26","v":0},{"$f":"'Log til revisionsbemærkninger'!M26","v":0},{"$f":"'Log til revisionsbemærkninger'!N26","v":0},{"$f":"'Log til revisionsbemærkninger'!O26","v":0},{"$f":"'Log til revisionsbemærkninger'!P26","v":0},{"$f":"'Log til revisionsbemærkninger'!Q26","v":0},{"$f":"'Log til revisionsbemærkninger'!R26","v":0},{"$f":"'Log til revisionsbemærkninger'!S26","v":0},{"$f":"'Log til revisionsbemærkninger'!T26","v":"Ikke startet"},{"$f":"'Log til revisionsbemærkninger'!U26","v":0},{"$f":"'Log til revisionsbemærkninger'!V26","v":0},{"$f":"'Log til revisionsbemærkninger'!W26","v":0},{"$f":"'Log til revisionsbemærkninger'!X26","v":0}]
[null,{"$f":"'Log til revisionsbemærkninger'!C27","v":0},{"$f":"'Log til revisionsbemærkninger'!D27","v":0},{"$f":"'Log til revisionsbemærkninger'!E27","v":0},{"$f":"'Log til revisionsbemærkninger'!F27","v":0},{"$f":"'Log til revisionsbemærkninger'!G27","v":0},{"$f":"'Log til revisionsbemærkninger'!H27","v":0},{"$f":"'Log til revisionsbemærkninger'!I27","v":0},{"$f":"'Log til revisionsbemærkninger'!J27","v":0},{"$f":"'Log til revisionsbemærkninger'!K27","v":0},{"$f":"'Log til revisionsbemærkninger'!L27","v":0},{"$f":"'Log til revisionsbemærkninger'!M27","v":0},{"$f":"'Log til revisionsbemærkninger'!N27","v":0},{"$f":"'Log til revisionsbemærkninger'!O27","v":0},{"$f":"'Log til revisionsbemærkninger'!P27","v":0},{"$f":"'Log til revisionsbemærkninger'!Q27","v":0},{"$f":"'Log til revisionsbemærkninger'!R27","v":0},{"$f":"'Log til revisionsbemærkninger'!S27","v":0},{"$f":"'Log til revisionsbemærkninger'!T27","v":"Ikke startet"},{"$f":"'Log til revisionsbemærkninger'!U27","v":0},{"$f":"'Log til revisionsbemærkninger'!V27","v":0},{"$f":"'Log til revisionsbemærkninger'!W27","v":0},{"$f":"'Log til revisionsbemærkninger'!X27","v":0}]
[null,{"$f":"'Log til revisionsbemærkninger'!C28","v":0},{"$f":"'Log til revisionsbemærkninger'!D28","v":0},{"$f":"'Log til revisionsbemærkninger'!E28","v":0},{"$f":"'Log til revisionsbemærkninger'!F28","v":0},{"$f":"'Log til revisionsbemærkninger'!G28","v":0},{"$f":"'Log til revisionsbemærkninger'!H28","v":0},{"$f":"'Log til revisionsbemærkninger'!I28","v":0},{"$f":"'Log til revisionsbemærkninger'!J28","v":0},{"$f":"'Log til revisionsbemærkninger'!K28","v":0},{"$f":"'Log til revisionsbemærkninger'!L28","v":0},{"$f":"'Log til revisionsbemærkninger'!M28","v":0},{"$f":"'Log til revisionsbemærkninger'!N28","v":0},{"$f":"'Log til revisionsbemærkninger'!O28","v":0},{"$f":"'Log til revisionsbemærkninger'!P28","v":0},{"$f":"'Log til revisionsbemærkninger'!Q28","v":0},{"$f":"'Log til revisionsbemærkninger'!R28","v":0},{"$f":"'Log til revisionsbemærkninger'!S28","v":0},{"$f":"'Log til revisionsbemærkninger'!T28","v":"Ikke startet"},{"$f":"'Log til revisionsbemærkninger'!U28","v":0},{"$f":"'Log til revisionsbemærkninger'!V28","v":0},{"$f":"'Log til revisionsbemærkninger'!W28","v":0},{"$f":"'Log til revisionsbemærkninger'!X28","v":0}]
[null,{"$f":"'Log til revisionsbemærkninger'!C29","v":0},{"$f":"'Log til revisionsbemærkninger'!D29","v":0},{"$f":"'Log til revisionsbemærkninger'!E29","v":0},{"$f":"'Log til revisionsbemærkninger'!F29","v":0},{"$f":"'Log til revisionsbemærkninger'!G29","v":0},{"$f":"'Log til revisionsbemærkninger'!H29","v":0},{"$f":"'Log til revisionsbemærkninger'!I29","v":0},{"$f":"'Log til revisionsbemærkninger'!J29","v":0},{"$f":"'Log til revisionsbemærkninger'!K29","v":0},{"$f":"'Log til revisionsbemærkninger'!L29","v":0},{"$f":"'Log til revisionsbemærkninger'!M29","v":0},{"$f":"'Log til revisionsbemærkninger'!N29","v":0},{"$f":"'Log til revisionsbemærkninger'!O29","v":0},{"$f":"'Log til revisionsbemærkninger'!P29","v":0},{"$f":"'Log til revisionsbemærkninger'!Q29","v":0},{"$f":"'Log til revisionsbemærkninger'!R29","v":0},{"$f":"'Log til revisionsbemærkninger'!S29","v":0},{"$f":"'Log til revisionsbemærkninger'!T29","v":"Ikke startet"},{"$f":"'Log til revisionsbemærkninger'!U29","v":0},{"$f":"'Log til revisionsbemærkninger'!V29","v":0},{"$f":"'Log til revisionsbemærkninger'!W29","v":0},{"$f":"'Log til revisionsbemærkninger'!X29","v":0}]
[null,{"$f":"'Log til revisionsbemærkninger'!C30","v":0},{"$f":"'Log til revisionsbemærkninger'!D30","v":0},{"$f":"'Log til revisionsbemærkninger'!E30","v":0},{"$f":"'Log til revisionsbemærkninger'!F30","v":0},{"$f":"'Log til revisionsbemærkninger'!G30","v":0},{"$f":"'Log til revisionsbemærkninger'!H30","v":0},{"$f":"'Log til revisionsbemærkninger'!I30","v":0},{"$f":"'Log til revisionsbemærkninger'!J30","v":0},{"$f":"'Log til revisionsbemærkninger'!K30","v":0},{"$f":"'Log til revisionsbemærkninger'!L30","v":0},{"$f":"'Log til revisionsbemærkninger'!M30","v":0},{"$f":"'Log til revisionsbemærkninger'!N30","v":0},{"$f":"'Log til revisionsbemærkninger'!O30","v":0},{"$f":"'Log til revisionsbemærkninger'!P30","v":0},{"$f":"'Log til revisionsbemærkninger'!Q30","v":0},{"$f":"'Log til revisionsbemærkninger'!R30","v":0},{"$f":"'Log til revisionsbemærkninger'!S30","v":0},{"$f":"'Log til revisionsbemærkninger'!T30","v":"Ikke startet"},{"$f":"'Log til revisionsbemærkninger'!U30","v":0},{"$f":"'Log til revisionsbemærkninger'!V30","v":0},{"$f":"'Log til revisionsbemærkninger'!W30","v":0},{"$f":"'Log til revisionsbemærkninger'!X30","v":0}]
[null,{"$f":"'Log til revisionsbemærkninger'!C31","v":0},{"$f":"'Log til revisionsbemærkninger'!D31","v":0},{"$f":"'Log til revisionsbemærkninger'!E31","v":0},{"$f":"'Log til revisionsbemærkninger'!F31","v":0},{"$f":"'Log til revisionsbemærkninger'!G31","v":0},{"$f":"'Log til revisionsbemærkninger'!H31","v":0},{"$f":"'Log til revisionsbemærkninger'!I31","v":0},{"$f":"'Log til revisionsbemærkninger'!J31","v":0},{"$f":"'Log til revisionsbemærkninger'!K31","v":0},{"$f":"'Log til revisionsbemærkninger'!L31","v":0},{"$f":"'Log til revisionsbemærkninger'!M31","v":0},{"$f":"'Log til revisionsbemærkninger'!N31","v":0},{"$f":"'Log til revisionsbemærkninger'!O31","v":0},{"$f":"'Log til revisionsbemærkninger'!P31","v":0},{"$f":"'Log til revisionsbemærkninger'!Q31","v":0},{"$f":"'Log til revisionsbemærkninger'!R31","v":0},{"$f":"'Log til revisionsbemærkninger'!S31","v":0},{"$f":"'Log til revisionsbemærkninger'!T31","v":"Ikke startet"},{"$f":"'Log til revisionsbemærkninger'!U31","v":0},{"$f":"'Log til revisionsbemærkninger'!V31","v":0},{"$f":"'Log til revisionsbemærkninger'!W31","v":0},{"$f":"'Log til revisionsbemærkninger'!X31","v":0}]
[null,{"$f":"'Log til revisionsbemærkninger'!C32","v":0},{"$f":"'Log til revisionsbemærkninger'!D32","v":0},{"$f":"'Log til revisionsbemærkninger'!E32","v":0},{"$f":"'Log til revisionsbemærkninger'!F32","v":0},{"$f":"'Log til revisionsbemærkninger'!G32","v":0},{"$f":"'Log til revisionsbemærkninger'!H32","v":0},{"$f":"'Log til revisionsbemærkninger'!I32","v":0},{"$f":"'Log til revisionsbemærkninger'!J32","v":0},{"$f":"'Log til revisionsbemærkninger'!K32","v":0},{"$f":"'Log til revisionsbemærkninger'!L32","v":0},{"$f":"'Log til revisionsbemærkninger'!M32","v":0},{"$f":"'Log til revisionsbemærkninger'!N32","v":0},{"$f":"'Log til revisionsbemærkninger'!O32","v":0},{"$f":"'Log til revisionsbemærkninger'!P32","v":0},{"$f":"'Log til revisionsbemærkninger'!Q32","v":0},{"$f":"'Log til revisionsbemærkninger'!R32","v":0},{"$f":"'Log til revisionsbemærkninger'!S32","v":0},{"$f":"'Log til revisionsbemærkninger'!T32","v":"Ikke startet"},{"$f":"'Log til revisionsbemærkninger'!U32","v":0},{"$f":"'Log til revisionsbemærkninger'!V32","v":0},{"$f":"'Log til revisionsbemærkninger'!W32","v":0},{"$f":"'Log til revisionsbemærkninger'!X32","v":0}]
[null,{"$f":"'Log til revisionsbemærkninger'!C33","v":0},{"$f":"'Log til revisionsbemærkninger'!D33","v":0},{"$f":"'Log til revisionsbemærkninger'!E33","v":0},{"$f":"'Log til revisionsbemærkninger'!F33","v":0},{"$f":"'Log til revisionsbemærkninger'!G33","v":0},{"$f":"'Log til revisionsbemærkninger'!H33","v":0},{"$f":"'Log til revisionsbemærkninger'!I33","v":0},{"$f":"'Log til revisionsbemærkninger'!J33","v":0},{"$f":"'Log til revisionsbemærkninger'!K33","v":0},{"$f":"'Log til revisionsbemærkninger'!L33","v":0},{"$f":"'Log til revisionsbemærkninger'!M33","v":0},{"$f":"'Log til revisionsbemærkninger'!N33","v":0},{"$f":"'Log til revisionsbemærkninger'!O33","v":0},{"$f":"'Log til revisionsbemærkninger'!P33","v":0},{"$f":"'Log til revisionsbemærkninger'!Q33","v":0},{"$f":"'Log til revisionsbemærkninger'!R33","v":0},{"$f":"'Log til revisionsbemærkninger'!S33","v":0},{"$f":"'Log til revisionsbemærkninger'!T33","v":"Ikke startet"},{"$f":"'Log til revisionsbemærkninger'!U33","v":0},{"$f":"'Log til revisionsbemærkninger'!V33","v":0},{"$f":"'Log til revisionsbemærkninger'!W33","v":0},{"$f":"'Log til revisionsbemærkninger'!X33","v":0}]
[null,{"$f":"'Log til revisionsbemærkninger'!C34","v":0},{"$f":"'Log til revisionsbemærkninger'!D34","v":0},{"$f":"'Log til revisionsbemærkninger'!E34","v":0},{"$f":"'Log til revisionsbemærkninger'!F34","v":0},{"$f":"'Log til revisionsbemærkninger'!G34","v":0},{"$f":"'Log til revisionsbemærkninger'!H34","v":0},{"$f":"'Log til revisionsbemærkninger'!I34","v":0},{"$f":"'Log til revisionsbemærkninger'!J34","v":0},{"$f":"'Log til revisionsbemærkninger'!K34","v":0},{"$f":"'Log til revisionsbemærkninger'!L34","v":0},{"$f":"'Log til revisionsbemærkninger'!M34","v":0},{"$f":"'Log til revisionsbemærkninger'!N34","v":0},{"$f":"'Log til revisionsbemærkninger'!O34","v":0},{"$f":"'Log til revisionsbemærkninger'!P34","v":0},{"$f":"'Log til revisionsbemærkninger'!Q34","v":0},{"$f":"'Log til revisionsbemærkninger'!R34","v":0},{"$f":"'Log til revisionsbemærkninger'!S34","v":0},{"$f":"'Log til revisionsbemærkninger'!T34","v":"Ikke startet"},{"$f":"'Log til revisionsbemærkninger'!U34","v":0},{"$f":"'Log til revisionsbemærkninger'!V34","v":0},{"$f":"'Log til revisionsbemærkninger'!W34","v":0},{"$f":"'Log til revisionsbemærkninger'!X34","v":0}]
[null,{"$f":"'Log til revisionsbemærkninger'!C35","v":0},{"$f":"'Log til revisionsbemærkninger'!D35","v":0},{"$f":"'Log til revisionsbemærkninger'!E35","v":0},{"$f":"'Log til revisionsbemærkninger'!F35","v":0},{"$f":"'Log til revisionsbemærkninger'!G35","v":0},{"$f":"'Log til revisionsbemærkninger'!H35","v":0},{"$f":"'Log til revisionsbemærkninger'!I35","v":0},{"$f":"'Log til revisionsbemærkninger'!J35","v":0},{"$f":"'Log til revisionsbemærkninger'!K35","v":0},{"$f":"'Log til revisionsbemærkninger'!L35","v":0},{"$f":"'Log til revisionsbemærkninger'!M35","v":0},{"$f":"'Log til revisionsbemærkninger'!N35","v":0},{"$f":"'Log til revisionsbemærkninger'!O35","v":0},{"$f":"'Log til revisionsbemærkninger'!P35","v":0},{"$f":"'Log til revisionsbemærkninger'!Q35","v":0},{"$f":"'Log til revisionsbemærkninger'!R35","v":0},{"$f":"'Log til revisionsbemærkninger'!S35","v":0},{"$f":"'Log til revisionsbemærkninger'!T35","v":"Ikke startet"},{"$f":"'Log til revisionsbemærkninger'!U35","v":0},{"$f":"'Log til revisionsbemærkninger'!V35","v":0},{"$f":"'Log til revisionsbemærkninger'!W35","v":0},{"$f":"'Log til revisionsbemærkninger'!X35","v":0}]
[null,{"$f":"'Log til revisionsbemærkninger'!C36","v":0},{"$f":"'Log til revisionsbemærkninger'!D36","v":0},{"$f":"'Log til revisionsbemærkninger'!E36","v":0},{"$f":"'Log til revisionsbemærkninger'!F36","v":0},{"$f":"'Log til revisionsbemærkninger'!G36","v":0},{"$f":"'Log til revisionsbemærkninger'!H36","v":0},{"$f":"'Log til revisionsbemærkninger'!I36","v":0},{"$f":"'Log til revisionsbemærkninger'!J36","v":0},{"$f":"'Log til revisionsbemærkninger'!K36","v":0},{"$f":"'Log til revisionsbemærkninger'!L36","v":0},{"$f":"'Log til revisionsbemærkninger'!M36","v":0},{"$f":"'Log til revisionsbemærkninger'!N36","v":0},{"$f":"'Log til revisionsbemærkninger'!O36","v":0},{"$f":"'Log til revisionsbemærkninger'!P36","v":0},{"$f":"'Log til revisionsbemærkninger'!Q36","v":0},{"$f":"'Log til revisionsbemærkninger'!R36","v":0},{"$f":"'Log til revisionsbemærkninger'!S36","v":0},{"$f":"'Log til revisionsbemærkninger'!T36","v":"Ikke startet"},{"$f":"'Log til revisionsbemærkninger'!U36","v":0},{"$f":"'Log til revisionsbemærkninger'!V36","v":0},{"$f":"'Log til revisionsbemærkninger'!W36","v":0},{"$f":"'Log til revisionsbemærkninger'!X36","v":0}]
[null,{"$f":"'Log til revisionsbemærkninger'!C37","v":0},{"$f":"'Log til revisionsbemærkninger'!D37","v":0},{"$f":"'Log til revisionsbemærkninger'!E37","v":0},{"$f":"'Log til revisionsbemærkninger'!F37","v":0},{"$f":"'Log til revisionsbemærkninger'!G37","v":0},{"$f":"'Log til revisionsbemærkninger'!H37","v":0},{"$f":"'Log til revisionsbemærkninger'!I37","v":0},{"$f":"'Log til revisionsbemærkninger'!J37","v":0},{"$f":"'Log til revisionsbemærkninger'!K37","v":0},{"$f":"'Log til revisionsbemærkninger'!L37","v":0},{"$f":"'Log til revisionsbemærkninger'!M37","v":0},{"$f":"'Log til revisionsbemærkninger'!N37","v":0},{"$f":"'Log til revisionsbemærkninger'!O37","v":0},{"$f":"'Log til revisionsbemærkninger'!P37","v":0},{"$f":"'Log til revisionsbemærkninger'!Q37","v":0},{"$f":"'Log til revisionsbemærkninger'!R37","v":0},{"$f":"'Log til revisionsbemærkninger'!S37","v":0},{"$f":"'Log til revisionsbemærkninger'!T37","v":"Ikke startet"},{"$f":"'Log til revisionsbemærkninger'!U37","v":0},{"$f":"'Log til revisionsbemærkninger'!V37","v":0},{"$f":"'Log til revisionsbemærkninger'!W37","v":0},{"$f":"'Log til revisionsbemærkninger'!X37","v":0}]
[null,{"$f":"'Log til revisionsbemærkninger'!C38","v":0},{"$f":"'Log til revisionsbemærkninger'!D38","v":0},{"$f":"'Log til revisionsbemærkninger'!E38","v":0},{"$f":"'Log til revisionsbemærkninger'!F38","v":0},{"$f":"'Log til revisionsbemærkninger'!G38","v":0},{"$f":"'Log til revisionsbemærkninger'!H38","v":0},{"$f":"'Log til revisionsbemærkninger'!I38","v":0},{"$f":"'Log til revisionsbemærkninger'!J38","v":0},{"$f":"'Log til revisionsbemærkninger'!K38","v":0},{"$f":"'Log til revisionsbemærkninger'!L38","v":0},{"$f":"'Log til revisionsbemærkninger'!M38","v":0},{"$f":"'Log til revisionsbemærkninger'!N38","v":0},{"$f":"'Log til revisionsbemærkninger'!O38","v":0},{"$f":"'Log til revisionsbemærkninger'!P38","v":0},{"$f":"'Log til revisionsbemærkninger'!Q38","v":0},{"$f":"'Log til revisionsbemærkninger'!R38","v":0},{"$f":"'Log til revisionsbemærkninger'!S38","v":0},{"$f":"'Log til revisionsbemærkninger'!T38","v":"Ikke startet"},{"$f":"'Log til revisionsbemærkninger'!U38","v":0},{"$f":"'Log til revisionsbemærkninger'!V38","v":0},{"$f":"'Log til revisionsbemærkninger'!W38","v":0},{"$f":"'Log til revisionsbemærkninger'!X38","v":0}]
[null,{"$f":"'Log til revisionsbemærkninger'!C39","v":0},{"$f":"'Log til revisionsbemærkninger'!D39","v":0},{"$f":"'Log til revisionsbemærkninger'!E39","v":0},{"$f":"'Log til revisionsbemærkninger'!F39","v":0},{"$f":"'Log til revisionsbemærkninger'!G39","v":0},{"$f":"'Log til revisionsbemærkninger'!H39","v":0},{"$f":"'Log til revisionsbemærkninger'!I39","v":0},{"$f":"'Log til revisionsbemærkninger'!J39","v":0},{"$f":"'Log til revisionsbemærkninger'!K39","v":0},{"$f":"'Log til revisionsbemærkninger'!L39","v":0},{"$f":"'Log til revisionsbemærkninger'!M39","v":0},{"$f":"'Log til revisionsbemærkninger'!N39","v":0},{"$f":"'Log til revisionsbemærkninger'!O39","v":0},{"$f":"'Log til revisionsbemærkninger'!P39","v":0},{"$f":"'Log til revisionsbemærkninger'!Q39","v":0},{"$f":"'Log til revisionsbemærkninger'!R39","v":0},{"$f":"'Log til revisionsbemærkninger'!S39","v":0},{"$f":"'Log til revisionsbemærkninger'!T39","v":"Ikke startet"},{"$f":"'Log til revisionsbemærkninger'!U39","v":0},{"$f":"'Log til revisionsbemærkninger'!V39","v":0},{"$f":"'Log til revisionsbemærkninger'!W39","v":0},{"$f":"'Log til revisionsbemærkninger'!X39","v":0}]
[null,{"$f":"'Log til revisionsbemærkninger'!C40","v":0},{"$f":"'Log til revisionsbemærkninger'!D40","v":0},{"$f":"'Log til revisionsbemærkninger'!E40","v":0},{"$f":"'Log til revisionsbemærkninger'!F40","v":0},{"$f":"'Log til revisionsbemærkninger'!G40","v":0},{"$f":"'Log til revisionsbemærkninger'!H40","v":0},{"$f":"'Log til revisionsbemærkninger'!I40","v":0},{"$f":"'Log til revisionsbemærkninger'!J40","v":0},{"$f":"'Log til revisionsbemærkninger'!K40","v":0},{"$f":"'Log til revisionsbemærkninger'!L40","v":0},{"$f":"'Log til revisionsbemærkninger'!M40","v":0},{"$f":"'Log til revisionsbemærkninger'!N40","v":0},{"$f":"'Log til revisionsbemærkninger'!O40","v":0},{"$f":"'Log til revisionsbemærkninger'!P40","v":0},{"$f":"'Log til revisionsbemærkninger'!Q40","v":0},{"$f":"'Log til revisionsbemærkninger'!R40","v":0},{"$f":"'Log til revisionsbemærkninger'!S40","v":0},{"$f":"'Log til revisionsbemærkninger'!T40","v":"Ikke startet"},{"$f":"'Log til revisionsbemærkninger'!U40","v":0},{"$f":"'Log til revisionsbemærkninger'!V40","v":0},{"$f":"'Log til revisionsbemærkninger'!W40","v":0},{"$f":"'Log til revisionsbemærkninger'!X40","v":0}]
[null,{"$f":"'Log til revisionsbemærkninger'!C41","v":0},{"$f":"'Log til revisionsbemærkninger'!D41","v":0},{"$f":"'Log til revisionsbemærkninger'!E41","v":0},{"$f":"'Log til revisionsbemærkninger'!F41","v":0},{"$f":"'Log til revisionsbemærkninger'!G41","v":0},{"$f":"'Log til revisionsbemærkninger'!H41","v":0},{"$f":"'Log til revisionsbemærkninger'!I41","v":0},{"$f":"'Log til revisionsbemærkninger'!J41","v":0},{"$f":"'Log til revisionsbemærkninger'!K41","v":0},{"$f":"'Log til revisionsbemærkninger'!L41","v":0},{"$f":"'Log til revisionsbemærkninger'!M41","v":0},{"$f":"'Log til revisionsbemærkninger'!N41","v":0},{"$f":"'Log til revisionsbemærkninger'!O41","v":0},{"$f":"'Log til revisionsbemærkninger'!P41","v":0},{"$f":"'Log til revisionsbemærkninger'!Q41","v":0},{"$f":"'Log til revisionsbemærkninger'!R41","v":0},{"$f":"'Log til revisionsbemærkninger'!S41","v":0},{"$f":"'Log til revisionsbemærkninger'!T41","v":"Ikke startet"},{"$f":"'Log til revisionsbemærkninger'!U41","v":0},{"$f":"'Log til revisionsbemærkninger'!V41","v":0},{"$f":"'Log til revisionsbemærkninger'!W41","v":0},{"$f":"'Log til revisionsbemærkninger'!X41","v":0}]
[null,{"$f":"'Log til revisionsbemærkninger'!C42","v":0},{"$f":"'Log til revisionsbemærkninger'!D42","v":0},{"$f":"'Log til revisionsbemærkninger'!E42","v":0},{"$f":"'Log til revisionsbemærkninger'!F42","v":0},{"$f":"'Log til revisionsbemærkninger'!G42","v":0},{"$f":"'Log til revisionsbemærkninger'!H42","v":0},{"$f":"'Log til revisionsbemærkninger'!I42","v":0},{"$f":"'Log til revisionsbemærkninger'!J42","v":0},{"$f":"'Log til revisionsbemærkninger'!K42","v":0},{"$f":"'Log til revisionsbemærkninger'!L42","v":0},{"$f":"'Log til revisionsbemærkninger'!M42","v":0},{"$f":"'Log til revisionsbemærkninger'!N42","v":0},{"$f":"'Log til revisionsbemærkninger'!O42","v":0},{"$f":"'Log til revisionsbemærkninger'!P42","v":0},{"$f":"'Log til revisionsbemærkninger'!Q42","v":0},{"$f":"'Log til revisionsbemærkninger'!R42","v":0},{"$f":"'Log til revisionsbemærkninger'!S42","v":0},{"$f":"'Log til revisionsbemærkninger'!T42","v":"Ikke startet"},{"$f":"'Log til revisionsbemærkninger'!U42","v":0},{"$f":"'Log til revisionsbemærkninger'!V42","v":0},{"$f":"'Log til revisionsbemærkninger'!W42","v":0},{"$f":"'Log til revisionsbemærkninger'!X42","v":0}]
[null,{"$f":"'Log til revisionsbemærkninger'!C43","v":0},{"$f":"'Log til revisionsbemærkninger'!D43","v":0},{"$f":"'Log til revisionsbemærkninger'!E43","v":0},{"$f":"'Log til revisionsbemærkninger'!F43","v":0},{"$f":"'Log til revisionsbemærkninger'!G43","v":0},{"$f":"'Log til revisionsbemærkninger'!H43","v":0},{"$f":"'Log til revisionsbemærkninger'!I43","v":0},{"$f":"'Log til revisionsbemærkninger'!J43","v":0},{"$f":"'Log til revisionsbemærkninger'!K43","v":0},{"$f":"'Log til revisionsbemærkninger'!L43","v":0},{"$f":"'Log til revisionsbemærkninger'!M43","v":0},{"$f":"'Log til revisionsbemærkninger'!N43","v":0},{"$f":"'Log til revisionsbemærkninger'!O43","v":0},{"$f":"'Log til revisionsbemærkninger'!P43","v":0},{"$f":"'Log til revisionsbemærkninger'!Q43","v":0},{"$f":"'Log til revisionsbemærkninger'!R43","v":0},{"$f":"'Log til revisionsbemærkninger'!S43","v":0},{"$f":"'Log til revisionsbemærkninger'!T43","v":"Ikke startet"},{"$f":"'Log til revisionsbemærkninger'!U43","v":0},{"$f":"'Log til revisionsbemærkninger'!V43","v":0},{"$f":"'Log til revisionsbemærkninger'!W43","v":0},{"$f":"'Log til revisionsbemærkninger'!X43","v":0}]
[null,{"$f":"'Log til revisionsbemærkninger'!C44","v":0},{"$f":"'Log til revisionsbemærkninger'!D44","v":0},{"$f":"'Log til revisionsbemærkninger'!E44","v":0},{"$f":"'Log til revisionsbemærkninger'!F44","v":0},{"$f":"'Log til revisionsbemærkninger'!G44","v":0},{"$f":"'Log til revisionsbemærkninger'!H44","v":0},{"$f":"'Log til revisionsbemærkninger'!I44","v":0},{"$f":"'Log til revisionsbemærkninger'!J44","v":0},{"$f":"'Log til revisionsbemærkninger'!K44","v":0},{"$f":"'Log til revisionsbemærkninger'!L44","v":0},{"$f":"'Log til revisionsbemærkninger'!M44","v":0},{"$f":"'Log til revisionsbemærkninger'!N44","v":0},{"$f":"'Log til revisionsbemærkninger'!O44","v":0},{"$f":"'Log til revisionsbemærkninger'!P44","v":0},{"$f":"'Log til revisionsbemærkninger'!Q44","v":0},{"$f":"'Log til revisionsbemærkninger'!R44","v":0},{"$f":"'Log til revisionsbemærkninger'!S44","v":0},{"$f":"'Log til revisionsbemærkninger'!T44","v":"Ikke startet"},{"$f":"'Log til revisionsbemærkninger'!U44","v":0},{"$f":"'Log til revisionsbemærkninger'!V44","v":0},{"$f":"'Log til revisionsbemærkninger'!W44","v":0},{"$f":"'Log til revisionsbemærkninger'!X44","v":0}]
[null,{"$f":"'Log til revisionsbemærkninger'!C45","v":0},{"$f":"'Log til revisionsbemærkninger'!D45","v":0},{"$f":"'Log til revisionsbemærkninger'!E45","v":0},{"$f":"'Log til revisionsbemærkninger'!F45","v":0},{"$f":"'Log til revisionsbemærkninger'!G45","v":0},{"$f":"'Log til revisionsbemærkninger'!H45","v":0},{"$f":"'Log til revisionsbemærkninger'!I45","v":0},{"$f":"'Log til revisionsbemærkninger'!J45","v":0},{"$f":"'Log til revisionsbemærkninger'!K45","v":0},{"$f":"'Log til revisionsbemærkninger'!L45","v":0},{"$f":"'Log til revisionsbemærkninger'!M45","v":0},{"$f":"'Log til revisionsbemærkninger'!N45","v":0},{"$f":"'Log til revisionsbemærkninger'!O45","v":0},{"$f":"'Log til revisionsbemærkninger'!P45","v":0},{"$f":"'Log til revisionsbemærkninger'!Q45","v":0},{"$f":"'Log til revisionsbemærkninger'!R45","v":0},{"$f":"'Log til revisionsbemærkninger'!S45","v":0},{"$f":"'Log til revisionsbemærkninger'!T45","v":"Ikke startet"},{"$f":"'Log til revisionsbemærkninger'!U45","v":0},{"$f":"'Log til revisionsbemærkninger'!V45","v":0},{"$f":"'Log til revisionsbemærkninger'!W45","v":0},{"$f":"'Log til revisionsbemærkninger'!X45","v":0}]
[null,{"$f":"'Log til revisionsbemærkninger'!C46","v":0},{"$f":"'Log til revisionsbemærkninger'!D46","v":0},{"$f":"'Log til revisionsbemærkninger'!E46","v":0},{"$f":"'Log til revisionsbemærkninger'!F46","v":0},{"$f":"'Log til revisionsbemærkninger'!G46","v":0},{"$f":"'Log til revisionsbemærkninger'!H46","v":0},{"$f":"'Log til revisionsbemærkninger'!I46","v":0},{"$f":"'Log til revisionsbemærkninger'!J46","v":0},{"$f":"'Log til revisionsbemærkninger'!K46","v":0},{"$f":"'Log til revisionsbemærkninger'!L46","v":0},{"$f":"'Log til revisionsbemærkninger'!M46","v":0},{"$f":"'Log til revisionsbemærkninger'!N46","v":0},{"$f":"'Log til revisionsbemærkninger'!O46","v":0},{"$f":"'Log til revisionsbemærkninger'!P46","v":0},{"$f":"'Log til revisionsbemærkninger'!Q46","v":0},{"$f":"'Log til revisionsbemærkninger'!R46","v":0},{"$f":"'Log til revisionsbemærkninger'!S46","v":0},{"$f":"'Log til revisionsbemærkninger'!T46","v":"Ikke startet"},{"$f":"'Log til revisionsbemærkninger'!U46","v":0},{"$f":"'Log til revisionsbemærkninger'!V46","v":0},{"$f":"'Log til revisionsbemærkninger'!W46","v":0},{"$f":"'Log til revisionsbemærkninger'!X46","v":0}]
[null,{"$f":"'Log til revisionsbemærkninger'!C47","v":0},{"$f":"'Log til revisionsbemærkninger'!D47","v":0},{"$f":"'Log til revisionsbemærkninger'!E47","v":0},{"$f":"'Log til revisionsbemærkninger'!F47","v":0},{"$f":"'Log til revisionsbemærkninger'!G47","v":0},{"$f":"'Log til revisionsbemærkninger'!H47","v":0},{"$f":"'Log til revisionsbemærkninger'!I47","v":0},{"$f":"'Log til revisionsbemærkninger'!J47","v":0},{"$f":"'Log til revisionsbemærkninger'!K47","v":0},{"$f":"'Log til revisionsbemærkninger'!L47","v":0},{"$f":"'Log til revisionsbemærkninger'!M47","v":0},{"$f":"'Log til revisionsbemærkninger'!N47","v":0},{"$f":"'Log til revisionsbemærkninger'!O47","v":0},{"$f":"'Log til revisionsbemærkninger'!P47","v":0},{"$f":"'Log til revisionsbemærkninger'!Q47","v":0},{"$f":"'Log til revisionsbemærkninger'!R47","v":0},{"$f":"'Log til revisionsbemærkninger'!S47","v":0},{"$f":"'Log til revisionsbemærkninger'!T47","v":"Ikke startet"},{"$f":"'Log til revisionsbemærkninger'!U47","v":0},{"$f":"'Log til revisionsbemærkninger'!V47","v":0},{"$f":"'Log til revisionsbemærkninger'!W47","v":0},{"$f":"'Log til revisionsbemærkninger'!X47","v":0}]
[null,{"$f":"'Log til revisionsbemærkninger'!C48","v":0},{"$f":"'Log til revisionsbemærkninger'!D48","v":0},{"$f":"'Log til revisionsbemærkninger'!E48","v":0},{"$f":"'Log til revisionsbemærkninger'!F48","v":0},{"$f":"'Log til revisionsbemærkninger'!G48","v":0},{"$f":"'Log til revisionsbemærkninger'!H48","v":0},{"$f":"'Log til revisionsbemærkninger'!I48","v":0},{"$f":"'Log til revisionsbemærkninger'!J48","v":0},{"$f":"'Log til revisionsbemærkninger'!K48","v":0},{"$f":"'Log til revisionsbemærkninger'!L48","v":0},{"$f":"'Log til revisionsbemærkninger'!M48","v":0},{"$f":"'Log til revisionsbemærkninger'!N48","v":0},{"$f":"'Log til revisionsbemærkninger'!O48","v":0},{"$f":"'Log til revisionsbemærkninger'!P48","v":0},{"$f":"'Log til revisionsbemærkninger'!Q48","v":0},{"$f":"'Log til revisionsbemærkninger'!R48","v":0},{"$f":"'Log til revisionsbemærkninger'!S48","v":0},{"$f":"'Log til revisionsbemærkninger'!T48","v":"Ikke startet"},{"$f":"'Log til revisionsbemærkninger'!U48","v":0},{"$f":"'Log til revisionsbemærkninger'!V48","v":0},{"$f":"'Log til revisionsbemærkninger'!W48","v":0},{"$f":"'Log til revisionsbemærkninger'!X48","v":0}]
[null,{"$f":"'Log til revisionsbemærkninger'!C49","v":0},{"$f":"'Log til revisionsbemærkninger'!D49","v":0},{"$f":"'Log til revisionsbemærkninger'!E49","v":0},{"$f":"'Log til revisionsbemærkninger'!F49","v":0},{"$f":"'Log til revisionsbemærkninger'!G49","v":0},{"$f":"'Log til revisionsbemærkninger'!H49","v":0},{"$f":"'Log til revisionsbemærkninger'!I49","v":0},{"$f":"'Log til revisionsbemærkninger'!J49","v":0},{"$f":"'Log til revisionsbemærkninger'!K49","v":0},{"$f":"'Log til revisionsbemærkninger'!L49","v":0},{"$f":"'Log til revisionsbemærkninger'!M49","v":0},{"$f":"'Log til revisionsbemærkninger'!N49","v":0},{"$f":"'Log til revisionsbemærkninger'!O49","v":0},{"$f":"'Log til revisionsbemærkninger'!P49","v":0},{"$f":"'Log til revisionsbemærkninger'!Q49","v":0},{"$f":"'Log til revisionsbemærkninger'!R49","v":0},{"$f":"'Log til revisionsbemærkninger'!S49","v":0},{"$f":"'Log til revisionsbemærkninger'!T49","v":"Ikke startet"},{"$f":"'Log til revisionsbemærkninger'!U49","v":0},{"$f":"'Log til revisionsbemærkninger'!V49","v":0},{"$f":"'Log til revisionsbemærkninger'!W49","v":0},{"$f":"'Log til revisionsbemærkninger'!X49","v":0}]
[null,{"$f":"'Log til revisionsbemærkninger'!C50","v":0},{"$f":"'Log til revisionsbemærkninger'!D50","v":0},{"$f":"'Log til revisionsbemærkninger'!E50","v":0},{"$f":"'Log til revisionsbemærkninger'!F50","v":0},{"$f":"'Log til revisionsbemærkninger'!G50","v":0},{"$f":"'Log til revisionsbemærkninger'!H50","v":0},{"$f":"'Log til revisionsbemærkninger'!I50","v":0},{"$f":"'Log til revisionsbemærkninger'!J50","v":0},{"$f":"'Log til revisionsbemærkninger'!K50","v":0},{"$f":"'Log til revisionsbemærkninger'!L50","v":0},{"$f":"'Log til revisionsbemærkninger'!M50","v":0},{"$f":"'Log til revisionsbemærkninger'!N50","v":0},{"$f":"'Log til revisionsbemærkninger'!O50","v":0},{"$f":"'Log til revisionsbemærkninger'!P50","v":0},{"$f":"'Log til revisionsbemærkninger'!Q50","v":0},{"$f":"'Log til revisionsbemærkninger'!R50","v":0},{"$f":"'Log til revisionsbemærkninger'!S50","v":0},{"$f":"'Log til revisionsbemærkninger'!T50","v":"Ikke startet"},{"$f":"'Log til revisionsbemærkninger'!U50","v":0},{"$f":"'Log til revisionsbemærkninger'!V50","v":0},{"$f":"'Log til revisionsbemærkninger'!W50","v":0},{"$f":"'Log til revisionsbemærkninger'!X50","v":0}]
[null,{"$f":"'Log til revisionsbemærkninger'!C51","v":0},{"$f":"'Log til revisionsbemærkninger'!D51","v":0},{"$f":"'Log til revisionsbemærkninger'!E51","v":0},{"$f":"'Log til revisionsbemærkninger'!F51","v":0},{"$f":"'Log til revisionsbemærkninger'!G51","v":0},{"$f":"'Log til revisionsbemærkninger'!H51","v":0},{"$f":"'Log til revisionsbemærkninger'!I51","v":0},{"$f":"'Log til revisionsbemærkninger'!J51","v":0},{"$f":"'Log til revisionsbemærkninger'!K51","v":0},{"$f":"'Log til revisionsbemærkninger'!L51","v":0},{"$f":"'Log til revisionsbemærkninger'!M51","v":0},{"$f":"'Log til revisionsbemærkninger'!N51","v":0},{"$f":"'Log til revisionsbemærkninger'!O51","v":0},{"$f":"'Log til revisionsbemærkninger'!P51","v":0},{"$f":"'Log til revisionsbemærkninger'!Q51","v":0},{"$f":"'Log til revisionsbemærkninger'!R51","v":0},{"$f":"'Log til revisionsbemærkninger'!S51","v":0},{"$f":"'Log til revisionsbemærkninger'!T51","v":"Ikke startet"},{"$f":"'Log til revisionsbemærkninger'!U51","v":0},{"$f":"'Log til revisionsbemærkninger'!V51","v":0},{"$f":"'Log til revisionsbemærkninger'!W51","v":0},{"$f":"'Log til revisionsbemærkninger'!X51","v":0}]
[null,{"$f":"'Log til revisionsbemærkninger'!C52","v":0},{"$f":"'Log til revisionsbemærkninger'!D52","v":0},{"$f":"'Log til revisionsbemærkninger'!E52","v":0},{"$f":"'Log til revisionsbemærkninger'!F52","v":0},{"$f":"'Log til revisionsbemærkninger'!G52","v":0},{"$f":"'Log til revisionsbemærkninger'!H52","v":0},{"$f":"'Log til revisionsbemærkninger'!I52","v":0},{"$f":"'Log til revisionsbemærkninger'!J52","v":0},{"$f":"'Log til revisionsbemærkninger'!K52","v":0},{"$f":"'Log til revisionsbemærkninger'!L52","v":0},{"$f":"'Log til revisionsbemærkninger'!M52","v":0},{"$f":"'Log til revisionsbemærkninger'!N52","v":0},{"$f":"'Log til revisionsbemærkninger'!O52","v":0},{"$f":"'Log til revisionsbemærkninger'!P52","v":0},{"$f":"'Log til revisionsbemærkninger'!Q52","v":0},{"$f":"'Log til revisionsbemærkninger'!R52","v":0},{"$f":"'Log til revisionsbemærkninger'!S52","v":0},{"$f":"'Log til revisionsbemærkninger'!T52","v":0},{"$f":"'Log til revisionsbemærkninger'!U52","v":0},{"$f":"'Log til revisionsbemærkninger'!V52","v":0},{"$f":"'Log til revisionsbemærkninger'!W52","v":0},{"$f":"'Log til revisionsbemærkninger'!X52","v":0}]
[null,{"$f":"'Log til revisionsbemærkninger'!C53","v":0},{"$f":"'Log til revisionsbemærkninger'!D53","v":0},{"$f":"'Log til revisionsbemærkninger'!E53","v":0},{"$f":"'Log til revisionsbemærkninger'!F53","v":0},{"$f":"'Log til revisionsbemærkninger'!G53","v":0},{"$f":"'Log til revisionsbemærkninger'!H53","v":0},{"$f":"'Log til revisionsbemærkninger'!I53","v":0},{"$f":"'Log til revisionsbemærkninger'!J53","v":0},{"$f":"'Log til revisionsbemærkninger'!K53","v":0},{"$f":"'Log til revisionsbemærkninger'!L53","v":0},{"$f":"'Log til revisionsbemærkninger'!M53","v":0},{"$f":"'Log til revisionsbemærkninger'!N53","v":0},{"$f":"'Log til revisionsbemærkninger'!O53","v":0},{"$f":"'Log til revisionsbemærkninger'!P53","v":0},{"$f":"'Log til revisionsbemærkninger'!Q53","v":0},{"$f":"'Log til revisionsbemærkninger'!R53","v":0},{"$f":"'Log til revisionsbemærkninger'!S53","v":0},{"$f":"'Log til revisionsbemærkninger'!T53","v":0},{"$f":"'Log til revisionsbemærkninger'!U53","v":0},{"$f":"'Log til revisionsbemærkninger'!V53","v":0},{"$f":"'Log til revisionsbemærkninger'!W53","v":0},{"$f":"'Log til revisionsbemærkninger'!X53","v":0}]
[null,{"$f":"'Log til revisionsbemærkninger'!C54","v":0},{"$f":"'Log til revisionsbemærkninger'!D54","v":0},{"$f":"'Log til revisionsbemærkninger'!E54","v":0},{"$f":"'Log til revisionsbemærkninger'!F54","v":0},{"$f":"'Log til revisionsbemærkninger'!G54","v":0},{"$f":"'Log til revisionsbemærkninger'!H54","v":0},{"$f":"'Log til revisionsbemærkninger'!I54","v":0},{"$f":"'Log til revisionsbemærkninger'!J54","v":0},{"$f":"'Log til revisionsbemærkninger'!K54","v":0},{"$f":"'Log til revisionsbemærkninger'!L54","v":0},{"$f":"'Log til revisionsbemærkninger'!M54","v":0},{"$f":"'Log til revisionsbemærkninger'!N54","v":0},{"$f":"'Log til revisionsbemærkninger'!O54","v":0},{"$f":"'Log til revisionsbemærkninger'!P54","v":0},{"$f":"'Log til revisionsbemærkninger'!Q54","v":0},{"$f":"'Log til revisionsbemærkninger'!R54","v":0},{"$f":"'Log til revisionsbemærkninger'!S54","v":0},{"$f":"'Log til revisionsbemærkninger'!T54","v":0},{"$f":"'Log til revisionsbemærkninger'!U54","v":0},{"$f":"'Log til revisionsbemærkninger'!V54","v":0},{"$f":"'Log til revisionsbemærkninger'!W54","v":0},{"$f":"'Log til revisionsbemærkninger'!X54","v":0}]
[null,{"$f":"'Log til revisionsbemærkninger'!C55","v":0},{"$f":"'Log til revisionsbemærkninger'!D55","v":0},{"$f":"'Log til revisionsbemærkninger'!E55","v":0},{"$f":"'Log til revisionsbemærkninger'!F55","v":0},{"$f":"'Log til revisionsbemærkninger'!G55","v":0},{"$f":"'Log til revisionsbemærkninger'!H55","v":0},{"$f":"'Log til revisionsbemærkninger'!I55","v":0},{"$f":"'Log til revisionsbemærkninger'!J55","v":0},{"$f":"'Log til revisionsbemærkninger'!K55","v":0},{"$f":"'Log til revisionsbemærkninger'!L55","v":0},{"$f":"'Log til revisionsbemærkninger'!M55","v":0},{"$f":"'Log til revisionsbemærkninger'!N55","v":0},{"$f":"'Log til revisionsbemærkninger'!O55","v":0},{"$f":"'Log til revisionsbemærkninger'!P55","v":0},{"$f":"'Log til revisionsbemærkninger'!Q55","v":0},{"$f":"'Log til revisionsbemærkninger'!R55","v":0},{"$f":"'Log til revisionsbemærkninger'!S55","v":0},{"$f":"'Log til revisionsbemærkninger'!T55","v":0},{"$f":"'Log til revisionsbemærkninger'!U55","v":0},{"$f":"'Log til revisionsbemærkninger'!V55","v":0},{"$f":"'Log til revisionsbemærkninger'!W55","v":0},{"$f":"'Log til revisionsbemærkninger'!X55","v":0}]
[null,{"$f":"'Log til revisionsbemærkninger'!C56","v":0},{"$f":"'Log til revisionsbemærkninger'!D56","v":0},{"$f":"'Log til revisionsbemærkninger'!E56","v":0},{"$f":"'Log til revisionsbemærkninger'!F56","v":0},{"$f":"'Log til revisionsbemærkninger'!G56","v":0},{"$f":"'Log til revisionsbemærkninger'!H56","v":0},{"$f":"'Log til revisionsbemærkninger'!I56","v":0},{"$f":"'Log til revisionsbemærkninger'!J56","v":0},{"$f":"'Log til revisionsbemærkninger'!K56","v":0},{"$f":"'Log til revisionsbemærkninger'!L56","v":0},{"$f":"'Log til revisionsbemærkninger'!M56","v":0},{"$f":"'Log til revisionsbemærkninger'!N56","v":0},{"$f":"'Log til revisionsbemærkninger'!O56","v":0},{"$f":"'Log til revisionsbemærkninger'!P56","v":0},{"$f":"'Log til revisionsbemærkninger'!Q56","v":0},{"$f":"'Log til revisionsbemærkninger'!R56","v":0},{"$f":"'Log til revisionsbemærkninger'!S56","v":0},{"$f":"'Log til revisionsbemærkninger'!T56","v":0},{"$f":"'Log til revisionsbemærkninger'!U56","v":0},{"$f":"'Log til revisionsbemærkninger'!V56","v":0},{"$f":"'Log til revisionsbemærkninger'!W56","v":0},{"$f":"'Log til revisionsbemærkninger'!X56","v":0}]
[null,{"$f":"'Log til revisionsbemærkninger'!C57","v":0},{"$f":"'Log til revisionsbemærkninger'!D57","v":0},{"$f":"'Log til revisionsbemærkninger'!E57","v":0},{"$f":"'Log til revisionsbemærkninger'!F57","v":0},{"$f":"'Log til revisionsbemærkninger'!G57","v":0},{"$f":"'Log til revisionsbemærkninger'!H57","v":0},{"$f":"'Log til revisionsbemærkninger'!I57","v":0},{"$f":"'Log til revisionsbemærkninger'!J57","v":0},{"$f":"'Log til revisionsbemærkninger'!K57","v":0},{"$f":"'Log til revisionsbemærkninger'!L57","v":0},{"$f":"'Log til revisionsbemærkninger'!M57","v":0},{"$f":"'Log til revisionsbemærkninger'!N57","v":0},{"$f":"'Log til revisionsbemærkninger'!O57","v":0},{"$f":"'Log til revisionsbemærkninger'!P57","v":0},{"$f":"'Log til revisionsbemærkninger'!Q57","v":0},{"$f":"'Log til revisionsbemærkninger'!R57","v":0},{"$f":"'Log til revisionsbemærkninger'!S57","v":0},{"$f":"'Log til revisionsbemærkninger'!T57","v":0},{"$f":"'Log til revisionsbemærkninger'!U57","v":0},{"$f":"'Log til revisionsbemærkninger'!V57","v":0},{"$f":"'Log til revisionsbemærkninger'!W57","v":0},{"$f":"'Log til revisionsbemærkninger'!X57","v":0}]
[null,{"$f":"'Log til revisionsbemærkninger'!C58","v":0},{"$f":"'Log til revisionsbemærkninger'!D58","v":0},{"$f":"'Log til revisionsbemærkninger'!E58","v":0},{"$f":"'Log til revisionsbemærkninger'!F58","v":0},{"$f":"'Log til revisionsbemærkninger'!G58","v":0},{"$f":"'Log til revisionsbemærkninger'!H58","v":0},{"$f":"'Log til revisionsbemærkninger'!I58","v":0},{"$f":"'Log til revisionsbemærkninger'!J58","v":0},{"$f":"'Log til revisionsbemærkninger'!K58","v":0},{"$f":"'Log til revisionsbemærkninger'!L58","v":0},{"$f":"'Log til revisionsbemærkninger'!M58","v":0},{"$f":"'Log til revisionsbemærkninger'!N58","v":0},{"$f":"'Log til revisionsbemærkninger'!O58","v":0},{"$f":"'Log til revisionsbemærkninger'!P58","v":0},{"$f":"'Log til revisionsbemærkninger'!Q58","v":0},{"$f":"'Log til revisionsbemærkninger'!R58","v":0},{"$f":"'Log til revisionsbemærkninger'!S58","v":0},{"$f":"'Log til revisionsbemærkninger'!T58","v":0},{"$f":"'Log til revisionsbemærkninger'!U58","v":0},{"$f":"'Log til revisionsbemærkninger'!V58","v":0},{"$f":"'Log til revisionsbemærkninger'!W58","v":0},{"$f":"'Log til revisionsbemærkninger'!X58","v":0}]
[null,{"$f":"'Log til revisionsbemærkninger'!C59","v":0},{"$f":"'Log til revisionsbemærkninger'!D59","v":0},{"$f":"'Log til revisionsbemærkninger'!E59","v":0},{"$f":"'Log til revisionsbemærkninger'!F59","v":0},{"$f":"'Log til revisionsbemærkninger'!G59","v":0},{"$f":"'Log til revisionsbemærkninger'!H59","v":0},{"$f":"'Log til revisionsbemærkninger'!I59","v":0},{"$f":"'Log til revisionsbemærkninger'!J59","v":0},{"$f":"'Log til revisionsbemærkninger'!K59","v":0},{"$f":"'Log til revisionsbemærkninger'!L59","v":0},{"$f":"'Log til revisionsbemærkninger'!M59","v":0},{"$f":"'Log til revisionsbemærkninger'!N59","v":0},{"$f":"'Log til revisionsbemærkninger'!O59","v":0},{"$f":"'Log til revisionsbemærkninger'!P59","v":0},{"$f":"'Log til revisionsbemærkninger'!Q59","v":0},{"$f":"'Log til revisionsbemærkninger'!R59","v":0},{"$f":"'Log til revisionsbemærkninger'!S59","v":0},{"$f":"'Log til revisionsbemærkninger'!T59","v":0},{"$f":"'Log til revisionsbemærkninger'!U59","v":0},{"$f":"'Log til revisionsbemærkninger'!V59","v":0},{"$f":"'Log til revisionsbemærkninger'!W59","v":0},{"$f":"'Log til revisionsbemærkninger'!X59","v":0}]
[null,{"$f":"'Log til revisionsbemærkninger'!C60","v":0},{"$f":"'Log til revisionsbemærkninger'!D60","v":0},{"$f":"'Log til revisionsbemærkninger'!E60","v":0},{"$f":"'Log til revisionsbemærkninger'!F60","v":0},{"$f":"'Log til revisionsbemærkninger'!G60","v":0},{"$f":"'Log til revisionsbemærkninger'!H60","v":0},{"$f":"'Log til revisionsbemærkninger'!I60","v":0},{"$f":"'Log til revisionsbemærkninger'!J60","v":0},{"$f":"'Log til revisionsbemærkninger'!K60","v":0},{"$f":"'Log til revisionsbemærkninger'!L60","v":0},{"$f":"'Log til revisionsbemærkninger'!M60","v":0},{"$f":"'Log til revisionsbemærkninger'!N60","v":0},{"$f":"'Log til revisionsbemærkninger'!O60","v":0},{"$f":"'Log til revisionsbemærkninger'!P60","v":0},{"$f":"'Log til revisionsbemærkninger'!Q60","v":0},{"$f":"'Log til revisionsbemærkninger'!R60","v":0},{"$f":"'Log til revisionsbemærkninger'!S60","v":0},{"$f":"'Log til revisionsbemærkninger'!T60","v":0},{"$f":"'Log til revisionsbemærkninger'!U60","v":0},{"$f":"'Log til revisionsbemærkninger'!V60","v":0},{"$f":"'Log til revisionsbemærkninger'!W60","v":0},{"$f":"'Log til revisionsbemærkninger'!X60","v":0}]
[null,{"$f":"'Log til revisionsbemærkninger'!C61","v":0},{"$f":"'Log til revisionsbemærkninger'!D61","v":0},{"$f":"'Log til revisionsbemærkninger'!E61","v":0},{"$f":"'Log til revisionsbemærkninger'!F61","v":0},{"$f":"'Log til revisionsbemærkninger'!G61","v":0},{"$f":"'Log til revisionsbemærkninger'!H61","v":0},{"$f":"'Log til revisionsbemærkninger'!I61","v":0},{"$f":"'Log til revisionsbemærkninger'!J61","v":0},{"$f":"'Log til revisionsbemærkninger'!K61","v":0},{"$f":"'Log til revisionsbemærkninger'!L61","v":0},{"$f":"'Log til revisionsbemærkninger'!M61","v":0},{"$f":"'Log til revisionsbemærkninger'!N61","v":0},{"$f":"'Log til revisionsbemærkninger'!O61","v":0},{"$f":"'Log til revisionsbemærkninger'!P61","v":0},{"$f":"'Log til revisionsbemærkninger'!Q61","v":0},{"$f":"'Log til revisionsbemærkninger'!R61","v":0},{"$f":"'Log til revisionsbemærkninger'!S61","v":0},{"$f":"'Log til revisionsbemærkninger'!T61","v":0},{"$f":"'Log til revisionsbemærkninger'!U61","v":0},{"$f":"'Log til revisionsbemærkninger'!V61","v":0},{"$f":"'Log til revisionsbemærkninger'!W61","v":0},{"$f":"'Log til revisionsbemærkninger'!X61","v":0}]
[null,{"$f":"'Log til revisionsbemærkninger'!C62","v":0},{"$f":"'Log til revisionsbemærkninger'!D62","v":0},{"$f":"'Log til revisionsbemærkninger'!E62","v":0},{"$f":"'Log til revisionsbemærkninger'!F62","v":0},{"$f":"'Log til revisionsbemærkninger'!G62","v":0},{"$f":"'Log til revisionsbemærkninger'!H62","v":0},{"$f":"'Log til revisionsbemærkninger'!I62","v":0},{"$f":"'Log til revisionsbemærkninger'!J62","v":0},{"$f":"'Log til revisionsbemærkninger'!K62","v":0},{"$f":"'Log til revisionsbemærkninger'!L62","v":0},{"$f":"'Log til revisionsbemærkninger'!M62","v":0},{"$f":"'Log til revisionsbemærkninger'!N62","v":0},{"$f":"'Log til revisionsbemærkninger'!O62","v":0},{"$f":"'Log til revisionsbemærkninger'!P62","v":0},{"$f":"'Log til revisionsbemærkninger'!Q62","v":0},{"$f":"'Log til revisionsbemærkninger'!R62","v":0},{"$f":"'Log til revisionsbemærkninger'!S62","v":0},{"$f":"'Log til revisionsbemærkninger'!T62","v":0},{"$f":"'Log til revisionsbemærkninger'!U62","v":0},{"$f":"'Log til revisionsbemærkninger'!V62","v":0},{"$f":"'Log til revisionsbemærkninger'!W62","v":0},{"$f":"'Log til revisionsbemærkninger'!X62","v":0}]
[null,{"$f":"'Log til revisionsbemærkninger'!C63","v":0},{"$f":"'Log til revisionsbemærkninger'!D63","v":0},{"$f":"'Log til revisionsbemærkninger'!E63","v":0},{"$f":"'Log til revisionsbemærkninger'!F63","v":0},{"$f":"'Log til revisionsbemærkninger'!G63","v":0},{"$f":"'Log til revisionsbemærkninger'!H63","v":0},{"$f":"'Log til revisionsbemærkninger'!I63","v":0},{"$f":"'Log til revisionsbemærkninger'!J63","v":0},{"$f":"'Log til revisionsbemærkninger'!K63","v":0},{"$f":"'Log til revisionsbemærkninger'!L63","v":0},{"$f":"'Log til revisionsbemærkninger'!M63","v":0},{"$f":"'Log til revisionsbemærkninger'!N63","v":0},{"$f":"'Log til revisionsbemærkninger'!O63","v":0},{"$f":"'Log til revisionsbemærkninger'!P63","v":0},{"$f":"'Log til revisionsbemærkninger'!Q63","v":0},{"$f":"'Log til revisionsbemærkninger'!R63","v":0},{"$f":"'Log til revisionsbemærkninger'!S63","v":0},{"$f":"'Log til revisionsbemærkninger'!T63","v":0},{"$f":"'Log til revisionsbemærkninger'!U63","v":0},{"$f":"'Log til revisionsbemærkninger'!V63","v":0},{"$f":"'Log til revisionsbemærkninger'!W63","v":0},{"$f":"'Log til revisionsbemærkninger'!X63","v":0}]
[null,{"$f":"'Log til revisionsbemærkninger'!C64","v":0},{"$f":"'Log til revisionsbemærkninger'!D64","v":0},{"$f":"'Log til revisionsbemærkninger'!E64","v":0},{"$f":"'Log til revisionsbemærkninger'!F64","v":0},{"$f":"'Log til revisionsbemærkninger'!G64","v":0},{"$f":"'Log til revisionsbemærkninger'!H64","v":0},{"$f":"'Log til revisionsbemærkninger'!I64","v":0},{"$f":"'Log til revisionsbemærkninger'!J64","v":0},{"$f":"'Log til revisionsbemærkninger'!K64","v":0},{"$f":"'Log til revisionsbemærkninger'!L64","v":0},{"$f":"'Log til revisionsbemærkninger'!M64","v":0},{"$f":"'Log til revisionsbemærkninger'!N64","v":0},{"$f":"'Log til revisionsbemærkninger'!O64","v":0},{"$f":"'Log til revisionsbemærkninger'!P64","v":0},{"$f":"'Log til revisionsbemærkninger'!Q64","v":0},{"$f":"'Log til revisionsbemærkninger'!R64","v":0},{"$f":"'Log til revisionsbemærkninger'!S64","v":0},{"$f":"'Log til revisionsbemærkninger'!T64","v":0},{"$f":"'Log til revisionsbemærkninger'!U64","v":0},{"$f":"'Log til revisionsbemærkninger'!V64","v":0},{"$f":"'Log til revisionsbemærkninger'!W64","v":0},{"$f":"'Log til revisionsbemærkninger'!X64","v":0}]
[null,{"$f":"'Log til revisionsbemærkninger'!C65","v":0},{"$f":"'Log til revisionsbemærkninger'!D65","v":0},{"$f":"'Log til revisionsbemærkninger'!E65","v":0},{"$f":"'Log til revisionsbemærkninger'!F65","v":0},{"$f":"'Log til revisionsbemærkninger'!G65","v":0},{"$f":"'Log til revisionsbemærkninger'!H65","v":0},{"$f":"'Log til revisionsbemærkninger'!I65","v":0},{"$f":"'Log til revisionsbemærkninger'!J65","v":0},{"$f":"'Log til revisionsbemærkninger'!K65","v":0},{"$f":"'Log til revisionsbemærkninger'!L65","v":0},{"$f":"'Log til revisionsbemærkninger'!M65","v":0},{"$f":"'Log til revisionsbemærkninger'!N65","v":0},{"$f":"'Log til revisionsbemærkninger'!O65","v":0},{"$f":"'Log til revisionsbemærkninger'!P65","v":0},{"$f":"'Log til revisionsbemærkninger'!Q65","v":0},{"$f":"'Log til revisionsbemærkninger'!R65","v":0},{"$f":"'Log til revisionsbemærkninger'!S65","v":0},{"$f":"'Log til revisionsbemærkninger'!T65","v":0},{"$f":"'Log til revisionsbemærkninger'!U65","v":0},{"$f":"'Log til revisionsbemærkninger'!V65","v":0},{"$f":"'Log til revisionsbemærkninger'!W65","v":0},{"$f":"'Log til revisionsbemærkninger'!X65","v":0}]
[null,{"$f":"'Log til revisionsbemærkninger'!C66","v":0},{"$f":"'Log til revisionsbemærkninger'!D66","v":0},{"$f":"'Log til revisionsbemærkninger'!E66","v":0},{"$f":"'Log til revisionsbemærkninger'!F66","v":0},{"$f":"'Log til revisionsbemærkninger'!G66","v":0},{"$f":"'Log til revisionsbemærkninger'!H66","v":0},{"$f":"'Log til revisionsbemærkninger'!I66","v":0},{"$f":"'Log til revisionsbemærkninger'!J66","v":0},{"$f":"'Log til revisionsbemærkninger'!K66","v":0},{"$f":"'Log til revisionsbemærkninger'!L66","v":0},{"$f":"'Log til revisionsbemærkninger'!M66","v":0},{"$f":"'Log til revisionsbemærkninger'!N66","v":0},{"$f":"'Log til revisionsbemærkninger'!O66","v":0},{"$f":"'Log til revisionsbemærkninger'!P66","v":0},{"$f":"'Log til revisionsbemærkninger'!Q66","v":0},{"$f":"'Log til revisionsbemærkninger'!R66","v":0},{"$f":"'Log til revisionsbemærkninger'!S66","v":0},{"$f":"'Log til revisionsbemærkninger'!T66","v":0},{"$f":"'Log til revisionsbemærkninger'!U66","v":0},{"$f":"'Log til revisionsbemærkninger'!V66","v":0},{"$f":"'Log til revisionsbemærkninger'!W66","v":0},{"$f":"'Log til revisionsbemærkninger'!X66","v":0}]
[null,{"$f":"'Log til revisionsbemærkninger'!C67","v":0},{"$f":"'Log til revisionsbemærkninger'!D67","v":0},{"$f":"'Log til revisionsbemærkninger'!E67","v":0},{"$f":"'Log til revisionsbemærkninger'!F67","v":0},{"$f":"'Log til revisionsbemærkninger'!G67","v":0},{"$f":"'Log til revisionsbemærkninger'!H67","v":0},{"$f":"'Log til revisionsbemærkninger'!I67","v":0},{"$f":"'Log til revisionsbemærkninger'!J67","v":0},{"$f":"'Log til revisionsbemærkninger'!K67","v":0},{"$f":"'Log til revisionsbemærkninger'!L67","v":0},{"$f":"'Log til revisionsbemærkninger'!M67","v":0},{"$f":"'Log til revisionsbemærkninger'!N67","v":0},{"$f":"'Log til revisionsbemærkninger'!O67","v":0},{"$f":"'Log til revisionsbemærkninger'!P67","v":0},{"$f":"'Log til revisionsbemærkninger'!Q67","v":0},{"$f":"'Log til revisionsbemærkninger'!R67","v":0},{"$f":"'Log til revisionsbemærkninger'!S67","v":0},{"$f":"'Log til revisionsbemærkninger'!T67","v":0},{"$f":"'Log til revisionsbemærkninger'!U67","v":0},{"$f":"'Log til revisionsbemærkninger'!V67","v":0},{"$f":"'Log til revisionsbemærkninger'!W67","v":0},{"$f":"'Log til revisionsbemærkninger'!X67","v":0}]
[null,{"$f":"'Log til revisionsbemærkninger'!C68","v":0},{"$f":"'Log til revisionsbemærkninger'!D68","v":0},{"$f":"'Log til revisionsbemærkninger'!E68","v":0},{"$f":"'Log til revisionsbemærkninger'!F68","v":0},{"$f":"'Log til revisionsbemærkninger'!G68","v":0},{"$f":"'Log til revisionsbemærkninger'!H68","v":0},{"$f":"'Log til revisionsbemærkninger'!I68","v":0},{"$f":"'Log til revisionsbemærkninger'!J68","v":0},{"$f":"'Log til revisionsbemærkninger'!K68","v":0},{"$f":"'Log til revisionsbemærkninger'!L68","v":0},{"$f":"'Log til revisionsbemærkninger'!M68","v":0},{"$f":"'Log til revisionsbemærkninger'!N68","v":0},{"$f":"'Log til revisionsbemærkninger'!O68","v":0},{"$f":"'Log til revisionsbemærkninger'!P68","v":0},{"$f":"'Log til revisionsbemærkninger'!Q68","v":0},{"$f":"'Log til revisionsbemærkninger'!R68","v":0},{"$f":"'Log til revisionsbemærkninger'!S68","v":0},{"$f":"'Log til revisionsbemærkninger'!T68","v":0},{"$f":"'Log til revisionsbemærkninger'!U68","v":0},{"$f":"'Log til revisionsbemærkninger'!V68","v":0},{"$f":"'Log til revisionsbemærkninger'!W68","v":0},{"$f":"'Log til revisionsbemærkninger'!X68","v":0}]
[null,{"$f":"'Log til revisionsbemærkninger'!C69","v":0},{"$f":"'Log til revisionsbemærkninger'!D69","v":0},{"$f":"'Log til revisionsbemærkninger'!E69","v":0},{"$f":"'Log til revisionsbemærkninger'!F69","v":0},{"$f":"'Log til revisionsbemærkninger'!G69","v":0},{"$f":"'Log til revisionsbemærkninger'!H69","v":0},{"$f":"'Log til revisionsbemærkninger'!I69","v":0},{"$f":"'Log til revisionsbemærkninger'!J69","v":0},{"$f":"'Log til revisionsbemærkninger'!K69","v":0},{"$f":"'Log til revisionsbemærkninger'!L69","v":0},{"$f":"'Log til revisionsbemærkninger'!M69","v":0},{"$f":"'Log til revisionsbemærkninger'!N69","v":0},{"$f":"'Log til revisionsbemærkninger'!O69","v":0},{"$f":"'Log til revisionsbemærkninger'!P69","v":0},{"$f":"'Log til revisionsbemærkninger'!Q69","v":0},{"$f":"'Log til revisionsbemærkninger'!R69","v":0},{"$f":"'Log til revisionsbemærkninger'!S69","v":0},{"$f":"'Log til revisionsbemærkninger'!T69","v":0},{"$f":"'Log til revisionsbemærkninger'!U69","v":0},{"$f":"'Log til revisionsbemærkninger'!V69","v":0},{"$f":"'Log til revisionsbemærkninger'!W69","v":0},{"$f":"'Log til revisionsbemærkninger'!X69","v":0}]
[null,{"$f":"'Log til revisionsbemærkninger'!C70","v":0},{"$f":"'Log til revisionsbemærkninger'!D70","v":0},{"$f":"'Log til revisionsbemærkninger'!E70","v":0},{"$f":"'Log til revisionsbemærkninger'!F70","v":0},{"$f":"'Log til revisionsbemærkninger'!G70","v":0},{"$f":"'Log til revisionsbemærkninger'!H70","v":0},{"$f":"'Log til revisionsbemærkninger'!I70","v":0},{"$f":"'Log til revisionsbemærkninger'!J70","v":0},{"$f":"'Log til revisionsbemærkninger'!K70","v":0},{"$f":"'Log til revisionsbemærkninger'!L70","v":0},{"$f":"'Log til revisionsbemærkninger'!M70","v":0},{"$f":"'Log til revisionsbemærkninger'!N70","v":0},{"$f":"'Log til revisionsbemærkninger'!O70","v":0},{"$f":"'Log til revisionsbemærkninger'!P70","v":0},{"$f":"'Log til revisionsbemærkninger'!Q70","v":0},{"$f":"'Log til revisionsbemærkninger'!R70","v":0},{"$f":"'Log til revisionsbemærkninger'!S70","v":0},{"$f":"'Log til revisionsbemærkninger'!T70","v":0},{"$f":"'Log til revisionsbemærkninger'!U70","v":0},{"$f":"'Log til revisionsbemærkninger'!V70","v":0},{"$f":"'Log til revisionsbemærkninger'!W70","v":0},{"$f":"'Log til revisionsbemærkninger'!X70","v":0}]
[null,{"$f":"'Log til revisionsbemærkninger'!C71","v":0},{"$f":"'Log til revisionsbemærkninger'!D71","v":0},{"$f":"'Log til revisionsbemærkninger'!E71","v":0},{"$f":"'Log til revisionsbemærkninger'!F71","v":0},{"$f":"'Log til revisionsbemærkninger'!G71","v":0},{"$f":"'Log til revisionsbemærkninger'!H71","v":0},{"$f":"'Log til revisionsbemærkninger'!I71","v":0},{"$f":"'Log til revisionsbemærkninger'!J71","v":0},{"$f":"'Log til revisionsbemærkninger'!K71","v":0},{"$f":"'Log til revisionsbemærkninger'!L71","v":0},{"$f":"'Log til revisionsbemærkninger'!M71","v":0},{"$f":"'Log til revisionsbemærkninger'!N71","v":0},{"$f":"'Log til revisionsbemærkninger'!O71","v":0},{"$f":"'Log til revisionsbemærkninger'!P71","v":0},{"$f":"'Log til revisionsbemærkninger'!Q71","v":0},{"$f":"'Log til revisionsbemærkninger'!R71","v":0},{"$f":"'Log til revisionsbemærkninger'!S71","v":0},{"$f":"'Log til revisionsbemærkninger'!T71","v":0},{"$f":"'Log til revisionsbemærkninger'!U71","v":0},{"$f":"'Log til revisionsbemærkninger'!V71","v":0},{"$f":"'Log til revisionsbemærkninger'!W71","v":0},{"$f":"'Log til revisionsbemærkninger'!X71","v":0}]
[null,{"$f":"'Log til revisionsbemærkninger'!C72","v":0},{"$f":"'Log til revisionsbemærkninger'!D72","v":0},{"$f":"'Log til revisionsbemærkninger'!E72","v":0},{"$f":"'Log til revisionsbemærkninger'!F72","v":0},{"$f":"'Log til revisionsbemærkninger'!G72","v":0},{"$f":"'Log til revisionsbemærkninger'!H72","v":0},{"$f":"'Log til revisionsbemærkninger'!I72","v":0},{"$f":"'Log til revisionsbemærkninger'!J72","v":0},{"$f":"'Log til revisionsbemærkninger'!K72","v":0},{"$f":"'Log til revisionsbemærkninger'!L72","v":0},{"$f":"'Log til revisionsbemærkninger'!M72","v":0},{"$f":"'Log til revisionsbemærkninger'!N72","v":0},{"$f":"'Log til revisionsbemærkninger'!O72","v":0},{"$f":"'Log til revisionsbemærkninger'!P72","v":0},{"$f":"'Log til revisionsbemærkninger'!Q72","v":0},{"$f":"'Log til revisionsbemærkninger'!R72","v":0},{"$f":"'Log til revisionsbemærkninger'!S72","v":0},{"$f":"'Log til revisionsbemærkninger'!T72","v":0},{"$f":"'Log til revisionsbemærkninger'!U72","v":0},{"$f":"'Log til revisionsbemærkninger'!V72","v":0},{"$f":"'Log til revisionsbemærkninger'!W72","v":0},{"$f":"'Log til revisionsbemærkninger'!X72","v":0}]
[null,{"$f":"'Log til revisionsbemærkninger'!C73","v":0},{"$f":"'Log til revisionsbemærkninger'!D73","v":0},{"$f":"'Log til revisionsbemærkninger'!E73","v":0},{"$f":"'Log til revisionsbemærkninger'!F73","v":0},{"$f":"'Log til revisionsbemærkninger'!G73","v":0},{"$f":"'Log til revisionsbemærkninger'!H73","v":0},{"$f":"'Log til revisionsbemærkninger'!I73","v":0},{"$f":"'Log til revisionsbemærkninger'!J73","v":0},{"$f":"'Log til revisionsbemærkninger'!K73","v":0},{"$f":"'Log til revisionsbemærkninger'!L73","v":0},{"$f":"'Log til revisionsbemærkninger'!M73","v":0},{"$f":"'Log til revisionsbemærkninger'!N73","v":0},{"$f":"'Log til revisionsbemærkninger'!O73","v":0},{"$f":"'Log til revisionsbemærkninger'!P73","v":0},{"$f":"'Log til revisionsbemærkninger'!Q73","v":0},{"$f":"'Log til revisionsbemærkninger'!R73","v":0},{"$f":"'Log til revisionsbemærkninger'!S73","v":0},{"$f":"'Log til revisionsbemærkninger'!T73","v":0},{"$f":"'Log til revisionsbemærkninger'!U73","v":0},{"$f":"'Log til revisionsbemærkninger'!V73","v":0},{"$f":"'Log til revisionsbemærkninger'!W73","v":0},{"$f":"'Log til revisionsbemærkninger'!X73","v":0}]
[null,{"$f":"'Log til revisionsbemærkninger'!C74","v":0},{"$f":"'Log til revisionsbemærkninger'!D74","v":0},{"$f":"'Log til revisionsbemærkninger'!E74","v":0},{"$f":"'Log til revisionsbemærkninger'!F74","v":0},{"$f":"'Log til revisionsbemærkninger'!G74","v":0},{"$f":"'Log til revisionsbemærkninger'!H74","v":0},{"$f":"'Log til revisionsbemærkninger'!I74","v":0},{"$f":"'Log til revisionsbemærkninger'!J74","v":0},{"$f":"'Log til revisionsbemærkninger'!K74","v":0},{"$f":"'Log til revisionsbemærkninger'!L74","v":0},{"$f":"'Log til revisionsbemærkninger'!M74","v":0},{"$f":"'Log til revisionsbemærkninger'!N74","v":0},{"$f":"'Log til revisionsbemærkninger'!O74","v":0},{"$f":"'Log til revisionsbemærkninger'!P74","v":0},{"$f":"'Log til revisionsbemærkninger'!Q74","v":0},{"$f":"'Log til revisionsbemærkninger'!R74","v":0},{"$f":"'Log til revisionsbemærkninger'!S74","v":0},{"$f":"'Log til revisionsbemærkninger'!T74","v":0},{"$f":"'Log til revisionsbemærkninger'!U74","v":0},{"$f":"'Log til revisionsbemærkninger'!V74","v":0},{"$f":"'Log til revisionsbemærkninger'!W74","v":0},{"$f":"'Log til revisionsbemærkninger'!X74","v":0}]
[null,{"$f":"'Log til revisionsbemærkninger'!C75","v":0},{"$f":"'Log til revisionsbemærkninger'!D75","v":0},{"$f":"'Log til revisionsbemærkninger'!E75","v":0},{"$f":"'Log til revisionsbemærkninger'!F75","v":0},{"$f":"'Log til revisionsbemærkninger'!G75","v":0},{"$f":"'Log til revisionsbemærkninger'!H75","v":0},{"$f":"'Log til revisionsbemærkninger'!I75","v":0},{"$f":"'Log til revisionsbemærkninger'!J75","v":0},{"$f":"'Log til revisionsbemærkninger'!K75","v":0},{"$f":"'Log til revisionsbemærkninger'!L75","v":0},{"$f":"'Log til revisionsbemærkninger'!M75","v":0},{"$f":"'Log til revisionsbemærkninger'!N75","v":0},{"$f":"'Log til revisionsbemærkninger'!O75","v":0},{"$f":"'Log til revisionsbemærkninger'!P75","v":0},{"$f":"'Log til revisionsbemærkninger'!Q75","v":0},{"$f":"'Log til revisionsbemærkninger'!R75","v":0},{"$f":"'Log til revisionsbemærkninger'!S75","v":0},{"$f":"'Log til revisionsbemærkninger'!T75","v":0},{"$f":"'Log til revisionsbemærkninger'!U75","v":0},{"$f":"'Log til revisionsbemærkninger'!V75","v":0},{"$f":"'Log til revisionsbemærkninger'!W75","v":0},{"$f":"'Log til revisionsbemærkninger'!X75","v":0}]
[null,{"$f":"'Log til revisionsbemærkninger'!C76","v":0},{"$f":"'Log til revisionsbemærkninger'!D76","v":0},{"$f":"'Log til revisionsbemærkninger'!E76","v":0},{"$f":"'Log til revisionsbemærkninger'!F76","v":0},{"$f":"'Log til revisionsbemærkninger'!G76","v":0},{"$f":"'Log til revisionsbemærkninger'!H76","v":0},{"$f":"'Log til revisionsbemærkninger'!I76","v":0},{"$f":"'Log til revisionsbemærkninger'!J76","v":0},{"$f":"'Log til revisionsbemærkninger'!K76","v":0},{"$f":"'Log til revisionsbemærkninger'!L76","v":0},{"$f":"'Log til revisionsbemærkninger'!M76","v":0},{"$f":"'Log til revisionsbemærkninger'!N76","v":0},{"$f":"'Log til revisionsbemærkninger'!O76","v":0},{"$f":"'Log til revisionsbemærkninger'!P76","v":0},{"$f":"'Log til revisionsbemærkninger'!Q76","v":0},{"$f":"'Log til revisionsbemærkninger'!R76","v":0},{"$f":"'Log til revisionsbemærkninger'!S76","v":0},{"$f":"'Log til revisionsbemærkninger'!T76","v":0},{"$f":"'Log til revisionsbemærkninger'!U76","v":0},{"$f":"'Log til revisionsbemærkninger'!V76","v":0},{"$f":"'Log til revisionsbemærkninger'!W76","v":0},{"$f":"'Log til revisionsbemærkninger'!X76","v":0}]
[null,{"$f":"'Log til revisionsbemærkninger'!C77","v":0},{"$f":"'Log til revisionsbemærkninger'!D77","v":0},{"$f":"'Log til revisionsbemærkninger'!E77","v":0},{"$f":"'Log til revisionsbemærkninger'!F77","v":0},{"$f":"'Log til revisionsbemærkninger'!G77","v":0},{"$f":"'Log til revisionsbemærkninger'!H77","v":0},{"$f":"'Log til revisionsbemærkninger'!I77","v":0},{"$f":"'Log til revisionsbemærkninger'!J77","v":0},{"$f":"'Log til revisionsbemærkninger'!K77","v":0},{"$f":"'Log til revisionsbemærkninger'!L77","v":0},{"$f":"'Log til revisionsbemærkninger'!M77","v":0},{"$f":"'Log til revisionsbemærkninger'!N77","v":0},{"$f":"'Log til revisionsbemærkninger'!O77","v":0},{"$f":"'Log til revisionsbemærkninger'!P77","v":0},{"$f":"'Log til revisionsbemærkninger'!Q77","v":0},{"$f":"'Log til revisionsbemærkninger'!R77","v":0},{"$f":"'Log til revisionsbemærkninger'!S77","v":0},{"$f":"'Log til revisionsbemærkninger'!T77","v":0},{"$f":"'Log til revisionsbemærkninger'!U77","v":0},{"$f":"'Log til revisionsbemærkninger'!V77","v":0},{"$f":"'Log til revisionsbemærkninger'!W77","v":0},{"$f":"'Log til revisionsbemærkninger'!X77","v":0}]
[null,{"$f":"'Log til revisionsbemærkninger'!C78","v":0},{"$f":"'Log til revisionsbemærkninger'!D78","v":0},{"$f":"'Log til revisionsbemærkninger'!E78","v":0},{"$f":"'Log til revisionsbemærkninger'!F78","v":0},{"$f":"'Log til revisionsbemærkninger'!G78","v":0},{"$f":"'Log til revisionsbemærkninger'!H78","v":0},{"$f":"'Log til revisionsbemærkninger'!I78","v":0},{"$f":"'Log til revisionsbemærkninger'!J78","v":0},{"$f":"'Log til revisionsbemærkninger'!K78","v":0},{"$f":"'Log til revisionsbemærkninger'!L78","v":0},{"$f":"'Log til revisionsbemærkninger'!M78","v":0},{"$f":"'Log til revisionsbemærkninger'!N78","v":0},{"$f":"'Log til revisionsbemærkninger'!O78","v":0},{"$f":"'Log til revisionsbemærkninger'!P78","v":0},{"$f":"'Log til revisionsbemærkninger'!Q78","v":0},{"$f":"'Log til revisionsbemærkninger'!R78","v":0},{"$f":"'Log til revisionsbemærkninger'!S78","v":0},{"$f":"'Log til revisionsbemærkninger'!T78","v":0},{"$f":"'Log til revisionsbemærkninger'!U78","v":0},{"$f":"'Log til revisionsbemærkninger'!V78","v":0},{"$f":"'Log til revisionsbemærkninger'!W78","v":0},{"$f":"'Log til revisionsbemærkninger'!X78","v":0}]
[null,{"$f":"'Log til revisionsbemærkninger'!C79","v":0},{"$f":"'Log til revisionsbemærkninger'!D79","v":0},{"$f":"'Log til revisionsbemærkninger'!E79","v":0},{"$f":"'Log til revisionsbemærkninger'!F79","v":0},{"$f":"'Log til revisionsbemærkninger'!G79","v":0},{"$f":"'Log til revisionsbemærkninger'!H79","v":0},{"$f":"'Log til revisionsbemærkninger'!I79","v":0},{"$f":"'Log til revisionsbemærkninger'!J79","v":0},{"$f":"'Log til revisionsbemærkninger'!K79","v":0},{"$f":"'Log til revisionsbemærkninger'!L79","v":0},{"$f":"'Log til revisionsbemærkninger'!M79","v":0},{"$f":"'Log til revisionsbemærkninger'!N79","v":0},{"$f":"'Log til revisionsbemærkninger'!O79","v":0},{"$f":"'Log til revisionsbemærkninger'!P79","v":0},{"$f":"'Log til revisionsbemærkninger'!Q79","v":0},{"$f":"'Log til revisionsbemærkninger'!R79","v":0},{"$f":"'Log til revisionsbemærkninger'!S79","v":0},{"$f":"'Log til revisionsbemærkninger'!T79","v":0},{"$f":"'Log til revisionsbemærkninger'!U79","v":0},{"$f":"'Log til revisionsbemærkninger'!V79","v":0},{"$f":"'Log til revisionsbemærkninger'!W79","v":0},{"$f":"'Log til revisionsbemærkninger'!X79","v":0}]
[null,{"$f":"'Log til revisionsbemærkninger'!C80","v":0},{"$f":"'Log til revisionsbemærkninger'!D80","v":0},{"$f":"'Log til revisionsbemærkninger'!E80","v":0},{"$f":"'Log til revisionsbemærkninger'!F80","v":0},{"$f":"'Log til revisionsbemærkninger'!G80","v":0},{"$f":"'Log til revisionsbemærkninger'!H80","v":0},{"$f":"'Log til revisionsbemærkninger'!I80","v":0},{"$f":"'Log til revisionsbemærkninger'!J80","v":0},{"$f":"'Log til revisionsbemærkninger'!K80","v":0},{"$f":"'Log til revisionsbemærkninger'!L80","v":0},{"$f":"'Log til revisionsbemærkninger'!M80","v":0},{"$f":"'Log til revisionsbemærkninger'!N80","v":0},{"$f":"'Log til revisionsbemærkninger'!O80","v":0},{"$f":"'Log til revisionsbemærkninger'!P80","v":0},{"$f":"'Log til revisionsbemærkninger'!Q80","v":0},{"$f":"'Log til revisionsbemærkninger'!R80","v":0},{"$f":"'Log til revisionsbemærkninger'!S80","v":0},{"$f":"'Log til revisionsbemærkninger'!T80","v":0},{"$f":"'Log til revisionsbemærkninger'!U80","v":0},{"$f":"'Log til revisionsbemærkninger'!V80","v":0},{"$f":"'Log til revisionsbemærkninger'!W80","v":0},{"$f":"'Log til revisionsbemærkninger'!X80","v":0}]
[null,{"$f":"'Log til revisionsbemærkninger'!C81","v":0},{"$f":"'Log til revisionsbemærkninger'!D81","v":0},{"$f":"'Log til revisionsbemærkninger'!E81","v":0},{"$f":"'Log til revisionsbemærkninger'!F81","v":0},{"$f":"'Log til revisionsbemærkninger'!G81","v":0},{"$f":"'Log til revisionsbemærkninger'!H81","v":0},{"$f":"'Log til revisionsbemærkninger'!I81","v":0},{"$f":"'Log til revisionsbemærkninger'!J81","v":0},{"$f":"'Log til revisionsbemærkninger'!K81","v":0},{"$f":"'Log til revisionsbemærkninger'!L81","v":0},{"$f":"'Log til revisionsbemærkninger'!M81","v":0},{"$f":"'Log til revisionsbemærkninger'!N81","v":0},{"$f":"'Log til revisionsbemærkninger'!O81","v":0},{"$f":"'Log til revisionsbemærkninger'!P81","v":0},{"$f":"'Log til revisionsbemærkninger'!Q81","v":0},{"$f":"'Log til revisionsbemærkninger'!R81","v":0},{"$f":"'Log til revisionsbemærkninger'!S81","v":0},{"$f":"'Log til revisionsbemærkninger'!T81","v":0},{"$f":"'Log til revisionsbemærkninger'!U81","v":0},{"$f":"'Log til revisionsbemærkninger'!V81","v":0},{"$f":"'Log til revisionsbemærkninger'!W81","v":0},{"$f":"'Log til revisionsbemærkninger'!X81","v":0}]
[null,{"$f":"'Log til revisionsbemærkninger'!C82","v":0},{"$f":"'Log til revisionsbemærkninger'!D82","v":0},{"$f":"'Log til revisionsbemærkninger'!E82","v":0},{"$f":"'Log til revisionsbemærkninger'!F82","v":0},{"$f":"'Log til revisionsbemærkninger'!G82","v":0},{"$f":"'Log til revisionsbemærkninger'!H82","v":0},{"$f":"'Log til revisionsbemærkninger'!I82","v":0},{"$f":"'Log til revisionsbemærkninger'!J82","v":0},{"$f":"'Log til revisionsbemærkninger'!K82","v":0},{"$f":"'Log til revisionsbemærkninger'!L82","v":0},{"$f":"'Log til revisionsbemærkninger'!M82","v":0},{"$f":"'Log til revisionsbemærkninger'!N82","v":0},{"$f":"'Log til revisionsbemærkninger'!O82","v":0},{"$f":"'Log til revisionsbemærkninger'!P82","v":0},{"$f":"'Log til revisionsbemærkninger'!Q82","v":0},{"$f":"'Log til revisionsbemærkninger'!R82","v":0},{"$f":"'Log til revisionsbemærkninger'!S82","v":0},{"$f":"'Log til revisionsbemærkninger'!T82","v":0},{"$f":"'Log til revisionsbemærkninger'!U82","v":0},{"$f":"'Log til revisionsbemærkninger'!V82","v":0},{"$f":"'Log til revisionsbemærkninger'!W82","v":0},{"$f":"'Log til revisionsbemærkninger'!X82","v":0}]
[null,{"$f":"'Log til revisionsbemærkninger'!C83","v":0},{"$f":"'Log til revisionsbemærkninger'!D83","v":0},{"$f":"'Log til revisionsbemærkninger'!E83","v":0},{"$f":"'Log til revisionsbemærkninger'!F83","v":0},{"$f":"'Log til revisionsbemærkninger'!G83","v":0},{"$f":"'Log til revisionsbemærkninger'!H83","v":0},{"$f":"'Log til revisionsbemærkninger'!I83","v":0},{"$f":"'Log til revisionsbemærkninger'!J83","v":0},{"$f":"'Log til revisionsbemærkninger'!K83","v":0},{"$f":"'Log til revisionsbemærkninger'!L83","v":0},{"$f":"'Log til revisionsbemærkninger'!M83","v":0},{"$f":"'Log til revisionsbemærkninger'!N83","v":0},{"$f":"'Log til revisionsbemærkninger'!O83","v":0},{"$f":"'Log til revisionsbemærkninger'!P83","v":0},{"$f":"'Log til revisionsbemærkninger'!Q83","v":0},{"$f":"'Log til revisionsbemærkninger'!R83","v":0},{"$f":"'Log til revisionsbemærkninger'!S83","v":0},{"$f":"'Log til revisionsbemærkninger'!T83","v":0},{"$f":"'Log til revisionsbemærkninger'!U83","v":0},{"$f":"'Log til revisionsbemærkninger'!V83","v":0},{"$f":"'Log til revisionsbemærkninger'!W83","v":0},{"$f":"'Log til revisionsbemærkninger'!X83","v":0}]
[null,{"$f":"'Log til revisionsbemærkninger'!C84","v":0},{"$f":"'Log til revisionsbemærkninger'!D84","v":0},{"$f":"'Log til revisionsbemærkninger'!E84","v":0},{"$f":"'Log til revisionsbemærkninger'!F84","v":0},{"$f":"'Log til revisionsbemærkninger'!G84","v":0},{"$f":"'Log til revisionsbemærkninger'!H84","v":0},{"$f":"'Log til revisionsbemærkninger'!I84","v":0},{"$f":"'Log til revisionsbemærkninger'!J84","v":0},{"$f":"'Log til revisionsbemærkninger'!K84","v":0},{"$f":"'Log til revisionsbemærkninger'!L84","v":0},{"$f":"'Log til revisionsbemærkninger'!M84","v":0},{"$f":"'Log til revisionsbemærkninger'!N84","v":0},{"$f":"'Log til revisionsbemærkninger'!O84","v":0},{"$f":"'Log til revisionsbemærkninger'!P84","v":0},{"$f":"'Log til revisionsbemærkninger'!Q84","v":0},{"$f":"'Log til revisionsbemærkninger'!R84","v":0},{"$f":"'Log til revisionsbemærkninger'!S84","v":0},{"$f":"'Log til revisionsbemærkninger'!T84","v":0},{"$f":"'Log til revisionsbemærkninger'!U84","v":0},{"$f":"'Log til revisionsbemærkninger'!V84","v":0},{"$f":"'Log til revisionsbemærkninger'!W84","v":0},{"$f":"'Log til revisionsbemærkninger'!X84","v":0}]
[null,{"$f":"'Log til revisionsbemærkninger'!C85","v":0},{"$f":"'Log til revisionsbemærkninger'!D85","v":0},{"$f":"'Log til revisionsbemærkninger'!E85","v":0},{"$f":"'Log til revisionsbemærkninger'!F85","v":0},{"$f":"'Log til revisionsbemærkninger'!G85","v":0},{"$f":"'Log til revisionsbemærkninger'!H85","v":0},{"$f":"'Log til revisionsbemærkninger'!I85","v":0},{"$f":"'Log til revisionsbemærkninger'!J85","v":0},{"$f":"'Log til revisionsbemærkninger'!K85","v":0},{"$f":"'Log til revisionsbemærkninger'!L85","v":0},{"$f":"'Log til revisionsbemærkninger'!M85","v":0},{"$f":"'Log til revisionsbemærkninger'!N85","v":0},{"$f":"'Log til revisionsbemærkninger'!O85","v":0},{"$f":"'Log til revisionsbemærkninger'!P85","v":0},{"$f":"'Log til revisionsbemærkninger'!Q85","v":0},{"$f":"'Log til revisionsbemærkninger'!R85","v":0},{"$f":"'Log til revisionsbemærkninger'!S85","v":0},{"$f":"'Log til revisionsbemærkninger'!T85","v":0},{"$f":"'Log til revisionsbemærkninger'!U85","v":0},{"$f":"'Log til revisionsbemærkninger'!V85","v":0},{"$f":"'Log til revisionsbemærkninger'!W85","v":0},{"$f":"'Log til revisionsbemærkninger'!X85","v":0}]
[null,{"$f":"'Log til revisionsbemærkninger'!C86","v":0},{"$f":"'Log til revisionsbemærkninger'!D86","v":0},{"$f":"'Log til revisionsbemærkninger'!E86","v":0},{"$f":"'Log til revisionsbemærkninger'!F86","v":0},{"$f":"'Log til revisionsbemærkninger'!G86","v":0},{"$f":"'Log til revisionsbemærkninger'!H86","v":0},{"$f":"'Log til revisionsbemærkninger'!I86","v":0},{"$f":"'Log til revisionsbemærkninger'!J86","v":0},{"$f":"'Log til revisionsbemærkninger'!K86","v":0},{"$f":"'Log til revisionsbemærkninger'!L86","v":0},{"$f":"'Log til revisionsbemærkninger'!M86","v":0},{"$f":"'Log til revisionsbemærkninger'!N86","v":0},{"$f":"'Log til revisionsbemærkninger'!O86","v":0},{"$f":"'Log til revisionsbemærkninger'!P86","v":0},{"$f":"'Log til revisionsbemærkninger'!Q86","v":0},{"$f":"'Log til revisionsbemærkninger'!R86","v":0},{"$f":"'Log til revisionsbemærkninger'!S86","v":0},{"$f":"'Log til revisionsbemærkninger'!T86","v":0},{"$f":"'Log til revisionsbemærkninger'!U86","v":0},{"$f":"'Log til revisionsbemærkninger'!V86","v":0},{"$f":"'Log til revisionsbemærkninger'!W86","v":0},{"$f":"'Log til revisionsbemærkninger'!X86","v":0}]
[null,{"$f":"'Log til revisionsbemærkninger'!C87","v":0},{"$f":"'Log til revisionsbemærkninger'!D87","v":0},{"$f":"'Log til revisionsbemærkninger'!E87","v":0},{"$f":"'Log til revisionsbemærkninger'!F87","v":0},{"$f":"'Log til revisionsbemærkninger'!G87","v":0},{"$f":"'Log til revisionsbemærkninger'!H87","v":0},{"$f":"'Log til revisionsbemærkninger'!I87","v":0},{"$f":"'Log til revisionsbemærkninger'!J87","v":0},{"$f":"'Log til revisionsbemærkninger'!K87","v":0},{"$f":"'Log til revisionsbemærkninger'!L87","v":0},{"$f":"'Log til revisionsbemærkninger'!M87","v":0},{"$f":"'Log til revisionsbemærkninger'!N87","v":0},{"$f":"'Log til revisionsbemærkninger'!O87","v":0},{"$f":"'Log til revisionsbemærkninger'!P87","v":0},{"$f":"'Log til revisionsbemærkninger'!Q87","v":0},{"$f":"'Log til revisionsbemærkninger'!R87","v":0},{"$f":"'Log til revisionsbemærkninger'!S87","v":0},{"$f":"'Log til revisionsbemærkninger'!T87","v":0},{"$f":"'Log til revisionsbemærkninger'!U87","v":0},{"$f":"'Log til revisionsbemærkninger'!V87","v":0},{"$f":"'Log til revisionsbemærkninger'!W87","v":0},{"$f":"'Log til revisionsbemærkninger'!X87","v":0}]
[null,{"$f":"'Log til revisionsbemærkninger'!C88","v":0},{"$f":"'Log til revisionsbemærkninger'!D88","v":0},{"$f":"'Log til revisionsbemærkninger'!E88","v":0},{"$f":"'Log til revisionsbemærkninger'!F88","v":0},{"$f":"'Log til revisionsbemærkninger'!G88","v":0},{"$f":"'Log til revisionsbemærkninger'!H88","v":0},{"$f":"'Log til revisionsbemærkninger'!I88","v":0},{"$f":"'Log til revisionsbemærkninger'!J88","v":0},{"$f":"'Log til revisionsbemærkninger'!K88","v":0},{"$f":"'Log til revisionsbemærkninger'!L88","v":0},{"$f":"'Log til revisionsbemærkninger'!M88","v":0},{"$f":"'Log til revisionsbemærkninger'!N88","v":0},{"$f":"'Log til revisionsbemærkninger'!O88","v":0},{"$f":"'Log til revisionsbemærkninger'!P88","v":0},{"$f":"'Log til revisionsbemærkninger'!Q88","v":0},{"$f":"'Log til revisionsbemærkninger'!R88","v":0},{"$f":"'Log til revisionsbemærkninger'!S88","v":0},{"$f":"'Log til revisionsbemærkninger'!T88","v":0},{"$f":"'Log til revisionsbemærkninger'!U88","v":0},{"$f":"'Log til revisionsbemærkninger'!V88","v":0},{"$f":"'Log til revisionsbemærkninger'!W88","v":0},{"$f":"'Log til revisionsbemærkninger'!X88","v":0}]
[null,{"$f":"'Log til revisionsbemærkninger'!C89","v":0},{"$f":"'Log til revisionsbemærkninger'!D89","v":0},{"$f":"'Log til revisionsbemærkninger'!E89","v":0},{"$f":"'Log til revisionsbemærkninger'!F89","v":0},{"$f":"'Log til revisionsbemærkninger'!G89","v":0},{"$f":"'Log til revisionsbemærkninger'!H89","v":0},{"$f":"'Log til revisionsbemærkninger'!I89","v":0},{"$f":"'Log til revisionsbemærkninger'!J89","v":0},{"$f":"'Log til revisionsbemærkninger'!K89","v":0},{"$f":"'Log til revisionsbemærkninger'!L89","v":0},{"$f":"'Log til revisionsbemærkninger'!M89","v":0},{"$f":"'Log til revisionsbemærkninger'!N89","v":0},{"$f":"'Log til revisionsbemærkninger'!O89","v":0},{"$f":"'Log til revisionsbemærkninger'!P89","v":0},{"$f":"'Log til revisionsbemærkninger'!Q89","v":0},{"$f":"'Log til revisionsbemærkninger'!R89","v":0},{"$f":"'Log til revisionsbemærkninger'!S89","v":0},{"$f":"'Log til revisionsbemærkninger'!T89","v":0},{"$f":"'Log til revisionsbemærkninger'!U89","v":0},{"$f":"'Log til revisionsbemærkninger'!V89","v":0},{"$f":"'Log til revisionsbemærkninger'!W89","v":0},{"$f":"'Log til revisionsbemærkninger'!X89","v":0}]
[null,{"$f":"'Log til revisionsbemærkninger'!C90","v":0},{"$f":"'Log til revisionsbemærkninger'!D90","v":0},{"$f":"'Log til revisionsbemærkninger'!E90","v":0},{"$f":"'Log til revisionsbemærkninger'!F90","v":0},{"$f":"'Log til revisionsbemærkninger'!G90","v":0},{"$f":"'Log til revisionsbemærkninger'!H90","v":0},{"$f":"'Log til revisionsbemærkninger'!I90","v":0},{"$f":"'Log til revisionsbemærkninger'!J90","v":0},{"$f":"'Log til revisionsbemærkninger'!K90","v":0},{"$f":"'Log til revisionsbemærkninger'!L90","v":0},{"$f":"'Log til revisionsbemærkninger'!M90","v":0},{"$f":"'Log til revisionsbemærkninger'!N90","v":0},{"$f":"'Log til revisionsbemærkninger'!O90","v":0},{"$f":"'Log til revisionsbemærkninger'!P90","v":0},{"$f":"'Log til revisionsbemærkninger'!Q90","v":0},{"$f":"'Log til revisionsbemærkninger'!R90","v":0},{"$f":"'Log til revisionsbemærkninger'!S90","v":0},{"$f":"'Log til revisionsbemærkninger'!T90","v":0},{"$f":"'Log til revisionsbemærkninger'!U90","v":0},{"$f":"'Log til revisionsbemærkninger'!V90","v":0},{"$f":"'Log til revisionsbemærkninger'!W90","v":0},{"$f":"'Log til revisionsbemærkninger'!X90","v":0}]
[null,{"$f":"'Log til revisionsbemærkninger'!C91","v":0},{"$f":"'Log til revisionsbemærkninger'!D91","v":0},{"$f":"'Log til revisionsbemærkninger'!E91","v":0},{"$f":"'Log til revisionsbemærkninger'!F91","v":0},{"$f":"'Log til revisionsbemærkninger'!G91","v":0},{"$f":"'Log til revisionsbemærkninger'!H91","v":0},{"$f":"'Log til revisionsbemærkninger'!I91","v":0},{"$f":"'Log til revisionsbemærkninger'!J91","v":0},{"$f":"'Log til revisionsbemærkninger'!K91","v":0},{"$f":"'Log til revisionsbemærkninger'!L91","v":0},{"$f":"'Log til revisionsbemærkninger'!M91","v":0},{"$f":"'Log til revisionsbemærkninger'!N91","v":0},{"$f":"'Log til revisionsbemærkninger'!O91","v":0},{"$f":"'Log til revisionsbemærkninger'!P91","v":0},{"$f":"'Log til revisionsbemærkninger'!Q91","v":0},{"$f":"'Log til revisionsbemærkninger'!R91","v":0},{"$f":"'Log til revisionsbemærkninger'!S91","v":0},{"$f":"'Log til revisionsbemærkninger'!T91","v":0},{"$f":"'Log til revisionsbemærkninger'!U91","v":0},{"$f":"'Log til revisionsbemærkninger'!V91","v":0},{"$f":"'Log til revisionsbemærkninger'!W91","v":0},{"$f":"'Log til revisionsbemærkninger'!X91","v":0}]
[null,{"$f":"'Log til revisionsbemærkninger'!C92","v":0},{"$f":"'Log til revisionsbemærkninger'!D92","v":0},{"$f":"'Log til revisionsbemærkninger'!E92","v":0},{"$f":"'Log til revisionsbemærkninger'!F92","v":0},{"$f":"'Log til revisionsbemærkninger'!G92","v":0},{"$f":"'Log til revisionsbemærkninger'!H92","v":0},{"$f":"'Log til revisionsbemærkninger'!I92","v":0},{"$f":"'Log til revisionsbemærkninger'!J92","v":0},{"$f":"'Log til revisionsbemærkninger'!K92","v":0},{"$f":"'Log til revisionsbemærkninger'!L92","v":0},{"$f":"'Log til revisionsbemærkninger'!M92","v":0},{"$f":"'Log til revisionsbemærkninger'!N92","v":0},{"$f":"'Log til revisionsbemærkninger'!O92","v":0},{"$f":"'Log til revisionsbemærkninger'!P92","v":0},{"$f":"'Log til revisionsbemærkninger'!Q92","v":0},{"$f":"'Log til revisionsbemærkninger'!R92","v":0},{"$f":"'Log til revisionsbemærkninger'!S92","v":0},{"$f":"'Log til revisionsbemærkninger'!T92","v":0},{"$f":"'Log til revisionsbemærkninger'!U92","v":0},{"$f":"'Log til revisionsbemærkninger'!V92","v":0},{"$f":"'Log til revisionsbemærkninger'!W92","v":0},{"$f":"'Log til revisionsbemærkninger'!X92","v":0}]
[null,{"$f":"'Log til revisionsbemærkninger'!C93","v":0},{"$f":"'Log til revisionsbemærkninger'!D93","v":0},{"$f":"'Log til revisionsbemærkninger'!E93","v":0},{"$f":"'Log til revisionsbemærkninger'!F93","v":0},{"$f":"'Log til revisionsbemærkninger'!G93","v":0},{"$f":"'Log til revisionsbemærkninger'!H93","v":0},{"$f":"'Log til revisionsbemærkninger'!I93","v":0},{"$f":"'Log til revisionsbemærkninger'!J93","v":0},{"$f":"'Log til revisionsbemærkninger'!K93","v":0},{"$f":"'Log til revisionsbemærkninger'!L93","v":0},{"$f":"'Log til revisionsbemærkninger'!M93","v":0},{"$f":"'Log til revisionsbemærkninger'!N93","v":0},{"$f":"'Log til revisionsbemærkninger'!O93","v":0},{"$f":"'Log til revisionsbemærkninger'!P93","v":0},{"$f":"'Log til revisionsbemærkninger'!Q93","v":0},{"$f":"'Log til revisionsbemærkninger'!R93","v":0},{"$f":"'Log til revisionsbemærkninger'!S93","v":0},{"$f":"'Log til revisionsbemærkninger'!T93","v":0},{"$f":"'Log til revisionsbemærkninger'!U93","v":0},{"$f":"'Log til revisionsbemærkninger'!V93","v":0},{"$f":"'Log til revisionsbemærkninger'!W93","v":0},{"$f":"'Log til revisionsbemærkninger'!X93","v":0}]
[null,{"$f":"'Log til revisionsbemærkninger'!C94","v":0},{"$f":"'Log til revisionsbemærkninger'!D94","v":0},{"$f":"'Log til revisionsbemærkninger'!E94","v":0},{"$f":"'Log til revisionsbemærkninger'!F94","v":0},{"$f":"'Log til revisionsbemærkninger'!G94","v":0},{"$f":"'Log til revisionsbemærkninger'!H94","v":0},{"$f":"'Log til revisionsbemærkninger'!I94","v":0},{"$f":"'Log til revisionsbemærkninger'!J94","v":0},{"$f":"'Log til revisionsbemærkninger'!K94","v":0},{"$f":"'Log til revisionsbemærkninger'!L94","v":0},{"$f":"'Log til revisionsbemærkninger'!M94","v":0},{"$f":"'Log til revisionsbemærkninger'!N94","v":0},{"$f":"'Log til revisionsbemærkninger'!O94","v":0},{"$f":"'Log til revisionsbemærkninger'!P94","v":0},{"$f":"'Log til revisionsbemærkninger'!Q94","v":0},{"$f":"'Log til revisionsbemærkninger'!R94","v":0},{"$f":"'Log til revisionsbemærkninger'!S94","v":0},{"$f":"'Log til revisionsbemærkninger'!T94","v":0},{"$f":"'Log til revisionsbemærkninger'!U94","v":0},{"$f":"'Log til revisionsbemærkninger'!V94","v":0},{"$f":"'Log til revisionsbemærkninger'!W94","v":0},{"$f":"'Log til revisionsbemærkninger'!X94","v":0}]
[null,{"$f":"'Log til revisionsbemærkninger'!C95","v":0},{"$f":"'Log til revisionsbemærkninger'!D95","v":0},{"$f":"'Log til revisionsbemærkninger'!E95","v":0},{"$f":"'Log til revisionsbemærkninger'!F95","v":0},{"$f":"'Log til revisionsbemærkninger'!G95","v":0},{"$f":"'Log til revisionsbemærkninger'!H95","v":0},{"$f":"'Log til revisionsbemærkninger'!I95","v":0},{"$f":"'Log til revisionsbemærkninger'!J95","v":0},{"$f":"'Log til revisionsbemærkninger'!K95","v":0},{"$f":"'Log til revisionsbemærkninger'!L95","v":0},{"$f":"'Log til revisionsbemærkninger'!M95","v":0},{"$f":"'Log til revisionsbemærkninger'!N95","v":0},{"$f":"'Log til revisionsbemærkninger'!O95","v":0},{"$f":"'Log til revisionsbemærkninger'!P95","v":0},{"$f":"'Log til revisionsbemærkninger'!Q95","v":0},{"$f":"'Log til revisionsbemærkninger'!R95","v":0},{"$f":"'Log til revisionsbemærkninger'!S95","v":0},{"$f":"'Log til revisionsbemærkninger'!T95","v":0},{"$f":"'Log til revisionsbemærkninger'!U95","v":0},{"$f":"'Log til revisionsbemærkninger'!V95","v":0},{"$f":"'Log til revisionsbemærkninger'!W95","v":0},{"$f":"'Log til revisionsbemærkninger'!X95","v":0}]
[null,{"$f":"'Log til revisionsbemærkninger'!C96","v":0},{"$f":"'Log til revisionsbemærkninger'!D96","v":0},{"$f":"'Log til revisionsbemærkninger'!E96","v":0},{"$f":"'Log til revisionsbemærkninger'!F96","v":0},{"$f":"'Log til revisionsbemærkninger'!G96","v":0},{"$f":"'Log til revisionsbemærkninger'!H96","v":0},{"$f":"'Log til revisionsbemærkninger'!I96","v":0},{"$f":"'Log til revisionsbemærkninger'!J96","v":0},{"$f":"'Log til revisionsbemærkninger'!K96","v":0},{"$f":"'Log til revisionsbemærkninger'!L96","v":0},{"$f":"'Log til revisionsbemærkninger'!M96","v":0},{"$f":"'Log til revisionsbemærkninger'!N96","v":0},{"$f":"'Log til revisionsbemærkninger'!O96","v":0},{"$f":"'Log til revisionsbemærkninger'!P96","v":0},{"$f":"'Log til revisionsbemærkninger'!Q96","v":0},{"$f":"'Log til revisionsbemærkninger'!R96","v":0},{"$f":"'Log til revisionsbemærkninger'!S96","v":0},{"$f":"'Log til revisionsbemærkninger'!T96","v":0},{"$f":"'Log til revisionsbemærkninger'!U96","v":0},{"$f":"'Log til revisionsbemærkninger'!V96","v":0},{"$f":"'Log til revisionsbemærkninger'!W96","v":0},{"$f":"'Log til revisionsbemærkninger'!X96","v":0}]
[null,{"$f":"'Log til revisionsbemærkninger'!C97","v":0},{"$f":"'Log til revisionsbemærkninger'!D97","v":0},{"$f":"'Log til revisionsbemærkninger'!E97","v":0},{"$f":"'Log til revisionsbemærkninger'!F97","v":0},{"$f":"'Log til revisionsbemærkninger'!G97","v":0},{"$f":"'Log til revisionsbemærkninger'!H97","v":0},{"$f":"'Log til revisionsbemærkninger'!I97","v":0},{"$f":"'Log til revisionsbemærkninger'!J97","v":0},{"$f":"'Log til revisionsbemærkninger'!K97","v":0},{"$f":"'Log til revisionsbemærkninger'!L97","v":0},{"$f":"'Log til revisionsbemærkninger'!M97","v":0},{"$f":"'Log til revisionsbemærkninger'!N97","v":0},{"$f":"'Log til revisionsbemærkninger'!O97","v":0},{"$f":"'Log til revisionsbemærkninger'!P97","v":0},{"$f":"'Log til revisionsbemærkninger'!Q97","v":0},{"$f":"'Log til revisionsbemærkninger'!R97","v":0},{"$f":"'Log til revisionsbemærkninger'!S97","v":0},{"$f":"'Log til revisionsbemærkninger'!T97","v":0},{"$f":"'Log til revisionsbemærkninger'!U97","v":0},{"$f":"'Log til revisionsbemærkninger'!V97","v":0},{"$f":"'Log til revisionsbemærkninger'!W97","v":0},{"$f":"'Log til revisionsbemærkninger'!X97","v":0}]
[null,{"$f":"'Log til revisionsbemærkninger'!C98","v":0},{"$f":"'Log til revisionsbemærkninger'!D98","v":0},{"$f":"'Log til revisionsbemærkninger'!E98","v":0},{"$f":"'Log til revisionsbemærkninger'!F98","v":0},{"$f":"'Log til revisionsbemærkninger'!G98","v":0},{"$f":"'Log til revisionsbemærkninger'!H98","v":0},{"$f":"'Log til revisionsbemærkninger'!I98","v":0},{"$f":"'Log til revisionsbemærkninger'!J98","v":0},{"$f":"'Log til revisionsbemærkninger'!K98","v":0},{"$f":"'Log til revisionsbemærkninger'!L98","v":0},{"$f":"'Log til revisionsbemærkninger'!M98","v":0},{"$f":"'Log til revisionsbemærkninger'!N98","v":0},{"$f":"'Log til revisionsbemærkninger'!O98","v":0},{"$f":"'Log til revisionsbemærkninger'!P98","v":0},{"$f":"'Log til revisionsbemærkninger'!Q98","v":0},{"$f":"'Log til revisionsbemærkninger'!R98","v":0},{"$f":"'Log til revisionsbemærkninger'!S98","v":0},{"$f":"'Log til revisionsbemærkninger'!T98","v":0},{"$f":"'Log til revisionsbemærkninger'!U98","v":0},{"$f":"'Log til revisionsbemærkninger'!V98","v":0},{"$f":"'Log til revisionsbemærkninger'!W98","v":0},{"$f":"'Log til revisionsbemærkninger'!X98","v":0}]
[null,{"$f":"'Log til revisionsbemærkninger'!C99","v":0},{"$f":"'Log til revisionsbemærkninger'!D99","v":0},{"$f":"'Log til revisionsbemærkninger'!E99","v":0},{"$f":"'Log til revisionsbemærkninger'!F99","v":0},{"$f":"'Log til revisionsbemærkninger'!G99","v":0},{"$f":"'Log til revisionsbemærkninger'!H99","v":0},{"$f":"'Log til revisionsbemærkninger'!I99","v":0},{"$f":"'Log til revisionsbemærkninger'!J99","v":0},{"$f":"'Log til revisionsbemærkninger'!K99","v":0},{"$f":"'Log til revisionsbemærkninger'!L99","v":0},{"$f":"'Log til revisionsbemærkninger'!M99","v":0},{"$f":"'Log til revisionsbemærkninger'!N99","v":0},{"$f":"'Log til revisionsbemærkninger'!O99","v":0},{"$f":"'Log til revisionsbemærkninger'!P99","v":0},{"$f":"'Log til revisionsbemærkninger'!Q99","v":0},{"$f":"'Log til revisionsbemærkninger'!R99","v":0},{"$f":"'Log til revisionsbemærkninger'!S99","v":0},{"$f":"'Log til revisionsbemærkninger'!T99","v":0},{"$f":"'Log til revisionsbemærkninger'!U99","v":0},{"$f":"'Log til revisionsbemærkninger'!V99","v":0},{"$f":"'Log til revisionsbemærkninger'!W99","v":0},{"$f":"'Log til revisionsbemærkninger'!X99","v":0}]
[null,{"$f":"'Log til revisionsbemærkninger'!C100","v":0},{"$f":"'Log til revisionsbemærkninger'!D100","v":0},{"$f":"'Log til revisionsbemærkninger'!E100","v":0},{"$f":"'Log til revisionsbemærkninger'!F100","v":0},{"$f":"'Log til revisionsbemærkninger'!G100","v":0},{"$f":"'Log til revisionsbemærkninger'!H100","v":0},{"$f":"'Log til revisionsbemærkninger'!I100","v":0},{"$f":"'Log til revisionsbemærkninger'!J100","v":0},{"$f":"'Log til revisionsbemærkninger'!K100","v":0},{"$f":"'Log til revisionsbemærkninger'!L100","v":0},{"$f":"'Log til revisionsbemærkninger'!M100","v":0},{"$f":"'Log til revisionsbemærkninger'!N100","v":0},{"$f":"'Log til revisionsbemærkninger'!O100","v":0},{"$f":"'Log til revisionsbemærkninger'!P100","v":0},{"$f":"'Log til revisionsbemærkninger'!Q100","v":0},{"$f":"'Log til revisionsbemærkninger'!R100","v":0},{"$f":"'Log til revisionsbemærkninger'!S100","v":0},{"$f":"'Log til revisionsbemærkninger'!T100","v":0},{"$f":"'Log til revisionsbemærkninger'!U100","v":0},{"$f":"'Log til revisionsbemærkninger'!V100","v":0},{"$f":"'Log til revisionsbemærkninger'!W100","v":0},{"$f":"'Log til revisionsbemærkninger'!X100","v":0}]
[null,{"$f":"'Log til revisionsbemærkninger'!C101","v":0},{"$f":"'Log til revisionsbemærkninger'!D101","v":0},{"$f":"'Log til revisionsbemærkninger'!E101","v":0},{"$f":"'Log til revisionsbemærkninger'!F101","v":0},{"$f":"'Log til revisionsbemærkninger'!G101","v":0},{"$f":"'Log til revisionsbemærkninger'!H101","v":0},{"$f":"'Log til revisionsbemærkninger'!I101","v":0},{"$f":"'Log til revisionsbemærkninger'!J101","v":0},{"$f":"'Log til revisionsbemærkninger'!K101","v":0},{"$f":"'Log til revisionsbemærkninger'!L101","v":0},{"$f":"'Log til revisionsbemærkninger'!M101","v":0},{"$f":"'Log til revisionsbemærkninger'!N101","v":0},{"$f":"'Log til revisionsbemærkninger'!O101","v":0},{"$f":"'Log til revisionsbemærkninger'!P101","v":0},{"$f":"'Log til revisionsbemærkninger'!Q101","v":0},{"$f":"'Log til revisionsbemærkninger'!R101","v":0},{"$f":"'Log til revisionsbemærkninger'!S101","v":0},{"$f":"'Log til revisionsbemærkninger'!T101","v":0},{"$f":"'Log til revisionsbemærkninger'!U101","v":0},{"$f":"'Log til revisionsbemærkninger'!V101","v":0},{"$f":"'Log til revisionsbemærkninger'!W101","v":0},{"$f":"'Log til revisionsbemærkninger'!X101","v":0}]
[null,{"$f":"'Log til revisionsbemærkninger'!C102","v":0},{"$f":"'Log til revisionsbemærkninger'!D102","v":0},{"$f":"'Log til revisionsbemærkninger'!E102","v":0},{"$f":"'Log til revisionsbemærkninger'!F102","v":0},{"$f":"'Log til revisionsbemærkninger'!G102","v":0},{"$f":"'Log til revisionsbemærkninger'!H102","v":0},{"$f":"'Log til revisionsbemærkninger'!I102","v":0},{"$f":"'Log til revisionsbemærkninger'!J102","v":0},{"$f":"'Log til revisionsbemærkninger'!K102","v":0},{"$f":"'Log til revisionsbemærkninger'!L102","v":0},{"$f":"'Log til revisionsbemærkninger'!M102","v":0},{"$f":"'Log til revisionsbemærkninger'!N102","v":0},{"$f":"'Log til revisionsbemærkninger'!O102","v":0},{"$f":"'Log til revisionsbemærkninger'!P102","v":0},{"$f":"'Log til revisionsbemærkninger'!Q102","v":0},{"$f":"'Log til revisionsbemærkninger'!R102","v":0},{"$f":"'Log til revisionsbemærkninger'!S102","v":0},{"$f":"'Log til revisionsbemærkninger'!T102","v":0},{"$f":"'Log til revisionsbemærkninger'!U102","v":0},{"$f":"'Log til revisionsbemærkninger'!V102","v":0},{"$f":"'Log til revisionsbemærkninger'!W102","v":0},{"$f":"'Log til revisionsbemærkninger'!X102","v":0}]
[null,{"$f":"'Log til revisionsbemærkninger'!C103","v":0},{"$f":"'Log til revisionsbemærkninger'!D103","v":0},{"$f":"'Log til revisionsbemærkninger'!E103","v":0},{"$f":"'Log til revisionsbemærkninger'!F103","v":0},{"$f":"'Log til revisionsbemærkninger'!G103","v":0},{"$f":"'Log til revisionsbemærkninger'!H103","v":0},{"$f":"'Log til revisionsbemærkninger'!I103","v":0},{"$f":"'Log til revisionsbemærkninger'!J103","v":0},{"$f":"'Log til revisionsbemærkninger'!K103","v":0},{"$f":"'Log til revisionsbemærkninger'!L103","v":0},{"$f":"'Log til revisionsbemærkninger'!M103","v":0},{"$f":"'Log til revisionsbemærkninger'!N103","v":0},{"$f":"'Log til revisionsbemærkninger'!O103","v":0},{"$f":"'Log til revisionsbemærkninger'!P103","v":0},{"$f":"'Log til revisionsbemærkninger'!Q103","v":0},{"$f":"'Log til revisionsbemærkninger'!R103","v":0},{"$f":"'Log til revisionsbemærkninger'!S103","v":0},{"$f":"'Log til revisionsbemærkninger'!T103","v":0},{"$f":"'Log til revisionsbemærkninger'!U103","v":0},{"$f":"'Log til revisionsbemærkninger'!V103","v":0},{"$f":"'Log til revisionsbemærkninger'!W103","v":0},{"$f":"'Log til revisionsbemærkninger'!X103","v":0}]
[null,{"$f":"'Log til revisionsbemærkninger'!C104","v":0},{"$f":"'Log til revisionsbemærkninger'!D104","v":0},{"$f":"'Log til revisionsbemærkninger'!E104","v":0},{"$f":"'Log til revisionsbemærkninger'!F104","v":0},{"$f":"'Log til revisionsbemærkninger'!G104","v":0},{"$f":"'Log til revisionsbemærkninger'!H104","v":0},{"$f":"'Log til revisionsbemærkninger'!I104","v":0},{"$f":"'Log til revisionsbemærkninger'!J104","v":0},{"$f":"'Log til revisionsbemærkninger'!K104","v":0},{"$f":"'Log til revisionsbemærkninger'!L104","v":0},{"$f":"'Log til revisionsbemærkninger'!M104","v":0},{"$f":"'Log til revisionsbemærkninger'!N104","v":0},{"$f":"'Log til revisionsbemærkninger'!O104","v":0},{"$f":"'Log til revisionsbemærkninger'!P104","v":0},{"$f":"'Log til revisionsbemærkninger'!Q104","v":0},{"$f":"'Log til revisionsbemærkninger'!R104","v":0},{"$f":"'Log til revisionsbemærkninger'!S104","v":0},{"$f":"'Log til revisionsbemærkninger'!T104","v":0},{"$f":"'Log til revisionsbemærkninger'!U104","v":0},{"$f":"'Log til revisionsbemærkninger'!V104","v":0},{"$f":"'Log til revisionsbemærkninger'!W104","v":0},{"$f":"'Log til revisionsbemærkninger'!X104","v":0}]
[null,{"$f":"'Log til revisionsbemærkninger'!C105","v":0},{"$f":"'Log til revisionsbemærkninger'!D105","v":0},{"$f":"'Log til revisionsbemærkninger'!E105","v":0},{"$f":"'Log til revisionsbemærkninger'!F105","v":0},{"$f":"'Log til revisionsbemærkninger'!G105","v":0},{"$f":"'Log til revisionsbemærkninger'!H105","v":0},{"$f":"'Log til revisionsbemærkninger'!I105","v":0},{"$f":"'Log til revisionsbemærkninger'!J105","v":0},{"$f":"'Log til revisionsbemærkninger'!K105","v":0},{"$f":"'Log til revisionsbemærkninger'!L105","v":0},{"$f":"'Log til revisionsbemærkninger'!M105","v":0},{"$f":"'Log til revisionsbemærkninger'!N105","v":0},{"$f":"'Log til revisionsbemærkninger'!O105","v":0},{"$f":"'Log til revisionsbemærkninger'!P105","v":0},{"$f":"'Log til revisionsbemærkninger'!Q105","v":0},{"$f":"'Log til revisionsbemærkninger'!R105","v":0},{"$f":"'Log til revisionsbemærkninger'!S105","v":0},{"$f":"'Log til revisionsbemærkninger'!T105","v":0},{"$f":"'Log til revisionsbemærkninger'!U105","v":0},{"$f":"'Log til revisionsbemærkninger'!V105","v":0},{"$f":"'Log til revisionsbemærkninger'!W105","v":0},{"$f":"'Log til revisionsbemærkninger'!X105","v":0}]
[null,{"$f":"'Log til revisionsbemærkninger'!C106","v":0},{"$f":"'Log til revisionsbemærkninger'!D106","v":0},{"$f":"'Log til revisionsbemærkninger'!E106","v":0},{"$f":"'Log til revisionsbemærkninger'!F106","v":0},{"$f":"'Log til revisionsbemærkninger'!G106","v":0},{"$f":"'Log til revisionsbemærkninger'!H106","v":0},{"$f":"'Log til revisionsbemærkninger'!I106","v":0},{"$f":"'Log til revisionsbemærkninger'!J106","v":0},{"$f":"'Log til revisionsbemærkninger'!K106","v":0},{"$f":"'Log til revisionsbemærkninger'!L106","v":0},{"$f":"'Log til revisionsbemærkninger'!M106","v":0},{"$f":"'Log til revisionsbemærkninger'!N106","v":0},{"$f":"'Log til revisionsbemærkninger'!O106","v":0},{"$f":"'Log til revisionsbemærkninger'!P106","v":0},{"$f":"'Log til revisionsbemærkninger'!Q106","v":0},{"$f":"'Log til revisionsbemærkninger'!R106","v":0},{"$f":"'Log til revisionsbemærkninger'!S106","v":0},{"$f":"'Log til revisionsbemærkninger'!T106","v":0},{"$f":"'Log til revisionsbemærkninger'!U106","v":0},{"$f":"'Log til revisionsbemærkninger'!V106","v":0},{"$f":"'Log til revisionsbemærkninger'!W106","v":0},{"$f":"'Log til revisionsbemærkninger'!X106","v":0}]
[null,{"$f":"'Log til revisionsbemærkninger'!C107","v":0},{"$f":"'Log til revisionsbemærkninger'!D107","v":0},{"$f":"'Log til revisionsbemærkninger'!E107","v":0},{"$f":"'Log til revisionsbemærkninger'!F107","v":0},{"$f":"'Log til revisionsbemærkninger'!G107","v":0},{"$f":"'Log til revisionsbemærkninger'!H107","v":0},{"$f":"'Log til revisionsbemærkninger'!I107","v":0},{"$f":"'Log til revisionsbemærkninger'!J107","v":0},{"$f":"'Log til revisionsbemærkninger'!K107","v":0},{"$f":"'Log til revisionsbemærkninger'!L107","v":0},{"$f":"'Log til revisionsbemærkninger'!M107","v":0},{"$f":"'Log til revisionsbemærkninger'!N107","v":0},{"$f":"'Log til revisionsbemærkninger'!O107","v":0},{"$f":"'Log til revisionsbemærkninger'!P107","v":0},{"$f":"'Log til revisionsbemærkninger'!Q107","v":0},{"$f":"'Log til revisionsbemærkninger'!R107","v":0},{"$f":"'Log til revisionsbemærkninger'!S107","v":0},{"$f":"'Log til revisionsbemærkninger'!T107","v":0},{"$f":"'Log til revisionsbemærkninger'!U107","v":0},{"$f":"'Log til revisionsbemærkninger'!V107","v":0},{"$f":"'Log til revisionsbemærkninger'!W107","v":0},{"$f":"'Log til revisionsbemærkninger'!X107","v":0}]
[null,{"$f":"'Log til revisionsbemærkninger'!C108","v":0},{"$f":"'Log til revisionsbemærkninger'!D108","v":0},{"$f":"'Log til revisionsbemærkninger'!E108","v":0},{"$f":"'Log til revisionsbemærkninger'!F108","v":0},{"$f":"'Log til revisionsbemærkninger'!G108","v":0},{"$f":"'Log til revisionsbemærkninger'!H108","v":0},{"$f":"'Log til revisionsbemærkninger'!I108","v":0},{"$f":"'Log til revisionsbemærkninger'!J108","v":0},{"$f":"'Log til revisionsbemærkninger'!K108","v":0},{"$f":"'Log til revisionsbemærkninger'!L108","v":0},{"$f":"'Log til revisionsbemærkninger'!M108","v":0},{"$f":"'Log til revisionsbemærkninger'!N108","v":0},{"$f":"'Log til revisionsbemærkninger'!O108","v":0},{"$f":"'Log til revisionsbemærkninger'!P108","v":0},{"$f":"'Log til revisionsbemærkninger'!Q108","v":0},{"$f":"'Log til revisionsbemærkninger'!R108","v":0},{"$f":"'Log til revisionsbemærkninger'!S108","v":0},{"$f":"'Log til revisionsbemærkninger'!T108","v":0},{"$f":"'Log til revisionsbemærkninger'!U108","v":0},{"$f":"'Log til revisionsbemærkninger'!V108","v":0},{"$f":"'Log til revisionsbemærkninger'!W108","v":0},{"$f":"'Log til revisionsbemærkninger'!X108","v":0}]
[null,{"$f":"'Log til revisionsbemærkninger'!C109","v":0},{"$f":"'Log til revisionsbemærkninger'!D109","v":0},{"$f":"'Log til revisionsbemærkninger'!E109","v":0},{"$f":"'Log til revisionsbemærkninger'!F109","v":0},{"$f":"'Log til revisionsbemærkninger'!G109","v":0},{"$f":"'Log til revisionsbemærkninger'!H109","v":0},{"$f":"'Log til revisionsbemærkninger'!I109","v":0},{"$f":"'Log til revisionsbemærkninger'!J109","v":0},{"$f":"'Log til revisionsbemærkninger'!K109","v":0},{"$f":"'Log til revisionsbemærkninger'!L109","v":0},{"$f":"'Log til revisionsbemærkninger'!M109","v":0},{"$f":"'Log til revisionsbemærkninger'!N109","v":0},{"$f":"'Log til revisionsbemærkninger'!O109","v":0},{"$f":"'Log til revisionsbemærkninger'!P109","v":0},{"$f":"'Log til revisionsbemærkninger'!Q109","v":0},{"$f":"'Log til revisionsbemærkninger'!R109","v":0},{"$f":"'Log til revisionsbemærkninger'!S109","v":0},{"$f":"'Log til revisionsbemærkninger'!T109","v":0},{"$f":"'Log til revisionsbemærkninger'!U109","v":0},{"$f":"'Log til revisionsbemærkninger'!V109","v":0},{"$f":"'Log til revisionsbemærkninger'!W109","v":0},{"$f":"'Log til revisionsbemærkninger'!X109","v":0}]
[null,{"$f":"'Log til revisionsbemærkninger'!C110","v":0},{"$f":"'Log til revisionsbemærkninger'!D110","v":0},{"$f":"'Log til revisionsbemærkninger'!E110","v":0},{"$f":"'Log til revisionsbemærkninger'!F110","v":0},{"$f":"'Log til revisionsbemærkninger'!G110","v":0},{"$f":"'Log til revisionsbemærkninger'!H110","v":0},{"$f":"'Log til revisionsbemærkninger'!I110","v":0},{"$f":"'Log til revisionsbemærkninger'!J110","v":0},{"$f":"'Log til revisionsbemærkninger'!K110","v":0},{"$f":"'Log til revisionsbemærkninger'!L110","v":0},{"$f":"'Log til revisionsbemærkninger'!M110","v":0},{"$f":"'Log til revisionsbemærkninger'!N110","v":0},{"$f":"'Log til revisionsbemærkninger'!O110","v":0},{"$f":"'Log til revisionsbemærkninger'!P110","v":0},{"$f":"'Log til revisionsbemærkninger'!Q110","v":0},{"$f":"'Log til revisionsbemærkninger'!R110","v":0},{"$f":"'Log til revisionsbemærkninger'!S110","v":0},{"$f":"'Log til revisionsbemærkninger'!T110","v":0},{"$f":"'Log til revisionsbemærkninger'!U110","v":0},{"$f":"'Log til revisionsbemærkninger'!V110","v":0},{"$f":"'Log til revisionsbemærkninger'!W110","v":0},{"$f":"'Log til revisionsbemærkninger'!X110","v":0}]
[null,{"$f":"'Log til revisionsbemærkninger'!C111","v":0},{"$f":"'Log til revisionsbemærkninger'!D111","v":0},{"$f":"'Log til revisionsbemærkninger'!E111","v":0},{"$f":"'Log til revisionsbemærkninger'!F111","v":0},{"$f":"'Log til revisionsbemærkninger'!G111","v":0},{"$f":"'Log til revisionsbemærkninger'!H111","v":0},{"$f":"'Log til revisionsbemærkninger'!I111","v":0},{"$f":"'Log til revisionsbemærkninger'!J111","v":0},{"$f":"'Log til revisionsbemærkninger'!K111","v":0},{"$f":"'Log til revisionsbemærkninger'!L111","v":0},{"$f":"'Log til revisionsbemærkninger'!M111","v":0},{"$f":"'Log til revisionsbemærkninger'!N111","v":0},{"$f":"'Log til revisionsbemærkninger'!O111","v":0},{"$f":"'Log til revisionsbemærkninger'!P111","v":0},{"$f":"'Log til revisionsbemærkninger'!Q111","v":0},{"$f":"'Log til revisionsbemærkninger'!R111","v":0},{"$f":"'Log til revisionsbemærkninger'!S111","v":0},{"$f":"'Log til revisionsbemærkninger'!T111","v":0},{"$f":"'Log til revisionsbemærkninger'!U111","v":0},{"$f":"'Log til revisionsbemærkninger'!V111","v":0},{"$f":"'Log til revisionsbemærkninger'!W111","v":0},{"$f":"'Log til revisionsbemærkninger'!X111","v":0}]
[null,{"$f":"'Log til revisionsbemærkninger'!C112","v":0},{"$f":"'Log til revisionsbemærkninger'!D112","v":0},{"$f":"'Log til revisionsbemærkninger'!E112","v":0},{"$f":"'Log til revisionsbemærkninger'!F112","v":0},{"$f":"'Log til revisionsbemærkninger'!G112","v":0},{"$f":"'Log til revisionsbemærkninger'!H112","v":0},{"$f":"'Log til revisionsbemærkninger'!I112","v":0},{"$f":"'Log til revisionsbemærkninger'!J112","v":0},{"$f":"'Log til revisionsbemærkninger'!K112","v":0},{"$f":"'Log til revisionsbemærkninger'!L112","v":0},{"$f":"'Log til revisionsbemærkninger'!M112","v":0},{"$f":"'Log til revisionsbemærkninger'!N112","v":0},{"$f":"'Log til revisionsbemærkninger'!O112","v":0},{"$f":"'Log til revisionsbemærkninger'!P112","v":0},{"$f":"'Log til revisionsbemærkninger'!Q112","v":0},{"$f":"'Log til revisionsbemærkninger'!R112","v":0},{"$f":"'Log til revisionsbemærkninger'!S112","v":0},{"$f":"'Log til revisionsbemærkninger'!T112","v":0},{"$f":"'Log til revisionsbemærkninger'!U112","v":0},{"$f":"'Log til revisionsbemærkninger'!V112","v":0},{"$f":"'Log til revisionsbemærkninger'!W112","v":0},{"$f":"'Log til revisionsbemærkninger'!X112","v":0}]
[null,{"$f":"'Log til revisionsbemærkninger'!C113","v":0},{"$f":"'Log til revisionsbemærkninger'!D113","v":0},{"$f":"'Log til revisionsbemærkninger'!E113","v":0},{"$f":"'Log til revisionsbemærkninger'!F113","v":0},{"$f":"'Log til revisionsbemærkninger'!G113","v":0},{"$f":"'Log til revisionsbemærkninger'!H113","v":0},{"$f":"'Log til revisionsbemærkninger'!I113","v":0},{"$f":"'Log til revisionsbemærkninger'!J113","v":0},{"$f":"'Log til revisionsbemærkninger'!K113","v":0},{"$f":"'Log til revisionsbemærkninger'!L113","v":0},{"$f":"'Log til revisionsbemærkninger'!M113","v":0},{"$f":"'Log til revisionsbemærkninger'!N113","v":0},{"$f":"'Log til revisionsbemærkninger'!O113","v":0},{"$f":"'Log til revisionsbemærkninger'!P113","v":0},{"$f":"'Log til revisionsbemærkninger'!Q113","v":0},{"$f":"'Log til revisionsbemærkninger'!R113","v":0},{"$f":"'Log til revisionsbemærkninger'!S113","v":0},{"$f":"'Log til revisionsbemærkninger'!T113","v":0},{"$f":"'Log til revisionsbemærkninger'!U113","v":0},{"$f":"'Log til revisionsbemærkninger'!V113","v":0},{"$f":"'Log til revisionsbemærkninger'!W113","v":0},{"$f":"'Log til revisionsbemærkninger'!X113","v":0}]
[null,{"$f":"'Log til revisionsbemærkninger'!C114","v":0},{"$f":"'Log til revisionsbemærkninger'!D114","v":0},{"$f":"'Log til revisionsbemærkninger'!E114","v":0},{"$f":"'Log til revisionsbemærkninger'!F114","v":0},{"$f":"'Log til revisionsbemærkninger'!G114","v":0},{"$f":"'Log til revisionsbemærkninger'!H114","v":0},{"$f":"'Log til revisionsbemærkninger'!I114","v":0},{"$f":"'Log til revisionsbemærkninger'!J114","v":0},{"$f":"'Log til revisionsbemærkninger'!K114","v":0},{"$f":"'Log til revisionsbemærkninger'!L114","v":0},{"$f":"'Log til revisionsbemærkninger'!M114","v":0},{"$f":"'Log til revisionsbemærkninger'!N114","v":0},{"$f":"'Log til revisionsbemærkninger'!O114","v":0},{"$f":"'Log til revisionsbemærkninger'!P114","v":0},{"$f":"'Log til revisionsbemærkninger'!Q114","v":0},{"$f":"'Log til revisionsbemærkninger'!R114","v":0},{"$f":"'Log til revisionsbemærkninger'!S114","v":0},{"$f":"'Log til revisionsbemærkninger'!T114","v":0},{"$f":"'Log til revisionsbemærkninger'!U114","v":0},{"$f":"'Log til revisionsbemærkninger'!V114","v":0},{"$f":"'Log til revisionsbemærkninger'!W114","v":0},{"$f":"'Log til revisionsbemærkninger'!X114","v":0}]
[null,{"$f":"'Log til revisionsbemærkninger'!C115","v":0},{"$f":"'Log til revisionsbemærkninger'!D115","v":0},{"$f":"'Log til revisionsbemærkninger'!E115","v":0},{"$f":"'Log til revisionsbemærkninger'!F115","v":0},{"$f":"'Log til revisionsbemærkninger'!G115","v":0},{"$f":"'Log til revisionsbemærkninger'!H115","v":0},{"$f":"'Log til revisionsbemærkninger'!I115","v":0},{"$f":"'Log til revisionsbemærkninger'!J115","v":0},{"$f":"'Log til revisionsbemærkninger'!K115","v":0},{"$f":"'Log til revisionsbemærkninger'!L115","v":0},{"$f":"'Log til revisionsbemærkninger'!M115","v":0},{"$f":"'Log til revisionsbemærkninger'!N115","v":0},{"$f":"'Log til revisionsbemærkninger'!O115","v":0},{"$f":"'Log til revisionsbemærkninger'!P115","v":0},{"$f":"'Log til revisionsbemærkninger'!Q115","v":0},{"$f":"'Log til revisionsbemærkninger'!R115","v":0},{"$f":"'Log til revisionsbemærkninger'!S115","v":0},{"$f":"'Log til revisionsbemærkninger'!T115","v":0},{"$f":"'Log til revisionsbemærkninger'!U115","v":0},{"$f":"'Log til revisionsbemærkninger'!V115","v":0},{"$f":"'Log til revisionsbemærkninger'!W115","v":0},{"$f":"'Log til revisionsbemærkninger'!X115","v":0}]
[null,{"$f":"'Log til revisionsbemærkninger'!C116","v":0},{"$f":"'Log til revisionsbemærkninger'!D116","v":0},{"$f":"'Log til revisionsbemærkninger'!E116","v":0},{"$f":"'Log til revisionsbemærkninger'!F116","v":0},{"$f":"'Log til revisionsbemærkninger'!G116","v":0},{"$f":"'Log til revisionsbemærkninger'!H116","v":0},{"$f":"'Log til revisionsbemærkninger'!I116","v":0},{"$f":"'Log til revisionsbemærkninger'!J116","v":0},{"$f":"'Log til revisionsbemærkninger'!K116","v":0},{"$f":"'Log til revisionsbemærkninger'!L116","v":0},{"$f":"'Log til revisionsbemærkninger'!M116","v":0},{"$f":"'Log til revisionsbemærkninger'!N116","v":0},{"$f":"'Log til revisionsbemærkninger'!O116","v":0},{"$f":"'Log til revisionsbemærkninger'!P116","v":0},{"$f":"'Log til revisionsbemærkninger'!Q116","v":0},{"$f":"'Log til revisionsbemærkninger'!R116","v":0},{"$f":"'Log til revisionsbemærkninger'!S116","v":0},{"$f":"'Log til revisionsbemærkninger'!T116","v":0},{"$f":"'Log til revisionsbemærkninger'!U116","v":0},{"$f":"'Log til revisionsbemærkninger'!V116","v":0},{"$f":"'Log til revisionsbemærkninger'!W116","v":0},{"$f":"'Log til revisionsbemærkninger'!X116","v":0}]
[null,{"$f":"'Log til revisionsbemærkninger'!C117","v":0},{"$f":"'Log til revisionsbemærkninger'!D117","v":0},{"$f":"'Log til revisionsbemærkninger'!E117","v":0},{"$f":"'Log til revisionsbemærkninger'!F117","v":0},{"$f":"'Log til revisionsbemærkninger'!G117","v":0},{"$f":"'Log til revisionsbemærkninger'!H117","v":0},{"$f":"'Log til revisionsbemærkninger'!I117","v":0},{"$f":"'Log til revisionsbemærkninger'!J117","v":0},{"$f":"'Log til revisionsbemærkninger'!K117","v":0},{"$f":"'Log til revisionsbemærkninger'!L117","v":0},{"$f":"'Log til revisionsbemærkninger'!M117","v":0},{"$f":"'Log til revisionsbemærkninger'!N117","v":0},{"$f":"'Log til revisionsbemærkninger'!O117","v":0},{"$f":"'Log til revisionsbemærkninger'!P117","v":0},{"$f":"'Log til revisionsbemærkninger'!Q117","v":0},{"$f":"'Log til revisionsbemærkninger'!R117","v":0},{"$f":"'Log til revisionsbemærkninger'!S117","v":0},{"$f":"'Log til revisionsbemærkninger'!T117","v":0},{"$f":"'Log til revisionsbemærkninger'!U117","v":0},{"$f":"'Log til revisionsbemærkninger'!V117","v":0},{"$f":"'Log til revisionsbemærkninger'!W117","v":0},{"$f":"'Log til revisionsbemærkninger'!X117","v":0}]
[null,{"$f":"'Log til revisionsbemærkninger'!C118","v":0},{"$f":"'Log til revisionsbemærkninger'!D118","v":0},{"$f":"'Log til revisionsbemærkninger'!E118","v":0},{"$f":"'Log til revisionsbemærkninger'!F118","v":0},{"$f":"'Log til revisionsbemærkninger'!G118","v":0},{"$f":"'Log til revisionsbemærkninger'!H118","v":0},{"$f":"'Log til revisionsbemærkninger'!I118","v":0},{"$f":"'Log til revisionsbemærkninger'!J118","v":0},{"$f":"'Log til revisionsbemærkninger'!K118","v":0},{"$f":"'Log til revisionsbemærkninger'!L118","v":0},{"$f":"'Log til revisionsbemærkninger'!M118","v":0},{"$f":"'Log til revisionsbemærkninger'!N118","v":0},{"$f":"'Log til revisionsbemærkninger'!O118","v":0},{"$f":"'Log til revisionsbemærkninger'!P118","v":0},{"$f":"'Log til revisionsbemærkninger'!Q118","v":0},{"$f":"'Log til revisionsbemærkninger'!R118","v":0},{"$f":"'Log til revisionsbemærkninger'!S118","v":0},{"$f":"'Log til revisionsbemærkninger'!T118","v":0},{"$f":"'Log til revisionsbemærkninger'!U118","v":0},{"$f":"'Log til revisionsbemærkninger'!V118","v":0},{"$f":"'Log til revisionsbemærkninger'!W118","v":0},{"$f":"'Log til revisionsbemærkninger'!X118","v":0}]
[null,{"$f":"'Log til revisionsbemærkninger'!C119","v":0},{"$f":"'Log til revisionsbemærkninger'!D119","v":0},{"$f":"'Log til revisionsbemærkninger'!E119","v":0},{"$f":"'Log til revisionsbemærkninger'!F119","v":0},{"$f":"'Log til revisionsbemærkninger'!G119","v":0},{"$f":"'Log til revisionsbemærkninger'!H119","v":0},{"$f":"'Log til revisionsbemærkninger'!I119","v":0},{"$f":"'Log til revisionsbemærkninger'!J119","v":0},{"$f":"'Log til revisionsbemærkninger'!K119","v":0},{"$f":"'Log til revisionsbemærkninger'!L119","v":0},{"$f":"'Log til revisionsbemærkninger'!M119","v":0},{"$f":"'Log til revisionsbemærkninger'!N119","v":0},{"$f":"'Log til revisionsbemærkninger'!O119","v":0},{"$f":"'Log til revisionsbemærkninger'!P119","v":0},{"$f":"'Log til revisionsbemærkninger'!Q119","v":0},{"$f":"'Log til revisionsbemærkninger'!R119","v":0},{"$f":"'Log til revisionsbemærkninger'!S119","v":0},{"$f":"'Log til revisionsbemærkninger'!T119","v":0},{"$f":"'Log til revisionsbemærkninger'!U119","v":0},{"$f":"'Log til revisionsbemærkninger'!V119","v":0},{"$f":"'Log til revisionsbemærkninger'!W119","v":0},{"$f":"'Log til revisionsbemærkninger'!X119","v":0}]
[null,{"$f":"'Log til revisionsbemærkninger'!C120","v":0},{"$f":"'Log til revisionsbemærkninger'!D120","v":0},{"$f":"'Log til revisionsbemærkninger'!E120","v":0},{"$f":"'Log til revisionsbemærkninger'!F120","v":0},{"$f":"'Log til revisionsbemærkninger'!G120","v":0},{"$f":"'Log til revisionsbemærkninger'!H120","v":0},{"$f":"'Log til revisionsbemærkninger'!I120","v":0},{"$f":"'Log til revisionsbemærkninger'!J120","v":0},{"$f":"'Log til revisionsbemærkninger'!K120","v":0},{"$f":"'Log til revisionsbemærkninger'!L120","v":0},{"$f":"'Log til revisionsbemærkninger'!M120","v":0},{"$f":"'Log til revisionsbemærkninger'!N120","v":0},{"$f":"'Log til revisionsbemærkninger'!O120","v":0},{"$f":"'Log til revisionsbemærkninger'!P120","v":0},{"$f":"'Log til revisionsbemærkninger'!Q120","v":0},{"$f":"'Log til revisionsbemærkninger'!R120","v":0},{"$f":"'Log til revisionsbemærkninger'!S120","v":0},{"$f":"'Log til revisionsbemærkninger'!T120","v":0},{"$f":"'Log til revisionsbemærkninger'!U120","v":0},{"$f":"'Log til revisionsbemærkninger'!V120","v":0},{"$f":"'Log til revisionsbemærkninger'!W120","v":0},{"$f":"'Log til revisionsbemærkninger'!X120","v":0}]
[null,{"$f":"'Log til revisionsbemærkninger'!C121","v":0},{"$f":"'Log til revisionsbemærkninger'!D121","v":0},{"$f":"'Log til revisionsbemærkninger'!E121","v":0},{"$f":"'Log til revisionsbemærkninger'!F121","v":0},{"$f":"'Log til revisionsbemærkninger'!G121","v":0},{"$f":"'Log til revisionsbemærkninger'!H121","v":0},{"$f":"'Log til revisionsbemærkninger'!I121","v":0},{"$f":"'Log til revisionsbemærkninger'!J121","v":0},{"$f":"'Log til revisionsbemærkninger'!K121","v":0},{"$f":"'Log til revisionsbemærkninger'!L121","v":0},{"$f":"'Log til revisionsbemærkninger'!M121","v":0},{"$f":"'Log til revisionsbemærkninger'!N121","v":0},{"$f":"'Log til revisionsbemærkninger'!O121","v":0},{"$f":"'Log til revisionsbemærkninger'!P121","v":0},{"$f":"'Log til revisionsbemærkninger'!Q121","v":0},{"$f":"'Log til revisionsbemærkninger'!R121","v":0},{"$f":"'Log til revisionsbemærkninger'!S121","v":0},{"$f":"'Log til revisionsbemærkninger'!T121","v":0},{"$f":"'Log til revisionsbemærkninger'!U121","v":0},{"$f":"'Log til revisionsbemærkninger'!V121","v":0},{"$f":"'Log til revisionsbemærkninger'!W121","v":0},{"$f":"'Log til revisionsbemærkninger'!X121","v":0}]
[null,{"$f":"'Log til revisionsbemærkninger'!C122","v":0},{"$f":"'Log til revisionsbemærkninger'!D122","v":0},{"$f":"'Log til revisionsbemærkninger'!E122","v":0},{"$f":"'Log til revisionsbemærkninger'!F122","v":0},{"$f":"'Log til revisionsbemærkninger'!G122","v":0},{"$f":"'Log til revisionsbemærkninger'!H122","v":0},{"$f":"'Log til revisionsbemærkninger'!I122","v":0},{"$f":"'Log til revisionsbemærkninger'!J122","v":0},{"$f":"'Log til revisionsbemærkninger'!K122","v":0},{"$f":"'Log til revisionsbemærkninger'!L122","v":0},{"$f":"'Log til revisionsbemærkninger'!M122","v":0},{"$f":"'Log til revisionsbemærkninger'!N122","v":0},{"$f":"'Log til revisionsbemærkninger'!O122","v":0},{"$f":"'Log til revisionsbemærkninger'!P122","v":0},{"$f":"'Log til revisionsbemærkninger'!Q122","v":0},{"$f":"'Log til revisionsbemærkninger'!R122","v":0},{"$f":"'Log til revisionsbemærkninger'!S122","v":0},{"$f":"'Log til revisionsbemærkninger'!T122","v":0},{"$f":"'Log til revisionsbemærkninger'!U122","v":0},{"$f":"'Log til revisionsbemærkninger'!V122","v":0},{"$f":"'Log til revisionsbemærkninger'!W122","v":0},{"$f":"'Log til revisionsbemærkninger'!X122","v":0}]
[null,{"$f":"'Log til revisionsbemærkninger'!C123","v":0},{"$f":"'Log til revisionsbemærkninger'!D123","v":0},{"$f":"'Log til revisionsbemærkninger'!E123","v":0},{"$f":"'Log til revisionsbemærkninger'!F123","v":0},{"$f":"'Log til revisionsbemærkninger'!G123","v":0},{"$f":"'Log til revisionsbemærkninger'!H123","v":0},{"$f":"'Log til revisionsbemærkninger'!I123","v":0},{"$f":"'Log til revisionsbemærkninger'!J123","v":0},{"$f":"'Log til revisionsbemærkninger'!K123","v":0},{"$f":"'Log til revisionsbemærkninger'!L123","v":0},{"$f":"'Log til revisionsbemærkninger'!M123","v":0},{"$f":"'Log til revisionsbemærkninger'!N123","v":0},{"$f":"'Log til revisionsbemærkninger'!O123","v":0},{"$f":"'Log til revisionsbemærkninger'!P123","v":0},{"$f":"'Log til revisionsbemærkninger'!Q123","v":0},{"$f":"'Log til revisionsbemærkninger'!R123","v":0},{"$f":"'Log til revisionsbemærkninger'!S123","v":0},{"$f":"'Log til revisionsbemærkninger'!T123","v":0},{"$f":"'Log til revisionsbemærkninger'!U123","v":0},{"$f":"'Log til revisionsbemærkninger'!V123","v":0},{"$f":"'Log til revisionsbemærkninger'!W123","v":0},{"$f":"'Log til revisionsbemærkninger'!X123","v":0}]
[null,{"$f":"'Log til revisionsbemærkninger'!C124","v":0},{"$f":"'Log til revisionsbemærkninger'!D124","v":0},{"$f":"'Log til revisionsbemærkninger'!E124","v":0},{"$f":"'Log til revisionsbemærkninger'!F124","v":0},{"$f":"'Log til revisionsbemærkninger'!G124","v":0},{"$f":"'Log til revisionsbemærkninger'!H124","v":0},{"$f":"'Log til revisionsbemærkninger'!I124","v":0},{"$f":"'Log til revisionsbemærkninger'!J124","v":0},{"$f":"'Log til revisionsbemærkninger'!K124","v":0},{"$f":"'Log til revisionsbemærkninger'!L124","v":0},{"$f":"'Log til revisionsbemærkninger'!M124","v":0},{"$f":"'Log til revisionsbemærkninger'!N124","v":0},{"$f":"'Log til revisionsbemærkninger'!O124","v":0},{"$f":"'Log til revisionsbemærkninger'!P124","v":0},{"$f":"'Log til revisionsbemærkninger'!Q124","v":0},{"$f":"'Log til revisionsbemærkninger'!R124","v":0},{"$f":"'Log til revisionsbemærkninger'!S124","v":0},{"$f":"'Log til revisionsbemærkninger'!T124","v":0},{"$f":"'Log til revisionsbemærkninger'!U124","v":0},{"$f":"'Log til revisionsbemærkninger'!V124","v":0},{"$f":"'Log til revisionsbemærkninger'!W124","v":0},{"$f":"'Log til revisionsbemærkninger'!X124","v":0}]
[null,{"$f":"'Log til revisionsbemærkninger'!C125","v":0},{"$f":"'Log til revisionsbemærkninger'!D125","v":0},{"$f":"'Log til revisionsbemærkninger'!E125","v":0},{"$f":"'Log til revisionsbemærkninger'!F125","v":0},{"$f":"'Log til revisionsbemærkninger'!G125","v":0},{"$f":"'Log til revisionsbemærkninger'!H125","v":0},{"$f":"'Log til revisionsbemærkninger'!I125","v":0},{"$f":"'Log til revisionsbemærkninger'!J125","v":0},{"$f":"'Log til revisionsbemærkninger'!K125","v":0},{"$f":"'Log til revisionsbemærkninger'!L125","v":0},{"$f":"'Log til revisionsbemærkninger'!M125","v":0},{"$f":"'Log til revisionsbemærkninger'!N125","v":0},{"$f":"'Log til revisionsbemærkninger'!O125","v":0},{"$f":"'Log til revisionsbemærkninger'!P125","v":0},{"$f":"'Log til revisionsbemærkninger'!Q125","v":0},{"$f":"'Log til revisionsbemærkninger'!R125","v":0},{"$f":"'Log til revisionsbemærkninger'!S125","v":0},{"$f":"'Log til revisionsbemærkninger'!T125","v":0},{"$f":"'Log til revisionsbemærkninger'!U125","v":0},{"$f":"'Log til revisionsbemærkninger'!V125","v":0},{"$f":"'Log til revisionsbemærkninger'!W125","v":0},{"$f":"'Log til revisionsbemærkninger'!X125","v":0}]
[null,{"$f":"'Log til revisionsbemærkninger'!C126","v":0},{"$f":"'Log til revisionsbemærkninger'!D126","v":0},{"$f":"'Log til revisionsbemærkninger'!E126","v":0},{"$f":"'Log til revisionsbemærkninger'!F126","v":0},{"$f":"'Log til revisionsbemærkninger'!G126","v":0},{"$f":"'Log til revisionsbemærkninger'!H126","v":0},{"$f":"'Log til revisionsbemærkninger'!I126","v":0},{"$f":"'Log til revisionsbemærkninger'!J126","v":0},{"$f":"'Log til revisionsbemærkninger'!K126","v":0},{"$f":"'Log til revisionsbemærkninger'!L126","v":0},{"$f":"'Log til revisionsbemærkninger'!M126","v":0},{"$f":"'Log til revisionsbemærkninger'!N126","v":0},{"$f":"'Log til revisionsbemærkninger'!O126","v":0},{"$f":"'Log til revisionsbemærkninger'!P126","v":0},{"$f":"'Log til revisionsbemærkninger'!Q126","v":0},{"$f":"'Log til revisionsbemærkninger'!R126","v":0},{"$f":"'Log til revisionsbemærkninger'!S126","v":0},{"$f":"'Log til revisionsbemærkninger'!T126","v":0},{"$f":"'Log til revisionsbemærkninger'!U126","v":0},{"$f":"'Log til revisionsbemærkninger'!V126","v":0},{"$f":"'Log til revisionsbemærkninger'!W126","v":0},{"$f":"'Log til revisionsbemærkninger'!X126","v":0}]
[null,{"$f":"'Log til revisionsbemærkninger'!C127","v":0},{"$f":"'Log til revisionsbemærkninger'!D127","v":0},{"$f":"'Log til revisionsbemærkninger'!E127","v":0},{"$f":"'Log til revisionsbemærkninger'!F127","v":0},{"$f":"'Log til revisionsbemærkninger'!G127","v":0},{"$f":"'Log til revisionsbemærkninger'!H127","v":0},{"$f":"'Log til revisionsbemærkninger'!I127","v":0},{"$f":"'Log til revisionsbemærkninger'!J127","v":0},{"$f":"'Log til revisionsbemærkninger'!K127","v":0},{"$f":"'Log til revisionsbemærkninger'!L127","v":0},{"$f":"'Log til revisionsbemærkninger'!M127","v":0},{"$f":"'Log til revisionsbemærkninger'!N127","v":0},{"$f":"'Log til revisionsbemærkninger'!O127","v":0},{"$f":"'Log til revisionsbemærkninger'!P127","v":0},{"$f":"'Log til revisionsbemærkninger'!Q127","v":0},{"$f":"'Log til revisionsbemærkninger'!R127","v":0},{"$f":"'Log til revisionsbemærkninger'!S127","v":0},{"$f":"'Log til revisionsbemærkninger'!T127","v":0},{"$f":"'Log til revisionsbemærkninger'!U127","v":0},{"$f":"'Log til revisionsbemærkninger'!V127","v":0},{"$f":"'Log til revisionsbemærkninger'!W127","v":0},{"$f":"'Log til revisionsbemærkninger'!X127","v":0}]
[null,{"$f":"'Log til revisionsbemærkninger'!C128","v":0},{"$f":"'Log til revisionsbemærkninger'!D128","v":0},{"$f":"'Log til revisionsbemærkninger'!E128","v":0},{"$f":"'Log til revisionsbemærkninger'!F128","v":0},{"$f":"'Log til revisionsbemærkninger'!G128","v":0},{"$f":"'Log til revisionsbemærkninger'!H128","v":0},{"$f":"'Log til revisionsbemærkninger'!I128","v":0},{"$f":"'Log til revisionsbemærkninger'!J128","v":0},{"$f":"'Log til revisionsbemærkninger'!K128","v":0},{"$f":"'Log til revisionsbemærkninger'!L128","v":0},{"$f":"'Log til revisionsbemærkninger'!M128","v":0},{"$f":"'Log til revisionsbemærkninger'!N128","v":0},{"$f":"'Log til revisionsbemærkninger'!O128","v":0},{"$f":"'Log til revisionsbemærkninger'!P128","v":0},{"$f":"'Log til revisionsbemærkninger'!Q128","v":0},{"$f":"'Log til revisionsbemærkninger'!R128","v":0},{"$f":"'Log til revisionsbemærkninger'!S128","v":0},{"$f":"'Log til revisionsbemærkninger'!T128","v":0},{"$f":"'Log til revisionsbemærkninger'!U128","v":0},{"$f":"'Log til revisionsbemærkninger'!V128","v":0},{"$f":"'Log til revisionsbemærkninger'!W128","v":0},{"$f":"'Log til revisionsbemærkninger'!X128","v":0}]
[null,{"$f":"'Log til revisionsbemærkninger'!C129","v":0},{"$f":"'Log til revisionsbemærkninger'!D129","v":0},{"$f":"'Log til revisionsbemærkninger'!E129","v":0},{"$f":"'Log til revisionsbemærkninger'!F129","v":0},{"$f":"'Log til revisionsbemærkninger'!G129","v":0},{"$f":"'Log til revisionsbemærkninger'!H129","v":0},{"$f":"'Log til revisionsbemærkninger'!I129","v":0},{"$f":"'Log til revisionsbemærkninger'!J129","v":0},{"$f":"'Log til revisionsbemærkninger'!K129","v":0},{"$f":"'Log til revisionsbemærkninger'!L129","v":0},{"$f":"'Log til revisionsbemærkninger'!M129","v":0},{"$f":"'Log til revisionsbemærkninger'!N129","v":0},{"$f":"'Log til revisionsbemærkninger'!O129","v":0},{"$f":"'Log til revisionsbemærkninger'!P129","v":0},{"$f":"'Log til revisionsbemærkninger'!Q129","v":0},{"$f":"'Log til revisionsbemærkninger'!R129","v":0},{"$f":"'Log til revisionsbemærkninger'!S129","v":0},{"$f":"'Log til revisionsbemærkninger'!T129","v":0},{"$f":"'Log til revisionsbemærkninger'!U129","v":0},{"$f":"'Log til revisionsbemærkninger'!V129","v":0},{"$f":"'Log til revisionsbemærkninger'!W129","v":0},{"$f":"'Log til revisionsbemærkninger'!X129","v":0}]
[null,{"$f":"'Log til revisionsbemærkninger'!C130","v":0},{"$f":"'Log til revisionsbemærkninger'!D130","v":0},{"$f":"'Log til revisionsbemærkninger'!E130","v":0},{"$f":"'Log til revisionsbemærkninger'!F130","v":0},{"$f":"'Log til revisionsbemærkninger'!G130","v":0},{"$f":"'Log til revisionsbemærkninger'!H130","v":0},{"$f":"'Log til revisionsbemærkninger'!I130","v":0},{"$f":"'Log til revisionsbemærkninger'!J130","v":0},{"$f":"'Log til revisionsbemærkninger'!K130","v":0},{"$f":"'Log til revisionsbemærkninger'!L130","v":0},{"$f":"'Log til revisionsbemærkninger'!M130","v":0},{"$f":"'Log til revisionsbemærkninger'!N130","v":0},{"$f":"'Log til revisionsbemærkninger'!O130","v":0},{"$f":"'Log til revisionsbemærkninger'!P130","v":0},{"$f":"'Log til revisionsbemærkninger'!Q130","v":0},{"$f":"'Log til revisionsbemærkninger'!R130","v":0},{"$f":"'Log til revisionsbemærkninger'!S130","v":0},{"$f":"'Log til revisionsbemærkninger'!T130","v":0},{"$f":"'Log til revisionsbemærkninger'!U130","v":0},{"$f":"'Log til revisionsbemærkninger'!V130","v":0},{"$f":"'Log til revisionsbemærkninger'!W130","v":0},{"$f":"'Log til revisionsbemærkninger'!X130","v":0}]
[null,{"$f":"'Log til revisionsbemærkninger'!C131","v":0},{"$f":"'Log til revisionsbemærkninger'!D131","v":0},{"$f":"'Log til revisionsbemærkninger'!E131","v":0},{"$f":"'Log til revisionsbemærkninger'!F131","v":0},{"$f":"'Log til revisionsbemærkninger'!G131","v":0},{"$f":"'Log til revisionsbemærkninger'!H131","v":0},{"$f":"'Log til revisionsbemærkninger'!I131","v":0},{"$f":"'Log til revisionsbemærkninger'!J131","v":0},{"$f":"'Log til revisionsbemærkninger'!K131","v":0},{"$f":"'Log til revisionsbemærkninger'!L131","v":0},{"$f":"'Log til revisionsbemærkninger'!M131","v":0},{"$f":"'Log til revisionsbemærkninger'!N131","v":0},{"$f":"'Log til revisionsbemærkninger'!O131","v":0},{"$f":"'Log til revisionsbemærkninger'!P131","v":0},{"$f":"'Log til revisionsbemærkninger'!Q131","v":0},{"$f":"'Log til revisionsbemærkninger'!R131","v":0},{"$f":"'Log til revisionsbemærkninger'!S131","v":0},{"$f":"'Log til revisionsbemærkninger'!T131","v":0},{"$f":"'Log til revisionsbemærkninger'!U131","v":0},{"$f":"'Log til revisionsbemærkninger'!V131","v":0},{"$f":"'Log til revisionsbemærkninger'!W131","v":0},{"$f":"'Log til revisionsbemærkninger'!X131","v":0}]
[null,{"$f":"'Log til revisionsbemærkninger'!C132","v":0},{"$f":"'Log til revisionsbemærkninger'!D132","v":0},{"$f":"'Log til revisionsbemærkninger'!E132","v":0},{"$f":"'Log til revisionsbemærkninger'!F132","v":0},{"$f":"'Log til revisionsbemærkninger'!G132","v":0},{"$f":"'Log til revisionsbemærkninger'!H132","v":0},{"$f":"'Log til revisionsbemærkninger'!I132","v":0},{"$f":"'Log til revisionsbemærkninger'!J132","v":0},{"$f":"'Log til revisionsbemærkninger'!K132","v":0},{"$f":"'Log til revisionsbemærkninger'!L132","v":0},{"$f":"'Log til revisionsbemærkninger'!M132","v":0},{"$f":"'Log til revisionsbemærkninger'!N132","v":0},{"$f":"'Log til revisionsbemærkninger'!O132","v":0},{"$f":"'Log til revisionsbemærkninger'!P132","v":0},{"$f":"'Log til revisionsbemærkninger'!Q132","v":0},{"$f":"'Log til revisionsbemærkninger'!R132","v":0},{"$f":"'Log til revisionsbemærkninger'!S132","v":0},{"$f":"'Log til revisionsbemærkninger'!T132","v":0},{"$f":"'Log til revisionsbemærkninger'!U132","v":0},{"$f":"'Log til revisionsbemærkninger'!V132","v":0},{"$f":"'Log til revisionsbemærkninger'!W132","v":0},{"$f":"'Log til revisionsbemærkninger'!X132","v":0}]
[null,{"$f":"'Log til revisionsbemærkninger'!C133","v":0},{"$f":"'Log til revisionsbemærkninger'!D133","v":0},{"$f":"'Log til revisionsbemærkninger'!E133","v":0},{"$f":"'Log til revisionsbemærkninger'!F133","v":0},{"$f":"'Log til revisionsbemærkninger'!G133","v":0},{"$f":"'Log til revisionsbemærkninger'!H133","v":0},{"$f":"'Log til revisionsbemærkninger'!I133","v":0},{"$f":"'Log til revisionsbemærkninger'!J133","v":0},{"$f":"'Log til revisionsbemærkninger'!K133","v":0},{"$f":"'Log til revisionsbemærkninger'!L133","v":0},{"$f":"'Log til revisionsbemærkninger'!M133","v":0},{"$f":"'Log til revisionsbemærkninger'!N133","v":0},{"$f":"'Log til revisionsbemærkninger'!O133","v":0},{"$f":"'Log til revisionsbemærkninger'!P133","v":0},{"$f":"'Log til revisionsbemærkninger'!Q133","v":0},{"$f":"'Log til revisionsbemærkninger'!R133","v":0},{"$f":"'Log til revisionsbemærkninger'!S133","v":0},{"$f":"'Log til revisionsbemærkninger'!T133","v":0},{"$f":"'Log til revisionsbemærkninger'!U133","v":0},{"$f":"'Log til revisionsbemærkninger'!V133","v":0},{"$f":"'Log til revisionsbemærkninger'!W133","v":0},{"$f":"'Log til revisionsbemærkninger'!X133","v":0}]
[null,{"$f":"'Log til revisionsbemærkninger'!C134","v":0},{"$f":"'Log til revisionsbemærkninger'!D134","v":0},{"$f":"'Log til revisionsbemærkninger'!E134","v":0},{"$f":"'Log til revisionsbemærkninger'!F134","v":0},{"$f":"'Log til revisionsbemærkninger'!G134","v":0},{"$f":"'Log til revisionsbemærkninger'!H134","v":0},{"$f":"'Log til revisionsbemærkninger'!I134","v":0},{"$f":"'Log til revisionsbemærkninger'!J134","v":0},{"$f":"'Log til revisionsbemærkninger'!K134","v":0},{"$f":"'Log til revisionsbemærkninger'!L134","v":0},{"$f":"'Log til revisionsbemærkninger'!M134","v":0},{"$f":"'Log til revisionsbemærkninger'!N134","v":0},{"$f":"'Log til revisionsbemærkninger'!O134","v":0},{"$f":"'Log til revisionsbemærkninger'!P134","v":0},{"$f":"'Log til revisionsbemærkninger'!Q134","v":0},{"$f":"'Log til revisionsbemærkninger'!R134","v":0},{"$f":"'Log til revisionsbemærkninger'!S134","v":0},{"$f":"'Log til revisionsbemærkninger'!T134","v":0},{"$f":"'Log til revisionsbemærkninger'!U134","v":0},{"$f":"'Log til revisionsbemærkninger'!V134","v":0},{"$f":"'Log til revisionsbemærkninger'!W134","v":0},{"$f":"'Log til revisionsbemærkninger'!X134","v":0}]
[null,{"$f":"'Log til revisionsbemærkninger'!C135","v":0},{"$f":"'Log til revisionsbemærkninger'!D135","v":0},{"$f":"'Log til revisionsbemærkninger'!E135","v":0},{"$f":"'Log til revisionsbemærkninger'!F135","v":0},{"$f":"'Log til revisionsbemærkninger'!G135","v":0},{"$f":"'Log til revisionsbemærkninger'!H135","v":0},{"$f":"'Log til revisionsbemærkninger'!I135","v":0},{"$f":"'Log til revisionsbemærkninger'!J135","v":0},{"$f":"'Log til revisionsbemærkninger'!K135","v":0},{"$f":"'Log til revisionsbemærkninger'!L135","v":0},{"$f":"'Log til revisionsbemærkninger'!M135","v":0},{"$f":"'Log til revisionsbemærkninger'!N135","v":0},{"$f":"'Log til revisionsbemærkninger'!O135","v":0},{"$f":"'Log til revisionsbemærkninger'!P135","v":0},{"$f":"'Log til revisionsbemærkninger'!Q135","v":0},{"$f":"'Log til revisionsbemærkninger'!R135","v":0},{"$f":"'Log til revisionsbemærkninger'!S135","v":0},{"$f":"'Log til revisionsbemærkninger'!T135","v":0},{"$f":"'Log til revisionsbemærkninger'!U135","v":0},{"$f":"'Log til revisionsbemærkninger'!V135","v":0},{"$f":"'Log til revisionsbemærkninger'!W135","v":0},{"$f":"'Log til revisionsbemærkninger'!X135","v":0}]
[null,{"$f":"'Log til revisionsbemærkninger'!C136","v":0},{"$f":"'Log til revisionsbemærkninger'!D136","v":0},{"$f":"'Log til revisionsbemærkninger'!E136","v":0},{"$f":"'Log til revisionsbemærkninger'!F136","v":0},{"$f":"'Log til revisionsbemærkninger'!G136","v":0},{"$f":"'Log til revisionsbemærkninger'!H136","v":0},{"$f":"'Log til revisionsbemærkninger'!I136","v":0},{"$f":"'Log til revisionsbemærkninger'!J136","v":0},{"$f":"'Log til revisionsbemærkninger'!K136","v":0},{"$f":"'Log til revisionsbemærkninger'!L136","v":0},{"$f":"'Log til revisionsbemærkninger'!M136","v":0},{"$f":"'Log til revisionsbemærkninger'!N136","v":0},{"$f":"'Log til revisionsbemærkninger'!O136","v":0},{"$f":"'Log til revisionsbemærkninger'!P136","v":0},{"$f":"'Log til revisionsbemærkninger'!Q136","v":0},{"$f":"'Log til revisionsbemærkninger'!R136","v":0},{"$f":"'Log til revisionsbemærkninger'!S136","v":0},{"$f":"'Log til revisionsbemærkninger'!T136","v":0},{"$f":"'Log til revisionsbemærkninger'!U136","v":0},{"$f":"'Log til revisionsbemærkninger'!V136","v":0},{"$f":"'Log til revisionsbemærkninger'!W136","v":0},{"$f":"'Log til revisionsbemærkninger'!X136","v":0}]
[null,{"$f":"'Log til revisionsbemærkninger'!C137","v":0},{"$f":"'Log til revisionsbemærkninger'!D137","v":0},{"$f":"'Log til revisionsbemærkninger'!E137","v":0},{"$f":"'Log til revisionsbemærkninger'!F137","v":0},{"$f":"'Log til revisionsbemærkninger'!G137","v":0},{"$f":"'Log til revisionsbemærkninger'!H137","v":0},{"$f":"'Log til revisionsbemærkninger'!I137","v":0},{"$f":"'Log til revisionsbemærkninger'!J137","v":0},{"$f":"'Log til revisionsbemærkninger'!K137","v":0},{"$f":"'Log til revisionsbemærkninger'!L137","v":0},{"$f":"'Log til revisionsbemærkninger'!M137","v":0},{"$f":"'Log til revisionsbemærkninger'!N137","v":0},{"$f":"'Log til revisionsbemærkninger'!O137","v":0},{"$f":"'Log til revisionsbemærkninger'!P137","v":0},{"$f":"'Log til revisionsbemærkninger'!Q137","v":0},{"$f":"'Log til revisionsbemærkninger'!R137","v":0},{"$f":"'Log til revisionsbemærkninger'!S137","v":0},{"$f":"'Log til revisionsbemærkninger'!T137","v":0},{"$f":"'Log til revisionsbemærkninger'!U137","v":0},{"$f":"'Log til revisionsbemærkninger'!V137","v":0},{"$f":"'Log til revisionsbemærkninger'!W137","v":0},{"$f":"'Log til revisionsbemærkninger'!X137","v":0}]
[null,{"$f":"'Log til revisionsbemærkninger'!C138","v":0},{"$f":"'Log til revisionsbemærkninger'!D138","v":0},{"$f":"'Log til revisionsbemærkninger'!E138","v":0},{"$f":"'Log til revisionsbemærkninger'!F138","v":0},{"$f":"'Log til revisionsbemærkninger'!G138","v":0},{"$f":"'Log til revisionsbemærkninger'!H138","v":0},{"$f":"'Log til revisionsbemærkninger'!I138","v":0},{"$f":"'Log til revisionsbemærkninger'!J138","v":0},{"$f":"'Log til revisionsbemærkninger'!K138","v":0},{"$f":"'Log til revisionsbemærkninger'!L138","v":0},{"$f":"'Log til revisionsbemærkninger'!M138","v":0},{"$f":"'Log til revisionsbemærkninger'!N138","v":0},{"$f":"'Log til revisionsbemærkninger'!O138","v":0},{"$f":"'Log til revisionsbemærkninger'!P138","v":0},{"$f":"'Log til revisionsbemærkninger'!Q138","v":0},{"$f":"'Log til revisionsbemærkninger'!R138","v":0},{"$f":"'Log til revisionsbemærkninger'!S138","v":0},{"$f":"'Log til revisionsbemærkninger'!T138","v":0},{"$f":"'Log til revisionsbemærkninger'!U138","v":0},{"$f":"'Log til revisionsbemærkninger'!V138","v":0},{"$f":"'Log til revisionsbemærkninger'!W138","v":0},{"$f":"'Log til revisionsbemærkninger'!X138","v":0}]
[null,{"$f":"'Log til revisionsbemærkninger'!C139","v":0},{"$f":"'Log til revisionsbemærkninger'!D139","v":0},{"$f":"'Log til revisionsbemærkninger'!E139","v":0},{"$f":"'Log til revisionsbemærkninger'!F139","v":0},{"$f":"'Log til revisionsbemærkninger'!G139","v":0},{"$f":"'Log til revisionsbemærkninger'!H139","v":0},{"$f":"'Log til revisionsbemærkninger'!I139","v":0},{"$f":"'Log til revisionsbemærkninger'!J139","v":0},{"$f":"'Log til revisionsbemærkninger'!K139","v":0},{"$f":"'Log til revisionsbemærkninger'!L139","v":0},{"$f":"'Log til revisionsbemærkninger'!M139","v":0},{"$f":"'Log til revisionsbemærkninger'!N139","v":0},{"$f":"'Log til revisionsbemærkninger'!O139","v":0},{"$f":"'Log til revisionsbemærkninger'!P139","v":0},{"$f":"'Log til revisionsbemærkninger'!Q139","v":0},{"$f":"'Log til revisionsbemærkninger'!R139","v":0},{"$f":"'Log til revisionsbemærkninger'!S139","v":0},{"$f":"'Log til revisionsbemærkninger'!T139","v":0},{"$f":"'Log til revisionsbemærkninger'!U139","v":0},{"$f":"'Log til revisionsbemærkninger'!V139","v":0},{"$f":"'Log til revisionsbemærkninger'!W139","v":0},{"$f":"'Log til revisionsbemærkninger'!X139","v":0}]
[null,{"$f":"'Log til revisionsbemærkninger'!C140","v":0},{"$f":"'Log til revisionsbemærkninger'!D140","v":0},{"$f":"'Log til revisionsbemærkninger'!E140","v":0},{"$f":"'Log til revisionsbemærkninger'!F140","v":0},{"$f":"'Log til revisionsbemærkninger'!G140","v":0},{"$f":"'Log til revisionsbemærkninger'!H140","v":0},{"$f":"'Log til revisionsbemærkninger'!I140","v":0},{"$f":"'Log til revisionsbemærkninger'!J140","v":0},{"$f":"'Log til revisionsbemærkninger'!K140","v":0},{"$f":"'Log til revisionsbemærkninger'!L140","v":0},{"$f":"'Log til revisionsbemærkninger'!M140","v":0},{"$f":"'Log til revisionsbemærkninger'!N140","v":0},{"$f":"'Log til revisionsbemærkninger'!O140","v":0},{"$f":"'Log til revisionsbemærkninger'!P140","v":0},{"$f":"'Log til revisionsbemærkninger'!Q140","v":0},{"$f":"'Log til revisionsbemærkninger'!R140","v":0},{"$f":"'Log til revisionsbemærkninger'!S140","v":0},{"$f":"'Log til revisionsbemærkninger'!T140","v":0},{"$f":"'Log til revisionsbemærkninger'!U140","v":0},{"$f":"'Log til revisionsbemærkninger'!V140","v":0},{"$f":"'Log til revisionsbemærkninger'!W140","v":0},{"$f":"'Log til revisionsbemærkninger'!X140","v":0}]
[null,{"$f":"'Log til revisionsbemærkninger'!C141","v":0},{"$f":"'Log til revisionsbemærkninger'!D141","v":0},{"$f":"'Log til revisionsbemærkninger'!E141","v":0},{"$f":"'Log til revisionsbemærkninger'!F141","v":0},{"$f":"'Log til revisionsbemærkninger'!G141","v":0},{"$f":"'Log til revisionsbemærkninger'!H141","v":0},{"$f":"'Log til revisionsbemærkninger'!I141","v":0},{"$f":"'Log til revisionsbemærkninger'!J141","v":0},{"$f":"'Log til revisionsbemærkninger'!K141","v":0},{"$f":"'Log til revisionsbemærkninger'!L141","v":0},{"$f":"'Log til revisionsbemærkninger'!M141","v":0},{"$f":"'Log til revisionsbemærkninger'!N141","v":0},{"$f":"'Log til revisionsbemærkninger'!O141","v":0},{"$f":"'Log til revisionsbemærkninger'!P141","v":0},{"$f":"'Log til revisionsbemærkninger'!Q141","v":0},{"$f":"'Log til revisionsbemærkninger'!R141","v":0},{"$f":"'Log til revisionsbemærkninger'!S141","v":0},{"$f":"'Log til revisionsbemærkninger'!T141","v":0},{"$f":"'Log til revisionsbemærkninger'!U141","v":0},{"$f":"'Log til revisionsbemærkninger'!V141","v":0},{"$f":"'Log til revisionsbemærkninger'!W141","v":0},{"$f":"'Log til revisionsbemærkninger'!X141","v":0}]
[null,{"$f":"'Log til revisionsbemærkninger'!C142","v":0},{"$f":"'Log til revisionsbemærkninger'!D142","v":0},{"$f":"'Log til revisionsbemærkninger'!E142","v":0},{"$f":"'Log til revisionsbemærkninger'!F142","v":0},{"$f":"'Log til revisionsbemærkninger'!G142","v":0},{"$f":"'Log til revisionsbemærkninger'!H142","v":0},{"$f":"'Log til revisionsbemærkninger'!I142","v":0},{"$f":"'Log til revisionsbemærkninger'!J142","v":0},{"$f":"'Log til revisionsbemærkninger'!K142","v":0},{"$f":"'Log til revisionsbemærkninger'!L142","v":0},{"$f":"'Log til revisionsbemærkninger'!M142","v":0},{"$f":"'Log til revisionsbemærkninger'!N142","v":0},{"$f":"'Log til revisionsbemærkninger'!O142","v":0},{"$f":"'Log til revisionsbemærkninger'!P142","v":0},{"$f":"'Log til revisionsbemærkninger'!Q142","v":0},{"$f":"'Log til revisionsbemærkninger'!R142","v":0},{"$f":"'Log til revisionsbemærkninger'!S142","v":0},{"$f":"'Log til revisionsbemærkninger'!T142","v":0},{"$f":"'Log til revisionsbemærkninger'!U142","v":0},{"$f":"'Log til revisionsbemærkninger'!V142","v":0},{"$f":"'Log til revisionsbemærkninger'!W142","v":0},{"$f":"'Log til revisionsbemærkninger'!X142","v":0}]
[null,{"$f":"'Log til revisionsbemærkninger'!C143","v":0},{"$f":"'Log til revisionsbemærkninger'!D143","v":0},{"$f":"'Log til revisionsbemærkninger'!E143","v":0},{"$f":"'Log til revisionsbemærkninger'!F143","v":0},{"$f":"'Log til revisionsbemærkninger'!G143","v":0},{"$f":"'Log til revisionsbemærkninger'!H143","v":0},{"$f":"'Log til revisionsbemærkninger'!I143","v":0},{"$f":"'Log til revisionsbemærkninger'!J143","v":0},{"$f":"'Log til revisionsbemærkninger'!K143","v":0},{"$f":"'Log til revisionsbemærkninger'!L143","v":0},{"$f":"'Log til revisionsbemærkninger'!M143","v":0},{"$f":"'Log til revisionsbemærkninger'!N143","v":0},{"$f":"'Log til revisionsbemærkninger'!O143","v":0},{"$f":"'Log til revisionsbemærkninger'!P143","v":0},{"$f":"'Log til revisionsbemærkninger'!Q143","v":0},{"$f":"'Log til revisionsbemærkninger'!R143","v":0},{"$f":"'Log til revisionsbemærkninger'!S143","v":0},{"$f":"'Log til revisionsbemærkninger'!T143","v":0},{"$f":"'Log til revisionsbemærkninger'!U143","v":0},{"$f":"'Log til revisionsbemærkninger'!V143","v":0},{"$f":"'Log til revisionsbemærkninger'!W143","v":0},{"$f":"'Log til revisionsbemærkninger'!X143","v":0}]
[null,{"$f":"'Log til revisionsbemærkninger'!C144","v":0},{"$f":"'Log til revisionsbemærkninger'!D144","v":0},{"$f":"'Log til revisionsbemærkninger'!E144","v":0},{"$f":"'Log til revisionsbemærkninger'!F144","v":0},{"$f":"'Log til revisionsbemærkninger'!G144","v":0},{"$f":"'Log til revisionsbemærkninger'!H144","v":0},{"$f":"'Log til revisionsbemærkninger'!I144","v":0},{"$f":"'Log til revisionsbemærkninger'!J144","v":0},{"$f":"'Log til revisionsbemærkninger'!K144","v":0},{"$f":"'Log til revisionsbemærkninger'!L144","v":0},{"$f":"'Log til revisionsbemærkninger'!M144","v":0},{"$f":"'Log til revisionsbemærkninger'!N144","v":0},{"$f":"'Log til revisionsbemærkninger'!O144","v":0},{"$f":"'Log til revisionsbemærkninger'!P144","v":0},{"$f":"'Log til revisionsbemærkninger'!Q144","v":0},{"$f":"'Log til revisionsbemærkninger'!R144","v":0},{"$f":"'Log til revisionsbemærkninger'!S144","v":0},{"$f":"'Log til revisionsbemærkninger'!T144","v":0},{"$f":"'Log til revisionsbemærkninger'!U144","v":0},{"$f":"'Log til revisionsbemærkninger'!V144","v":0},{"$f":"'Log til revisionsbemærkninger'!W144","v":0},{"$f":"'Log til revisionsbemærkninger'!X144","v":0}]
[null,{"$f":"'Log til revisionsbemærkninger'!C145","v":0},{"$f":"'Log til revisionsbemærkninger'!D145","v":0},{"$f":"'Log til revisionsbemærkninger'!E145","v":0},{"$f":"'Log til revisionsbemærkninger'!F145","v":0},{"$f":"'Log til revisionsbemærkninger'!G145","v":0},{"$f":"'Log til revisionsbemærkninger'!H145","v":0},{"$f":"'Log til revisionsbemærkninger'!I145","v":0},{"$f":"'Log til revisionsbemærkninger'!J145","v":0},{"$f":"'Log til revisionsbemærkninger'!K145","v":0},{"$f":"'Log til revisionsbemærkninger'!L145","v":0},{"$f":"'Log til revisionsbemærkninger'!M145","v":0},{"$f":"'Log til revisionsbemærkninger'!N145","v":0},{"$f":"'Log til revisionsbemærkninger'!O145","v":0},{"$f":"'Log til revisionsbemærkninger'!P145","v":0},{"$f":"'Log til revisionsbemærkninger'!Q145","v":0},{"$f":"'Log til revisionsbemærkninger'!R145","v":0},{"$f":"'Log til revisionsbemærkninger'!S145","v":0},{"$f":"'Log til revisionsbemærkninger'!T145","v":0},{"$f":"'Log til revisionsbemærkninger'!U145","v":0},{"$f":"'Log til revisionsbemærkninger'!V145","v":0},{"$f":"'Log til revisionsbemærkninger'!W145","v":0},{"$f":"'Log til revisionsbemærkninger'!X145","v":0}]
[null,{"$f":"'Log til revisionsbemærkninger'!C146","v":0},{"$f":"'Log til revisionsbemærkninger'!D146","v":0},{"$f":"'Log til revisionsbemærkninger'!E146","v":0},{"$f":"'Log til revisionsbemærkninger'!F146","v":0},{"$f":"'Log til revisionsbemærkninger'!G146","v":0},{"$f":"'Log til revisionsbemærkninger'!H146","v":0},{"$f":"'Log til revisionsbemærkninger'!I146","v":0},{"$f":"'Log til revisionsbemærkninger'!J146","v":0},{"$f":"'Log til revisionsbemærkninger'!K146","v":0},{"$f":"'Log til revisionsbemærkninger'!L146","v":0},{"$f":"'Log til revisionsbemærkninger'!M146","v":0},{"$f":"'Log til revisionsbemærkninger'!N146","v":0},{"$f":"'Log til revisionsbemærkninger'!O146","v":0},{"$f":"'Log til revisionsbemærkninger'!P146","v":0},{"$f":"'Log til revisionsbemærkninger'!Q146","v":0},{"$f":"'Log til revisionsbemærkninger'!R146","v":0},{"$f":"'Log til revisionsbemærkninger'!S146","v":0},{"$f":"'Log til revisionsbemærkninger'!T146","v":0},{"$f":"'Log til revisionsbemærkninger'!U146","v":0},{"$f":"'Log til revisionsbemærkninger'!V146","v":0},{"$f":"'Log til revisionsbemærkninger'!W146","v":0},{"$f":"'Log til revisionsbemærkninger'!X146","v":0}]

{"sheet":"KPI til Risikostyring","index":11,"n_rows":210,"n_cols":30,"rows_kept":210,"cut":false,"hidden":true,"merged":[]}
[]
[]
[null,{"$f":"'Log til risikostyring'!B7","v":"ID"},{"$f":"'Log til risikostyring'!C7","v":"Beskrivelse af risiko "},{"$f":"'Log til risikostyring'!D7","v":"Risikotype"},{"$f":"'Log til risikostyring'!E7","v":"Dato for identifikation"},{"$f":"'Log til risikostyring'!F7","v":"Ansvarlig enhed"},{"$f":"'Log til risikostyring'!G7","v":"Risikoejer"},{"$f":"'Log til risikostyring'!H7","v":"Risikoansvarlig"},{"$f":"'Log til risikostyring'!I7","v":"Sandsynlighed"},{"$f":"'Log til risikostyring'!J7","v":"Konsekvens"},{"$f":"'Log til risikostyring'!K7","v":"Samlet risikoscore"},{"$f":"'Log til risikostyring'!L7","v":"Strategi"},{"$f":"'Log til risikostyring'!M7","v":"Mitigerende handlinger "},{"$f":"'Log til risikostyring'!N7","v":"Dato for opfølgning"},{"$f":"'Log til risikostyring'!O7","v":"Status og evt. handlinger for imødekommelse af risiko"},{"$f":"'Log til risikostyring'!P7","v":"Sandsynlighed"},{"$f":"'Log til risikostyring'!Q7","v":"Konsekvens"},{"$f":"'Log til risikostyring'!R7","v":"Samlet residual risikoscore"},{"$f":"'Log til risikostyring'!S7","v":"Forelagt for ledelsen"},{"$f":"'Log til risikostyring'!T7","v":0},{"$f":"'Log til risikostyring'!U7","v":0},{"$f":"'Log til risikostyring'!V7","v":0},"Særlig kristisk risiko","Særlig risiko","Mindre risiko","Sager >= 16 i risikoscore",null,"antal i alt","antal aktive sager i alt","antal aktive sager over 13"]
[null,{"$f":"'Log til risikostyring'!B8","v":0},{"$f":"'Log til risikostyring'!C8","v":0},{"$f":"'Log til risikostyring'!D8","v":0},{"$f":"'Log til risikostyring'!E8","v":0},{"$f":"'Log til risikostyring'!F8","v":0},{"$f":"'Log til risikostyring'!G8","v":0},{"$f":"'Log til risikostyring'!H8","v":0},{"$f":"'Log til risikostyring'!I8","v":0},{"$f":"'Log til risikostyring'!J8","v":0},{"$f":"'Log til risikostyring'!K8","v":0},{"$f":"'Log til risikostyring'!L8","v":0},{"$f":"'Log til risikostyring'!M8","v":0},{"$f":"'Log til risikostyring'!N8","v":0},{"$f":"'Log til risikostyring'!O8","v":0},{"$f":"'Log til risikostyring'!P8","v":0},{"$f":"'Log til risikostyring'!Q8","v":0},{"$f":"'Log til risikostyring'!R8","v":0},{"$f":"'Log til risikostyring'!S8","v":0},{"$f":"'Log til risikostyring'!T8","v":0},{"$f":"'Log til risikostyring'!U8","v":0},{"$f":"'Log til risikostyring'!V8","v":0},{"$f":"IF(K4>15,1,0)","v":0},{"$f":"IF(AND(K4<16,K4>4),1,0)","v":0},{"$f":"IF(AND(K4<5,K4>0),1,0)","v":0},{"$f":"COUNTIF(K:K,\">15\")","v":0},null,{"$f":"COUNTIF(B4:B35,\">0\")","v":0},"Afsluttet",{"$f":"COUNTIFS(H:H,\">12\",U:U,AC5)","v":0}]
[null,{"$f":"'Log til risikostyring'!B9","v":0},{"$f":"'Log til risikostyring'!C9","v":0},{"$f":"'Log til risikostyring'!D9","v":0},{"$f":"'Log til risikostyring'!E9","v":0},{"$f":"'Log til risikostyring'!F9","v":0},{"$f":"'Log til risikostyring'!G9","v":0},{"$f":"'Log til risikostyring'!H9","v":0},{"$f":"'Log til risikostyring'!I9","v":0},{"$f":"'Log til risikostyring'!J9","v":0},{"$f":"'Log til risikostyring'!K9","v":0},{"$f":"'Log til risikostyring'!L9","v":0},{"$f":"'Log til risikostyring'!M9","v":0},{"$f":"'Log til risikostyring'!N9","v":0},{"$f":"'Log til risikostyring'!O9","v":0},{"$f":"'Log til risikostyring'!P9","v":0},{"$f":"'Log til risikostyring'!Q9","v":0},{"$f":"'Log til risikostyring'!R9","v":0},{"$f":"'Log til risikostyring'!S9","v":0},{"$f":"'Log til risikostyring'!T9","v":0},{"$f":"'Log til risikostyring'!U9","v":0},{"$f":"'Log til risikostyring'!V9","v":0},{"$f":"IF(K5>15,1,0)","v":0},{"$f":"IF(AND(K5<16,K5>4),1,0)","v":0},{"$f":"IF(AND(K5<5,K5>0),1,0)","v":0},null,null,null,"Ikke Afsluttet"]
[null,{"$f":"'Log til risikostyring'!B10","v":0},{"$f":"'Log til risikostyring'!C10","v":0},{"$f":"'Log til risikostyring'!D10","v":0},{"$f":"'Log til risikostyring'!E10","v":0},{"$f":"'Log til risikostyring'!F10","v":0},{"$f":"'Log til risikostyring'!G10","v":0},{"$f":"'Log til risikostyring'!H10","v":0},{"$f":"'Log til risikostyring'!I10","v":0},{"$f":"'Log til risikostyring'!J10","v":0},{"$f":"'Log til risikostyring'!K10","v":0},{"$f":"'Log til risikostyring'!L10","v":0},{"$f":"'Log til risikostyring'!M10","v":0},{"$f":"'Log til risikostyring'!N10","v":0},{"$f":"'Log til risikostyring'!O10","v":0},{"$f":"'Log til risikostyring'!P10","v":0},{"$f":"'Log til risikostyring'!Q10","v":0},{"$f":"'Log til risikostyring'!R10","v":0},{"$f":"'Log til risikostyring'!S10","v":0},{"$f":"'Log til risikostyring'!T10","v":0},{"$f":"'Log til risikostyring'!U10","v":0},{"$f":"'Log til risikostyring'!V10","v":0},0,0,0,null,null,null,{"$f":"COUNTIF(U:U,AC5)","v":0}]
[null,{"$f":"'Log til risikostyring'!B11","v":0},{"$f":"'Log til risikostyring'!C11","v":0},{"$f":"'Log til risikostyring'!D11","v":0},{"$f":"'Log til risikostyring'!E11","v":0},{"$f":"'Log til risikostyring'!F11","v":0},{"$f":"'Log til risikostyring'!G11","v":0},{"$f":"'Log til risikostyring'!H11","v":0},{"$f":"'Log til risikostyring'!I11","v":0},{"$f":"'Log til risikostyring'!J11","v":0},{"$f":"'Log til risikostyring'!K11","v":0},{"$f":"'Log til risikostyring'!L11","v":0},{"$f":"'Log til risikostyring'!M11","v":0},{"$f":"'Log til risikostyring'!N11","v":0},{"$f":"'Log til risikostyring'!O11","v":0},{"$f":"'Log til risikostyring'!P11","v":0},{"$f":"'Log til risikostyring'!Q11","v":0},{"$f":"'Log til risikostyring'!R11","v":0},{"$f":"'Log til risikostyring'!S11","v":0},{"$f":"'Log til risikostyring'!T11","v":0},{"$f":"'Log til risikostyring'!U11","v":0},{"$f":"'Log til risikostyring'!V11","v":0},0,0,0]
[null,{"$f":"'Log til risikostyring'!B12","v":0},{"$f":"'Log til risikostyring'!C12","v":0},{"$f":"'Log til risikostyring'!D12","v":0},{"$f":"'Log til risikostyring'!E12","v":0},{"$f":"'Log til risikostyring'!F12","v":0},{"$f":"'Log til risikostyring'!G12","v":0},{"$f":"'Log til risikostyring'!H12","v":0},{"$f":"'Log til risikostyring'!I12","v":0},{"$f":"'Log til risikostyring'!J12","v":0},{"$f":"'Log til risikostyring'!K12","v":0},{"$f":"'Log til risikostyring'!L12","v":0},{"$f":"'Log til risikostyring'!M12","v":0},{"$f":"'Log til risikostyring'!N12","v":0},{"$f":"'Log til risikostyring'!O12","v":0},{"$f":"'Log til risikostyring'!P12","v":0},{"$f":"'Log til risikostyring'!Q12","v":0},{"$f":"'Log til risikostyring'!R12","v":0},{"$f":"'Log til risikostyring'!S12","v":0},{"$f":"'Log til risikostyring'!T12","v":0},{"$f":"'Log til risikostyring'!U12","v":0},{"$f":"'Log til risikostyring'!V12","v":0},0,0,0]
[null,{"$f":"'Log til risikostyring'!B13","v":0},{"$f":"'Log til risikostyring'!C13","v":0},{"$f":"'Log til risikostyring'!D13","v":0},{"$f":"'Log til risikostyring'!E13","v":0},{"$f":"'Log til risikostyring'!F13","v":0},{"$f":"'Log til risikostyring'!G13","v":0},{"$f":"'Log til risikostyring'!H13","v":0},{"$f":"'Log til risikostyring'!I13","v":0},{"$f":"'Log til risikostyring'!J13","v":0},{"$f":"'Log til risikostyring'!K13","v":0},{"$f":"'Log til risikostyring'!L13","v":0},{"$f":"'Log til risikostyring'!M13","v":0},{"$f":"'Log til risikostyring'!N13","v":0},{"$f":"'Log til risikostyring'!O13","v":0},{"$f":"'Log til risikostyring'!P13","v":0},{"$f":"'Log til risikostyring'!Q13","v":0},{"$f":"'Log til risikostyring'!R13","v":0},{"$f":"'Log til risikostyring'!S13","v":0},{"$f":"'Log til risikostyring'!T13","v":0},{"$f":"'Log til risikostyring'!U13","v":0},{"$f":"'Log til risikostyring'!V13","v":0},0,0,0]
[null,{"$f":"'Log til risikostyring'!B14","v":0},{"$f":"'Log til risikostyring'!C14","v":0},{"$f":"'Log til risikostyring'!D14","v":0},{"$f":"'Log til risikostyring'!E14","v":0},{"$f":"'Log til risikostyring'!F14","v":0},{"$f":"'Log til risikostyring'!G14","v":0},{"$f":"'Log til risikostyring'!H14","v":0},{"$f":"'Log til risikostyring'!I14","v":0},{"$f":"'Log til risikostyring'!J14","v":0},{"$f":"'Log til risikostyring'!K14","v":0},{"$f":"'Log til risikostyring'!L14","v":0},{"$f":"'Log til risikostyring'!M14","v":0},{"$f":"'Log til risikostyring'!N14","v":0},{"$f":"'Log til risikostyring'!O14","v":0},{"$f":"'Log til risikostyring'!P14","v":0},{"$f":"'Log til risikostyring'!Q14","v":0},{"$f":"'Log til risikostyring'!R14","v":0},{"$f":"'Log til risikostyring'!S14","v":0},{"$f":"'Log til risikostyring'!T14","v":0},{"$f":"'Log til risikostyring'!U14","v":0},{"$f":"'Log til risikostyring'!V14","v":0},0,0,0]
[null,{"$f":"'Log til risikostyring'!B15","v":0},{"$f":"'Log til risikostyring'!C15","v":0},{"$f":"'Log til risikostyring'!D15","v":0},{"$f":"'Log til risikostyring'!E15","v":0},{"$f":"'Log til risikostyring'!F15","v":0},{"$f":"'Log til risikostyring'!G15","v":0},{"$f":"'Log til risikostyring'!H15","v":0},{"$f":"'Log til risikostyring'!I15","v":0},{"$f":"'Log til risikostyring'!J15","v":0},{"$f":"'Log til risikostyring'!K15","v":0},{"$f":"'Log til risikostyring'!L15","v":0},{"$f":"'Log til risikostyring'!M15","v":0},{"$f":"'Log til risikostyring'!N15","v":0},{"$f":"'Log til risikostyring'!O15","v":0},{"$f":"'Log til risikostyring'!P15","v":0},{"$f":"'Log til risikostyring'!Q15","v":0},{"$f":"'Log til risikostyring'!R15","v":0},{"$f":"'Log til risikostyring'!S15","v":0},{"$f":"'Log til risikostyring'!T15","v":0},{"$f":"'Log til risikostyring'!U15","v":0},{"$f":"'Log til risikostyring'!V15","v":0},0,0,0]
[null,{"$f":"'Log til risikostyring'!B16","v":0},{"$f":"'Log til risikostyring'!C16","v":0},{"$f":"'Log til risikostyring'!D16","v":0},{"$f":"'Log til risikostyring'!E16","v":0},{"$f":"'Log til risikostyring'!F16","v":0},{"$f":"'Log til risikostyring'!G16","v":0},{"$f":"'Log til risikostyring'!H16","v":0},{"$f":"'Log til risikostyring'!I16","v":0},{"$f":"'Log til risikostyring'!J16","v":0},{"$f":"'Log til risikostyring'!K16","v":0},{"$f":"'Log til risikostyring'!L16","v":0},{"$f":"'Log til risikostyring'!M16","v":0},{"$f":"'Log til risikostyring'!N16","v":0},{"$f":"'Log til risikostyring'!O16","v":0},{"$f":"'Log til risikostyring'!P16","v":0},{"$f":"'Log til risikostyring'!Q16","v":0},{"$f":"'Log til risikostyring'!R16","v":0},{"$f":"'Log til risikostyring'!S16","v":0},{"$f":"'Log til risikostyring'!T16","v":0},{"$f":"'Log til risikostyring'!U16","v":0},{"$f":"'Log til risikostyring'!V16","v":0},0,0,0]
[null,{"$f":"'Log til risikostyring'!B17","v":0},{"$f":"'Log til risikostyring'!C17","v":0},{"$f":"'Log til risikostyring'!D17","v":0},{"$f":"'Log til risikostyring'!E17","v":0},{"$f":"'Log til risikostyring'!F17","v":0},{"$f":"'Log til risikostyring'!G17","v":0},{"$f":"'Log til risikostyring'!H17","v":0},{"$f":"'Log til risikostyring'!I17","v":0},{"$f":"'Log til risikostyring'!J17","v":0},{"$f":"'Log til risikostyring'!K17","v":0},{"$f":"'Log til risikostyring'!L17","v":0},{"$f":"'Log til risikostyring'!M17","v":0},{"$f":"'Log til risikostyring'!N17","v":0},{"$f":"'Log til risikostyring'!O17","v":0},{"$f":"'Log til risikostyring'!P17","v":0},{"$f":"'Log til risikostyring'!Q17","v":0},{"$f":"'Log til risikostyring'!R17","v":0},{"$f":"'Log til risikostyring'!S17","v":0},{"$f":"'Log til risikostyring'!T17","v":0},{"$f":"'Log til risikostyring'!U17","v":0},{"$f":"'Log til risikostyring'!V17","v":0},0,0,0]
[null,{"$f":"'Log til risikostyring'!B18","v":0},{"$f":"'Log til risikostyring'!C18","v":0},{"$f":"'Log til risikostyring'!D18","v":0},{"$f":"'Log til risikostyring'!E18","v":0},{"$f":"'Log til risikostyring'!F18","v":0},{"$f":"'Log til risikostyring'!G18","v":0},{"$f":"'Log til risikostyring'!H18","v":0},{"$f":"'Log til risikostyring'!I18","v":0},{"$f":"'Log til risikostyring'!J18","v":0},{"$f":"'Log til risikostyring'!K18","v":0},{"$f":"'Log til risikostyring'!L18","v":0},{"$f":"'Log til risikostyring'!M18","v":0},{"$f":"'Log til risikostyring'!N18","v":0},{"$f":"'Log til risikostyring'!O18","v":0},{"$f":"'Log til risikostyring'!P18","v":0},{"$f":"'Log til risikostyring'!Q18","v":0},{"$f":"'Log til risikostyring'!R18","v":0},{"$f":"'Log til risikostyring'!S18","v":0},{"$f":"'Log til risikostyring'!T18","v":0},{"$f":"'Log til risikostyring'!U18","v":0},{"$f":"'Log til risikostyring'!V18","v":0},0,0,0]
[null,{"$f":"'Log til risikostyring'!B19","v":0},{"$f":"'Log til risikostyring'!C19","v":0},{"$f":"'Log til risikostyring'!D19","v":0},{"$f":"'Log til risikostyring'!E19","v":0},{"$f":"'Log til risikostyring'!F19","v":0},{"$f":"'Log til risikostyring'!G19","v":0},{"$f":"'Log til risikostyring'!H19","v":0},{"$f":"'Log til risikostyring'!I19","v":0},{"$f":"'Log til risikostyring'!J19","v":0},{"$f":"'Log til risikostyring'!K19","v":0},{"$f":"'Log til risikostyring'!L19","v":0},{"$f":"'Log til risikostyring'!M19","v":0},{"$f":"'Log til risikostyring'!N19","v":0},{"$f":"'Log til risikostyring'!O19","v":0},{"$f":"'Log til risikostyring'!P19","v":0},{"$f":"'Log til risikostyring'!Q19","v":0},{"$f":"'Log til risikostyring'!R19","v":0},{"$f":"'Log til risikostyring'!S19","v":0},{"$f":"'Log til risikostyring'!T19","v":0},{"$f":"'Log til risikostyring'!U19","v":0},{"$f":"'Log til risikostyring'!V19","v":0},0,0,0]
[null,{"$f":"'Log til risikostyring'!B20","v":0},{"$f":"'Log til risikostyring'!C20","v":0},{"$f":"'Log til risikostyring'!D20","v":0},{"$f":"'Log til risikostyring'!E20","v":0},{"$f":"'Log til risikostyring'!F20","v":0},{"$f":"'Log til risikostyring'!G20","v":0},{"$f":"'Log til risikostyring'!H20","v":0},{"$f":"'Log til risikostyring'!I20","v":0},{"$f":"'Log til risikostyring'!J20","v":0},{"$f":"'Log til risikostyring'!K20","v":0},{"$f":"'Log til risikostyring'!L20","v":0},{"$f":"'Log til risikostyring'!M20","v":0},{"$f":"'Log til risikostyring'!N20","v":0},{"$f":"'Log til risikostyring'!O20","v":0},{"$f":"'Log til risikostyring'!P20","v":0},{"$f":"'Log til risikostyring'!Q20","v":0},{"$f":"'Log til risikostyring'!R20","v":0},{"$f":"'Log til risikostyring'!S20","v":0},{"$f":"'Log til risikostyring'!T20","v":0},{"$f":"'Log til risikostyring'!U20","v":0},{"$f":"'Log til risikostyring'!V20","v":0},0,0,0]
[null,{"$f":"'Log til risikostyring'!B21","v":0},{"$f":"'Log til risikostyring'!C21","v":0},{"$f":"'Log til risikostyring'!D21","v":0},{"$f":"'Log til risikostyring'!E21","v":0},{"$f":"'Log til risikostyring'!F21","v":0},{"$f":"'Log til risikostyring'!G21","v":0},{"$f":"'Log til risikostyring'!H21","v":0},{"$f":"'Log til risikostyring'!I21","v":0},{"$f":"'Log til risikostyring'!J21","v":0},{"$f":"'Log til risikostyring'!K21","v":0},{"$f":"'Log til risikostyring'!L21","v":0},{"$f":"'Log til risikostyring'!M21","v":0},{"$f":"'Log til risikostyring'!N21","v":0},{"$f":"'Log til risikostyring'!O21","v":0},{"$f":"'Log til risikostyring'!P21","v":0},{"$f":"'Log til risikostyring'!Q21","v":0},{"$f":"'Log til risikostyring'!R21","v":0},{"$f":"'Log til risikostyring'!S21","v":0},{"$f":"'Log til risikostyring'!T21","v":0},{"$f":"'Log til risikostyring'!U21","v":0},{"$f":"'Log til risikostyring'!V21","v":0},0,0,0]
[null,{"$f":"'Log til risikostyring'!B22","v":0},{"$f":"'Log til risikostyring'!C22","v":0},{"$f":"'Log til risikostyring'!D22","v":0},{"$f":"'Log til risikostyring'!E22","v":0},{"$f":"'Log til risikostyring'!F22","v":0},{"$f":"'Log til risikostyring'!G22","v":0},{"$f":"'Log til risikostyring'!H22","v":0},{"$f":"'Log til risikostyring'!I22","v":0},{"$f":"'Log til risikostyring'!J22","v":0},{"$f":"'Log til risikostyring'!K22","v":0},{"$f":"'Log til risikostyring'!L22","v":0},{"$f":"'Log til risikostyring'!M22","v":0},{"$f":"'Log til risikostyring'!N22","v":0},{"$f":"'Log til risikostyring'!O22","v":0},{"$f":"'Log til risikostyring'!P22","v":0},{"$f":"'Log til risikostyring'!Q22","v":0},{"$f":"'Log til risikostyring'!R22","v":0},{"$f":"'Log til risikostyring'!S22","v":0},{"$f":"'Log til risikostyring'!T22","v":0},{"$f":"'Log til risikostyring'!U22","v":0},{"$f":"'Log til risikostyring'!V22","v":0},0,0,0]
[null,{"$f":"'Log til risikostyring'!B23","v":0},{"$f":"'Log til risikostyring'!C23","v":0},{"$f":"'Log til risikostyring'!D23","v":0},{"$f":"'Log til risikostyring'!E23","v":0},{"$f":"'Log til risikostyring'!F23","v":0},{"$f":"'Log til risikostyring'!G23","v":0},{"$f":"'Log til risikostyring'!H23","v":0},{"$f":"'Log til risikostyring'!I23","v":0},{"$f":"'Log til risikostyring'!J23","v":0},{"$f":"'Log til risikostyring'!K23","v":0},{"$f":"'Log til risikostyring'!L23","v":0},{"$f":"'Log til risikostyring'!M23","v":0},{"$f":"'Log til risikostyring'!N23","v":0},{"$f":"'Log til risikostyring'!O23","v":0},{"$f":"'Log til risikostyring'!P23","v":0},{"$f":"'Log til risikostyring'!Q23","v":0},{"$f":"'Log til risikostyring'!R23","v":0},{"$f":"'Log til risikostyring'!S23","v":0},{"$f":"'Log til risikostyring'!T23","v":0},{"$f":"'Log til risikostyring'!U23","v":0},{"$f":"'Log til risikostyring'!V23","v":0},0,0,0]
[null,{"$f":"'Log til risikostyring'!B24","v":0},{"$f":"'Log til risikostyring'!C24","v":0},{"$f":"'Log til risikostyring'!D24","v":0},{"$f":"'Log til risikostyring'!E24","v":0},{"$f":"'Log til risikostyring'!F24","v":0},{"$f":"'Log til risikostyring'!G24","v":0},{"$f":"'Log til risikostyring'!H24","v":0},{"$f":"'Log til risikostyring'!I24","v":0},{"$f":"'Log til risikostyring'!J24","v":0},{"$f":"'Log til risikostyring'!K24","v":0},{"$f":"'Log til risikostyring'!L24","v":0},{"$f":"'Log til risikostyring'!M24","v":0},{"$f":"'Log til risikostyring'!N24","v":0},{"$f":"'Log til risikostyring'!O24","v":0},{"$f":"'Log til risikostyring'!P24","v":0},{"$f":"'Log til risikostyring'!Q24","v":0},{"$f":"'Log til risikostyring'!R24","v":0},{"$f":"'Log til risikostyring'!S24","v":0},{"$f":"'Log til risikostyring'!T24","v":0},{"$f":"'Log til risikostyring'!U24","v":0},{"$f":"'Log til risikostyring'!V24","v":0},0,0,0]
[null,{"$f":"'Log til risikostyring'!B25","v":0},{"$f":"'Log til risikostyring'!C25","v":0},{"$f":"'Log til risikostyring'!D25","v":0},{"$f":"'Log til risikostyring'!E25","v":0},{"$f":"'Log til risikostyring'!F25","v":0},{"$f":"'Log til risikostyring'!G25","v":0},{"$f":"'Log til risikostyring'!H25","v":0},{"$f":"'Log til risikostyring'!I25","v":0},{"$f":"'Log til risikostyring'!J25","v":0},{"$f":"'Log til risikostyring'!K25","v":0},{"$f":"'Log til risikostyring'!L25","v":0},{"$f":"'Log til risikostyring'!M25","v":0},{"$f":"'Log til risikostyring'!N25","v":0},{"$f":"'Log til risikostyring'!O25","v":0},{"$f":"'Log til risikostyring'!P25","v":0},{"$f":"'Log til risikostyring'!Q25","v":0},{"$f":"'Log til risikostyring'!R25","v":0},{"$f":"'Log til risikostyring'!S25","v":0},{"$f":"'Log til risikostyring'!T25","v":0},{"$f":"'Log til risikostyring'!U25","v":0},{"$f":"'Log til risikostyring'!V25","v":0},0,0,0]
[null,{"$f":"'Log til risikostyring'!B26","v":0},{"$f":"'Log til risikostyring'!C26","v":0},{"$f":"'Log til risikostyring'!D26","v":0},{"$f":"'Log til risikostyring'!E26","v":0},{"$f":"'Log til risikostyring'!F26","v":0},{"$f":"'Log til risikostyring'!G26","v":0},{"$f":"'Log til risikostyring'!H26","v":0},{"$f":"'Log til risikostyring'!I26","v":0},{"$f":"'Log til risikostyring'!J26","v":0},{"$f":"'Log til risikostyring'!K26","v":0},{"$f":"'Log til risikostyring'!L26","v":0},{"$f":"'Log til risikostyring'!M26","v":0},{"$f":"'Log til risikostyring'!N26","v":0},{"$f":"'Log til risikostyring'!O26","v":0},{"$f":"'Log til risikostyring'!P26","v":0},{"$f":"'Log til risikostyring'!Q26","v":0},{"$f":"'Log til risikostyring'!R26","v":0},{"$f":"'Log til risikostyring'!S26","v":0},{"$f":"'Log til risikostyring'!T26","v":0},{"$f":"'Log til risikostyring'!U26","v":0},{"$f":"'Log til risikostyring'!V26","v":0},0,0,0]
[null,{"$f":"'Log til risikostyring'!B27","v":0},{"$f":"'Log til risikostyring'!C27","v":0},{"$f":"'Log til risikostyring'!D27","v":0},{"$f":"'Log til risikostyring'!E27","v":0},{"$f":"'Log til risikostyring'!F27","v":0},{"$f":"'Log til risikostyring'!G27","v":0},{"$f":"'Log til risikostyring'!H27","v":0},{"$f":"'Log til risikostyring'!I27","v":0},{"$f":"'Log til risikostyring'!J27","v":0},{"$f":"'Log til risikostyring'!K27","v":0},{"$f":"'Log til risikostyring'!L27","v":0},{"$f":"'Log til risikostyring'!M27","v":0},{"$f":"'Log til risikostyring'!N27","v":0},{"$f":"'Log til risikostyring'!O27","v":0},{"$f":"'Log til risikostyring'!P27","v":0},{"$f":"'Log til risikostyring'!Q27","v":0},{"$f":"'Log til risikostyring'!R27","v":0},{"$f":"'Log til risikostyring'!S27","v":0},{"$f":"'Log til risikostyring'!T27","v":0},{"$f":"'Log til risikostyring'!U27","v":0},{"$f":"'Log til risikostyring'!V27","v":0},0,0,0]
[null,{"$f":"'Log til risikostyring'!B28","v":0},{"$f":"'Log til risikostyring'!C28","v":0},{"$f":"'Log til risikostyring'!D28","v":0},{"$f":"'Log til risikostyring'!E28","v":0},{"$f":"'Log til risikostyring'!F28","v":0},{"$f":"'Log til risikostyring'!G28","v":0},{"$f":"'Log til risikostyring'!H28","v":0},{"$f":"'Log til risikostyring'!I28","v":0},{"$f":"'Log til risikostyring'!J28","v":0},{"$f":"'Log til risikostyring'!K28","v":0},{"$f":"'Log til risikostyring'!L28","v":0},{"$f":"'Log til risikostyring'!M28","v":0},{"$f":"'Log til risikostyring'!N28","v":0},{"$f":"'Log til risikostyring'!O28","v":0},{"$f":"'Log til risikostyring'!P28","v":0},{"$f":"'Log til risikostyring'!Q28","v":0},{"$f":"'Log til risikostyring'!R28","v":0},{"$f":"'Log til risikostyring'!S28","v":0},{"$f":"'Log til risikostyring'!T28","v":0},{"$f":"'Log til risikostyring'!U28","v":0},{"$f":"'Log til risikostyring'!V28","v":0},0,0,0]
[null,{"$f":"'Log til risikostyring'!B29","v":0},{"$f":"'Log til risikostyring'!C29","v":0},{"$f":"'Log til risikostyring'!D29","v":0},{"$f":"'Log til risikostyring'!E29","v":0},{"$f":"'Log til risikostyring'!F29","v":0},{"$f":"'Log til risikostyring'!G29","v":0},{"$f":"'Log til risikostyring'!H29","v":0},{"$f":"'Log til risikostyring'!I29","v":0},{"$f":"'Log til risikostyring'!J29","v":0},{"$f":"'Log til risikostyring'!K29","v":0},{"$f":"'Log til risikostyring'!L29","v":0},{"$f":"'Log til risikostyring'!M29","v":0},{"$f":"'Log til risikostyring'!N29","v":0},{"$f":"'Log til risikostyring'!O29","v":0},{"$f":"'Log til risikostyring'!P29","v":0},{"$f":"'Log til risikostyring'!Q29","v":0},{"$f":"'Log til risikostyring'!R29","v":0},{"$f":"'Log til risikostyring'!S29","v":0},{"$f":"'Log til risikostyring'!T29","v":0},{"$f":"'Log til risikostyring'!U29","v":0},{"$f":"'Log til risikostyring'!V29","v":0},0,0,0]
[null,{"$f":"'Log til risikostyring'!B30","v":0},{"$f":"'Log til risikostyring'!C30","v":0},{"$f":"'Log til risikostyring'!D30","v":0},{"$f":"'Log til risikostyring'!E30","v":0},{"$f":"'Log til risikostyring'!F30","v":0},{"$f":"'Log til risikostyring'!G30","v":0},{"$f":"'Log til risikostyring'!H30","v":0},{"$f":"'Log til risikostyring'!I30","v":0},{"$f":"'Log til risikostyring'!J30","v":0},{"$f":"'Log til risikostyring'!K30","v":0},{"$f":"'Log til risikostyring'!L30","v":0},{"$f":"'Log til risikostyring'!M30","v":0},{"$f":"'Log til risikostyring'!N30","v":0},{"$f":"'Log til risikostyring'!O30","v":0},{"$f":"'Log til risikostyring'!P30","v":0},{"$f":"'Log til risikostyring'!Q30","v":0},{"$f":"'Log til risikostyring'!R30","v":0},{"$f":"'Log til risikostyring'!S30","v":0},{"$f":"'Log til risikostyring'!T30","v":0},{"$f":"'Log til risikostyring'!U30","v":0},{"$f":"'Log til risikostyring'!V30","v":0},0,0,0]
[null,{"$f":"'Log til risikostyring'!B31","v":0},{"$f":"'Log til risikostyring'!C31","v":0},{"$f":"'Log til risikostyring'!D31","v":0},{"$f":"'Log til risikostyring'!E31","v":0},{"$f":"'Log til risikostyring'!F31","v":0},{"$f":"'Log til risikostyring'!G31","v":0},{"$f":"'Log til risikostyring'!H31","v":0},{"$f":"'Log til risikostyring'!I31","v":0},{"$f":"'Log til risikostyring'!J31","v":0},{"$f":"'Log til risikostyring'!K31","v":0},{"$f":"'Log til risikostyring'!L31","v":0},{"$f":"'Log til risikostyring'!M31","v":0},{"$f":"'Log til risikostyring'!N31","v":0},{"$f":"'Log til risikostyring'!O31","v":0},{"$f":"'Log til risikostyring'!P31","v":0},{"$f":"'Log til risikostyring'!Q31","v":0},{"$f":"'Log til risikostyring'!R31","v":0},{"$f":"'Log til risikostyring'!S31","v":0},{"$f":"'Log til risikostyring'!T31","v":0},{"$f":"'Log til risikostyring'!U31","v":0},{"$f":"'Log til risikostyring'!V31","v":0},0,0,0]
[null,{"$f":"'Log til risikostyring'!B32","v":0},{"$f":"'Log til risikostyring'!C32","v":0},{"$f":"'Log til risikostyring'!D32","v":0},{"$f":"'Log til risikostyring'!E32","v":0},{"$f":"'Log til risikostyring'!F32","v":0},{"$f":"'Log til risikostyring'!G32","v":0},{"$f":"'Log til risikostyring'!H32","v":0},{"$f":"'Log til risikostyring'!I32","v":0},{"$f":"'Log til risikostyring'!J32","v":0},{"$f":"'Log til risikostyring'!K32","v":0},{"$f":"'Log til risikostyring'!L32","v":0},{"$f":"'Log til risikostyring'!M32","v":0},{"$f":"'Log til risikostyring'!N32","v":0},{"$f":"'Log til risikostyring'!O32","v":0},{"$f":"'Log til risikostyring'!P32","v":0},{"$f":"'Log til risikostyring'!Q32","v":0},{"$f":"'Log til risikostyring'!R32","v":0},{"$f":"'Log til risikostyring'!S32","v":0},{"$f":"'Log til risikostyring'!T32","v":0},{"$f":"'Log til risikostyring'!U32","v":0},{"$f":"'Log til risikostyring'!V32","v":0},0,0,0]
[null,{"$f":"'Log til risikostyring'!B33","v":0},{"$f":"'Log til risikostyring'!C33","v":0},{"$f":"'Log til risikostyring'!D33","v":0},{"$f":"'Log til risikostyring'!E33","v":0},{"$f":"'Log til risikostyring'!F33","v":0},{"$f":"'Log til risikostyring'!G33","v":0},{"$f":"'Log til risikostyring'!H33","v":0},{"$f":"'Log til risikostyring'!I33","v":0},{"$f":"'Log til risikostyring'!J33","v":0},{"$f":"'Log til risikostyring'!K33","v":0},{"$f":"'Log til risikostyring'!L33","v":0},{"$f":"'Log til risikostyring'!M33","v":0},{"$f":"'Log til risikostyring'!N33","v":0},{"$f":"'Log til risikostyring'!O33","v":0},{"$f":"'Log til risikostyring'!P33","v":0},{"$f":"'Log til risikostyring'!Q33","v":0},{"$f":"'Log til risikostyring'!R33","v":0},{"$f":"'Log til risikostyring'!S33","v":0},{"$f":"'Log til risikostyring'!T33","v":0},{"$f":"'Log til risikostyring'!U33","v":0},{"$f":"'Log til risikostyring'!V33","v":0},0,0,0]
[null,{"$f":"'Log til risikostyring'!B34","v":0},{"$f":"'Log til risikostyring'!C34","v":0},{"$f":"'Log til risikostyring'!D34","v":0},{"$f":"'Log til risikostyring'!E34","v":0},{"$f":"'Log til risikostyring'!F34","v":0},{"$f":"'Log til risikostyring'!G34","v":0},{"$f":"'Log til risikostyring'!H34","v":0},{"$f":"'Log til risikostyring'!I34","v":0},{"$f":"'Log til risikostyring'!J34","v":0},{"$f":"'Log til risikostyring'!K34","v":0},{"$f":"'Log til risikostyring'!L34","v":0},{"$f":"'Log til risikostyring'!M34","v":0},{"$f":"'Log til risikostyring'!N34","v":0},{"$f":"'Log til risikostyring'!O34","v":0},{"$f":"'Log til risikostyring'!P34","v":0},{"$f":"'Log til risikostyring'!Q34","v":0},{"$f":"'Log til risikostyring'!R34","v":0},{"$f":"'Log til risikostyring'!S34","v":0},{"$f":"'Log til risikostyring'!T34","v":0},{"$f":"'Log til risikostyring'!U34","v":0},{"$f":"'Log til risikostyring'!V34","v":0},0,0,0]
[null,{"$f":"'Log til risikostyring'!B35","v":0},{"$f":"'Log til risikostyring'!C35","v":0},{"$f":"'Log til risikostyring'!D35","v":0},{"$f":"'Log til risikostyring'!E35","v":0},{"$f":"'Log til risikostyring'!F35","v":0},{"$f":"'Log til risikostyring'!G35","v":0},{"$f":"'Log til risikostyring'!H35","v":0},{"$f":"'Log til risikostyring'!I35","v":0},{"$f":"'Log til risikostyring'!J35","v":0},{"$f":"'Log til risikostyring'!K35","v":0},{"$f":"'Log til risikostyring'!L35","v":0},{"$f":"'Log til risikostyring'!M35","v":0},{"$f":"'Log til risikostyring'!N35","v":0},{"$f":"'Log til risikostyring'!O35","v":0},{"$f":"'Log til risikostyring'!P35","v":0},{"$f":"'Log til risikostyring'!Q35","v":0},{"$f":"'Log til risikostyring'!R35","v":0},{"$f":"'Log til risikostyring'!S35","v":0},{"$f":"'Log til risikostyring'!T35","v":0},{"$f":"'Log til risikostyring'!U35","v":0},{"$f":"'Log til risikostyring'!V35","v":0},0,0,0]
[null,{"$f":"'Log til risikostyring'!B36","v":0},{"$f":"'Log til risikostyring'!C36","v":0},{"$f":"'Log til risikostyring'!D36","v":0},{"$f":"'Log til risikostyring'!E36","v":0},{"$f":"'Log til risikostyring'!F36","v":0},{"$f":"'Log til risikostyring'!G36","v":0},{"$f":"'Log til risikostyring'!H36","v":0},{"$f":"'Log til risikostyring'!I36","v":0},{"$f":"'Log til risikostyring'!J36","v":0},{"$f":"'Log til risikostyring'!K36","v":0},{"$f":"'Log til risikostyring'!L36","v":0},{"$f":"'Log til risikostyring'!M36","v":0},{"$f":"'Log til risikostyring'!N36","v":0},{"$f":"'Log til risikostyring'!O36","v":0},{"$f":"'Log til risikostyring'!P36","v":0},{"$f":"'Log til risikostyring'!Q36","v":0},{"$f":"'Log til risikostyring'!R36","v":0},{"$f":"'Log til risikostyring'!S36","v":0},{"$f":"'Log til risikostyring'!T36","v":0},{"$f":"'Log til risikostyring'!U36","v":0},{"$f":"'Log til risikostyring'!V36","v":0},0,0,0]
[null,{"$f":"'Log til risikostyring'!B37","v":0},{"$f":"'Log til risikostyring'!C37","v":0},{"$f":"'Log til risikostyring'!D37","v":0},{"$f":"'Log til risikostyring'!E37","v":0},{"$f":"'Log til risikostyring'!F37","v":0},{"$f":"'Log til risikostyring'!G37","v":0},{"$f":"'Log til risikostyring'!H37","v":0},{"$f":"'Log til risikostyring'!I37","v":0},{"$f":"'Log til risikostyring'!J37","v":0},{"$f":"'Log til risikostyring'!K37","v":0},{"$f":"'Log til risikostyring'!L37","v":0},{"$f":"'Log til risikostyring'!M37","v":0},{"$f":"'Log til risikostyring'!N37","v":0},{"$f":"'Log til risikostyring'!O37","v":0},{"$f":"'Log til risikostyring'!P37","v":0},{"$f":"'Log til risikostyring'!Q37","v":0},{"$f":"'Log til risikostyring'!R37","v":0},{"$f":"'Log til risikostyring'!S37","v":0},{"$f":"'Log til risikostyring'!T37","v":0},{"$f":"'Log til risikostyring'!U37","v":0},{"$f":"'Log til risikostyring'!V37","v":0},0,0,0]
[null,{"$f":"'Log til risikostyring'!B38","v":0},{"$f":"'Log til risikostyring'!C38","v":0},{"$f":"'Log til risikostyring'!D38","v":0},{"$f":"'Log til risikostyring'!E38","v":0},{"$f":"'Log til risikostyring'!F38","v":0},{"$f":"'Log til risikostyring'!G38","v":0},{"$f":"'Log til risikostyring'!H38","v":0},{"$f":"'Log til risikostyring'!I38","v":0},{"$f":"'Log til risikostyring'!J38","v":0},{"$f":"'Log til risikostyring'!K38","v":0},{"$f":"'Log til risikostyring'!L38","v":0},{"$f":"'Log til risikostyring'!M38","v":0},{"$f":"'Log til risikostyring'!N38","v":0},{"$f":"'Log til risikostyring'!O38","v":0},{"$f":"'Log til risikostyring'!P38","v":0},{"$f":"'Log til risikostyring'!Q38","v":0},{"$f":"'Log til risikostyring'!R38","v":0},{"$f":"'Log til risikostyring'!S38","v":0},{"$f":"'Log til risikostyring'!T38","v":0},{"$f":"'Log til risikostyring'!U38","v":0},{"$f":"'Log til risikostyring'!V38","v":0},0,0,0]
[null,{"$f":"'Log til risikostyring'!B39","v":0},{"$f":"'Log til risikostyring'!C39","v":0},{"$f":"'Log til risikostyring'!D39","v":0},{"$f":"'Log til risikostyring'!E39","v":0},{"$f":"'Log til risikostyring'!F39","v":0},{"$f":"'Log til risikostyring'!G39","v":0},{"$f":"'Log til risikostyring'!H39","v":0},{"$f":"'Log til risikostyring'!I39","v":0},{"$f":"'Log til risikostyring'!J39","v":0},{"$f":"'Log til risikostyring'!K39","v":0},{"$f":"'Log til risikostyring'!L39","v":0},{"$f":"'Log til risikostyring'!M39","v":0},{"$f":"'Log til risikostyring'!N39","v":0},{"$f":"'Log til risikostyring'!O39","v":0},{"$f":"'Log til risikostyring'!P39","v":0},{"$f":"'Log til risikostyring'!Q39","v":0},{"$f":"'Log til risikostyring'!R39","v":0},{"$f":"'Log til risikostyring'!S39","v":0},{"$f":"'Log til risikostyring'!T39","v":0},{"$f":"'Log til risikostyring'!U39","v":0},{"$f":"'Log til risikostyring'!V39","v":0},0,0,0]
[null,{"$f":"'Log til risikostyring'!B40","v":0},{"$f":"'Log til risikostyring'!C40","v":0},{"$f":"'Log til risikostyring'!D40","v":0},{"$f":"'Log til risikostyring'!E40","v":0},{"$f":"'Log til risikostyring'!F40","v":0},{"$f":"'Log til risikostyring'!G40","v":0},{"$f":"'Log til risikostyring'!H40","v":0},{"$f":"'Log til risikostyring'!I40","v":0},{"$f":"'Log til risikostyring'!J40","v":0},{"$f":"'Log til risikostyring'!K40","v":0},{"$f":"'Log til risikostyring'!L40","v":0},{"$f":"'Log til risikostyring'!M40","v":0},{"$f":"'Log til risikostyring'!N40","v":0},{"$f":"'Log til risikostyring'!O40","v":0},{"$f":"'Log til risikostyring'!P40","v":0},{"$f":"'Log til risikostyring'!Q40","v":0},{"$f":"'Log til risikostyring'!R40","v":0},{"$f":"'Log til risikostyring'!S40","v":0},{"$f":"'Log til risikostyring'!T40","v":0},{"$f":"'Log til risikostyring'!U40","v":0},{"$f":"'Log til risikostyring'!V40","v":0},0,0,0,null,"Særlig kritisk risiko","Særlig risiko","Mindre risiko"]
[null,{"$f":"'Log til risikostyring'!B41","v":0},{"$f":"'Log til risikostyring'!C41","v":0},{"$f":"'Log til risikostyring'!D41","v":0},{"$f":"'Log til risikostyring'!E41","v":0},{"$f":"'Log til risikostyring'!F41","v":0},{"$f":"'Log til risikostyring'!G41","v":0},{"$f":"'Log til risikostyring'!H41","v":0},{"$f":"'Log til risikostyring'!I41","v":0},{"$f":"'Log til risikostyring'!J41","v":0},{"$f":"'Log til risikostyring'!K41","v":0},{"$f":"'Log til risikostyring'!L41","v":0},{"$f":"'Log til risikostyring'!M41","v":0},{"$f":"'Log til risikostyring'!N41","v":0},{"$f":"'Log til risikostyring'!O41","v":0},{"$f":"'Log til risikostyring'!P41","v":0},{"$f":"'Log til risikostyring'!Q41","v":0},{"$f":"'Log til risikostyring'!R41","v":0},{"$f":"'Log til risikostyring'!S41","v":0},{"$f":"'Log til risikostyring'!T41","v":0},{"$f":"'Log til risikostyring'!U41","v":0},{"$f":"'Log til risikostyring'!V41","v":0},0,0,0,null,{"$f":"SUM(W4:W210)","v":0},{"$f":"SUM(X4:X210)","v":0},{"$f":"SUM(Y4:Y210)","v":0}]
[null,{"$f":"'Log til risikostyring'!B42","v":0},{"$f":"'Log til risikostyring'!C42","v":0},{"$f":"'Log til risikostyring'!D42","v":0},{"$f":"'Log til risikostyring'!E42","v":0},{"$f":"'Log til risikostyring'!F42","v":0},{"$f":"'Log til risikostyring'!G42","v":0},{"$f":"'Log til risikostyring'!H42","v":0},{"$f":"'Log til risikostyring'!I42","v":0},{"$f":"'Log til risikostyring'!J42","v":0},{"$f":"'Log til risikostyring'!K42","v":0},{"$f":"'Log til risikostyring'!L42","v":0},{"$f":"'Log til risikostyring'!M42","v":0},{"$f":"'Log til risikostyring'!N42","v":0},{"$f":"'Log til risikostyring'!O42","v":0},{"$f":"'Log til risikostyring'!P42","v":0},{"$f":"'Log til risikostyring'!Q42","v":0},{"$f":"'Log til risikostyring'!R42","v":0},{"$f":"'Log til risikostyring'!S42","v":0},{"$f":"'Log til risikostyring'!T42","v":0},{"$f":"'Log til risikostyring'!U42","v":0},{"$f":"'Log til risikostyring'!V42","v":0},0,0,0]
[null,{"$f":"'Log til risikostyring'!B43","v":0},{"$f":"'Log til risikostyring'!C43","v":0},{"$f":"'Log til risikostyring'!D43","v":0},{"$f":"'Log til risikostyring'!E43","v":0},{"$f":"'Log til risikostyring'!F43","v":0},{"$f":"'Log til risikostyring'!G43","v":0},{"$f":"'Log til risikostyring'!H43","v":0},{"$f":"'Log til risikostyring'!I43","v":0},{"$f":"'Log til risikostyring'!J43","v":0},{"$f":"'Log til risikostyring'!K43","v":0},{"$f":"'Log til risikostyring'!L43","v":0},{"$f":"'Log til risikostyring'!M43","v":0},{"$f":"'Log til risikostyring'!N43","v":0},{"$f":"'Log til risikostyring'!O43","v":0},{"$f":"'Log til risikostyring'!P43","v":0},{"$f":"'Log til risikostyring'!Q43","v":0},{"$f":"'Log til risikostyring'!R43","v":0},{"$f":"'Log til risikostyring'!S43","v":0},{"$f":"'Log til risikostyring'!T43","v":0},{"$f":"'Log til risikostyring'!U43","v":0},{"$f":"'Log til risikostyring'!V43","v":0},0,0,0]
[null,{"$f":"'Log til risikostyring'!B44","v":0},{"$f":"'Log til risikostyring'!C44","v":0},{"$f":"'Log til risikostyring'!D44","v":0},{"$f":"'Log til risikostyring'!E44","v":0},{"$f":"'Log til risikostyring'!F44","v":0},{"$f":"'Log til risikostyring'!G44","v":0},{"$f":"'Log til risikostyring'!H44","v":0},{"$f":"'Log til risikostyring'!I44","v":0},{"$f":"'Log til risikostyring'!J44","v":0},{"$f":"'Log til risikostyring'!K44","v":0},{"$f":"'Log til risikostyring'!L44","v":0},{"$f":"'Log til risikostyring'!M44","v":0},{"$f":"'Log til risikostyring'!N44","v":0},{"$f":"'Log til risikostyring'!O44","v":0},{"$f":"'Log til risikostyring'!P44","v":0},{"$f":"'Log til risikostyring'!Q44","v":0},{"$f":"'Log til risikostyring'!R44","v":0},{"$f":"'Log til risikostyring'!S44","v":0},{"$f":"'Log til risikostyring'!T44","v":0},{"$f":"'Log til risikostyring'!U44","v":0},{"$f":"'Log til risikostyring'!V44","v":0},0,0,0]
[null,{"$f":"'Log til risikostyring'!B45","v":0},{"$f":"'Log til risikostyring'!C45","v":0},{"$f":"'Log til risikostyring'!D45","v":0},{"$f":"'Log til risikostyring'!E45","v":0},{"$f":"'Log til risikostyring'!F45","v":0},{"$f":"'Log til risikostyring'!G45","v":0},{"$f":"'Log til risikostyring'!H45","v":0},{"$f":"'Log til risikostyring'!I45","v":0},{"$f":"'Log til risikostyring'!J45","v":0},{"$f":"'Log til risikostyring'!K45","v":0},{"$f":"'Log til risikostyring'!L45","v":0},{"$f":"'Log til risikostyring'!M45","v":0},{"$f":"'Log til risikostyring'!N45","v":0},{"$f":"'Log til risikostyring'!O45","v":0},{"$f":"'Log til risikostyring'!P45","v":0},{"$f":"'Log til risikostyring'!Q45","v":0},{"$f":"'Log til risikostyring'!R45","v":0},{"$f":"'Log til risikostyring'!S45","v":0},{"$f":"'Log til risikostyring'!T45","v":0},{"$f":"'Log til risikostyring'!U45","v":0},{"$f":"'Log til risikostyring'!V45","v":0},0,0,0]
[null,{"$f":"'Log til risikostyring'!B46","v":0},{"$f":"'Log til risikostyring'!C46","v":0},{"$f":"'Log til risikostyring'!D46","v":0},{"$f":"'Log til risikostyring'!E46","v":0},{"$f":"'Log til risikostyring'!F46","v":0},{"$f":"'Log til risikostyring'!G46","v":0},{"$f":"'Log til risikostyring'!H46","v":0},{"$f":"'Log til risikostyring'!I46","v":0},{"$f":"'Log til risikostyring'!J46","v":0},{"$f":"'Log til risikostyring'!K46","v":0},{"$f":"'Log til risikostyring'!L46","v":0},{"$f":"'Log til risikostyring'!M46","v":0},{"$f":"'Log til risikostyring'!N46","v":0},{"$f":"'Log til risikostyring'!O46","v":0},{"$f":"'Log til risikostyring'!P46","v":0},{"$f":"'Log til risikostyring'!Q46","v":0},{"$f":"'Log til risikostyring'!R46","v":0},{"$f":"'Log til risikostyring'!S46","v":0},{"$f":"'Log til risikostyring'!T46","v":0},{"$f":"'Log til risikostyring'!U46","v":0},{"$f":"'Log til risikostyring'!V46","v":0},0,0,0]
[null,{"$f":"'Log til risikostyring'!B47","v":0},{"$f":"'Log til risikostyring'!C47","v":0},{"$f":"'Log til risikostyring'!D47","v":0},{"$f":"'Log til risikostyring'!E47","v":0},{"$f":"'Log til risikostyring'!F47","v":0},{"$f":"'Log til risikostyring'!G47","v":0},{"$f":"'Log til risikostyring'!H47","v":0},{"$f":"'Log til risikostyring'!I47","v":0},{"$f":"'Log til risikostyring'!J47","v":0},{"$f":"'Log til risikostyring'!K47","v":0},{"$f":"'Log til risikostyring'!L47","v":0},{"$f":"'Log til risikostyring'!M47","v":0},{"$f":"'Log til risikostyring'!N47","v":0},{"$f":"'Log til risikostyring'!O47","v":0},{"$f":"'Log til risikostyring'!P47","v":0},{"$f":"'Log til risikostyring'!Q47","v":0},{"$f":"'Log til risikostyring'!R47","v":0},{"$f":"'Log til risikostyring'!S47","v":0},{"$f":"'Log til risikostyring'!T47","v":0},{"$f":"'Log til risikostyring'!U47","v":0},{"$f":"'Log til risikostyring'!V47","v":0},0,0,0]
[null,{"$f":"'Log til risikostyring'!B48","v":0},{"$f":"'Log til risikostyring'!C48","v":0},{"$f":"'Log til risikostyring'!D48","v":0},{"$f":"'Log til risikostyring'!E48","v":0},{"$f":"'Log til risikostyring'!F48","v":0},{"$f":"'Log til risikostyring'!G48","v":0},{"$f":"'Log til risikostyring'!H48","v":0},{"$f":"'Log til risikostyring'!I48","v":0},{"$f":"'Log til risikostyring'!J48","v":0},{"$f":"'Log til risikostyring'!K48","v":0},{"$f":"'Log til risikostyring'!L48","v":0},{"$f":"'Log til risikostyring'!M48","v":0},{"$f":"'Log til risikostyring'!N48","v":0},{"$f":"'Log til risikostyring'!O48","v":0},{"$f":"'Log til risikostyring'!P48","v":0},{"$f":"'Log til risikostyring'!Q48","v":0},{"$f":"'Log til risikostyring'!R48","v":0},{"$f":"'Log til risikostyring'!S48","v":0},{"$f":"'Log til risikostyring'!T48","v":0},{"$f":"'Log til risikostyring'!U48","v":0},{"$f":"'Log til risikostyring'!V48","v":0},0,0,0]
[null,{"$f":"'Log til risikostyring'!B49","v":0},{"$f":"'Log til risikostyring'!C49","v":0},{"$f":"'Log til risikostyring'!D49","v":0},{"$f":"'Log til risikostyring'!E49","v":0},{"$f":"'Log til risikostyring'!F49","v":0},{"$f":"'Log til risikostyring'!G49","v":0},{"$f":"'Log til risikostyring'!H49","v":0},{"$f":"'Log til risikostyring'!I49","v":0},{"$f":"'Log til risikostyring'!J49","v":0},{"$f":"'Log til risikostyring'!K49","v":0},{"$f":"'Log til risikostyring'!L49","v":0},{"$f":"'Log til risikostyring'!M49","v":0},{"$f":"'Log til risikostyring'!N49","v":0},{"$f":"'Log til risikostyring'!O49","v":0},{"$f":"'Log til risikostyring'!P49","v":0},{"$f":"'Log til risikostyring'!Q49","v":0},{"$f":"'Log til risikostyring'!R49","v":0},{"$f":"'Log til risikostyring'!S49","v":0},{"$f":"'Log til risikostyring'!T49","v":0},{"$f":"'Log til risikostyring'!U49","v":0},{"$f":"'Log til risikostyring'!V49","v":0},0,0,0]
[null,{"$f":"'Log til risikostyring'!B50","v":0},{"$f":"'Log til risikostyring'!C50","v":0},{"$f":"'Log til risikostyring'!D50","v":0},{"$f":"'Log til risikostyring'!E50","v":0},{"$f":"'Log til risikostyring'!F50","v":0},{"$f":"'Log til risikostyring'!G50","v":0},{"$f":"'Log til risikostyring'!H50","v":0},{"$f":"'Log til risikostyring'!I50","v":0},{"$f":"'Log til risikostyring'!J50","v":0},{"$f":"'Log til risikostyring'!K50","v":0},{"$f":"'Log til risikostyring'!L50","v":0},{"$f":"'Log til risikostyring'!M50","v":0},{"$f":"'Log til risikostyring'!N50","v":0},{"$f":"'Log til risikostyring'!O50","v":0},{"$f":"'Log til risikostyring'!P50","v":0},{"$f":"'Log til risikostyring'!Q50","v":0},{"$f":"'Log til risikostyring'!R50","v":0},{"$f":"'Log til risikostyring'!S50","v":0},{"$f":"'Log til risikostyring'!T50","v":0},{"$f":"'Log til risikostyring'!U50","v":0},{"$f":"'Log til risikostyring'!V50","v":0},0,0,0]
[null,{"$f":"'Log til risikostyring'!B51","v":0},{"$f":"'Log til risikostyring'!C51","v":0},{"$f":"'Log til risikostyring'!D51","v":0},{"$f":"'Log til risikostyring'!E51","v":0},{"$f":"'Log til risikostyring'!F51","v":0},{"$f":"'Log til risikostyring'!G51","v":0},{"$f":"'Log til risikostyring'!H51","v":0},{"$f":"'Log til risikostyring'!I51","v":0},{"$f":"'Log til risikostyring'!J51","v":0},{"$f":"'Log til risikostyring'!K51","v":0},{"$f":"'Log til risikostyring'!L51","v":0},{"$f":"'Log til risikostyring'!M51","v":0},{"$f":"'Log til risikostyring'!N51","v":0},{"$f":"'Log til risikostyring'!O51","v":0},{"$f":"'Log til risikostyring'!P51","v":0},{"$f":"'Log til risikostyring'!Q51","v":0},{"$f":"'Log til risikostyring'!R51","v":0},{"$f":"'Log til risikostyring'!S51","v":0},{"$f":"'Log til risikostyring'!T51","v":0},{"$f":"'Log til risikostyring'!U51","v":0},{"$f":"'Log til risikostyring'!V51","v":0},0,0,0]
[null,{"$f":"'Log til risikostyring'!B52","v":0},{"$f":"'Log til risikostyring'!C52","v":0},{"$f":"'Log til risikostyring'!D52","v":0},{"$f":"'Log til risikostyring'!E52","v":0},{"$f":"'Log til risikostyring'!F52","v":0},{"$f":"'Log til risikostyring'!G52","v":0},{"$f":"'Log til risikostyring'!H52","v":0},{"$f":"'Log til risikostyring'!I52","v":0},{"$f":"'Log til risikostyring'!J52","v":0},{"$f":"'Log til risikostyring'!K52","v":0},{"$f":"'Log til risikostyring'!L52","v":0},{"$f":"'Log til risikostyring'!M52","v":0},{"$f":"'Log til risikostyring'!N52","v":0},{"$f":"'Log til risikostyring'!O52","v":0},{"$f":"'Log til risikostyring'!P52","v":0},{"$f":"'Log til risikostyring'!Q52","v":0},{"$f":"'Log til risikostyring'!R52","v":0},{"$f":"'Log til risikostyring'!S52","v":0},{"$f":"'Log til risikostyring'!T52","v":0},{"$f":"'Log til risikostyring'!U52","v":0},{"$f":"'Log til risikostyring'!V52","v":0},0,0,0]
[null,{"$f":"'Log til risikostyring'!B53","v":0},{"$f":"'Log til risikostyring'!C53","v":0},{"$f":"'Log til risikostyring'!D53","v":0},{"$f":"'Log til risikostyring'!E53","v":0},{"$f":"'Log til risikostyring'!F53","v":0},{"$f":"'Log til risikostyring'!G53","v":0},{"$f":"'Log til risikostyring'!H53","v":0},{"$f":"'Log til risikostyring'!I53","v":0},{"$f":"'Log til risikostyring'!J53","v":0},{"$f":"'Log til risikostyring'!K53","v":0},{"$f":"'Log til risikostyring'!L53","v":0},{"$f":"'Log til risikostyring'!M53","v":0},{"$f":"'Log til risikostyring'!N53","v":0},{"$f":"'Log til risikostyring'!O53","v":0},{"$f":"'Log til risikostyring'!P53","v":0},{"$f":"'Log til risikostyring'!Q53","v":0},{"$f":"'Log til risikostyring'!R53","v":0},{"$f":"'Log til risikostyring'!S53","v":0},{"$f":"'Log til risikostyring'!T53","v":0},{"$f":"'Log til risikostyring'!U53","v":0},{"$f":"'Log til risikostyring'!V53","v":0},0,0,0]
[null,{"$f":"'Log til risikostyring'!B54","v":0},{"$f":"'Log til risikostyring'!C54","v":0},{"$f":"'Log til risikostyring'!D54","v":0},{"$f":"'Log til risikostyring'!E54","v":0},{"$f":"'Log til risikostyring'!F54","v":0},{"$f":"'Log til risikostyring'!G54","v":0},{"$f":"'Log til risikostyring'!H54","v":0},{"$f":"'Log til risikostyring'!I54","v":0},{"$f":"'Log til risikostyring'!J54","v":0},{"$f":"'Log til risikostyring'!K54","v":0},{"$f":"'Log til risikostyring'!L54","v":0},{"$f":"'Log til risikostyring'!M54","v":0},{"$f":"'Log til risikostyring'!N54","v":0},{"$f":"'Log til risikostyring'!O54","v":0},{"$f":"'Log til risikostyring'!P54","v":0},{"$f":"'Log til risikostyring'!Q54","v":0},{"$f":"'Log til risikostyring'!R54","v":0},{"$f":"'Log til risikostyring'!S54","v":0},{"$f":"'Log til risikostyring'!T54","v":0},{"$f":"'Log til risikostyring'!U54","v":0},{"$f":"'Log til risikostyring'!V54","v":0},0,0,0]
[null,{"$f":"'Log til risikostyring'!B55","v":0},{"$f":"'Log til risikostyring'!C55","v":0},{"$f":"'Log til risikostyring'!D55","v":0},{"$f":"'Log til risikostyring'!E55","v":0},{"$f":"'Log til risikostyring'!F55","v":0},{"$f":"'Log til risikostyring'!G55","v":0},{"$f":"'Log til risikostyring'!H55","v":0},{"$f":"'Log til risikostyring'!I55","v":0},{"$f":"'Log til risikostyring'!J55","v":0},{"$f":"'Log til risikostyring'!K55","v":0},{"$f":"'Log til risikostyring'!L55","v":0},{"$f":"'Log til risikostyring'!M55","v":0},{"$f":"'Log til risikostyring'!N55","v":0},{"$f":"'Log til risikostyring'!O55","v":0},{"$f":"'Log til risikostyring'!P55","v":0},{"$f":"'Log til risikostyring'!Q55","v":0},{"$f":"'Log til risikostyring'!R55","v":0},{"$f":"'Log til risikostyring'!S55","v":0},{"$f":"'Log til risikostyring'!T55","v":0},{"$f":"'Log til risikostyring'!U55","v":0},{"$f":"'Log til risikostyring'!V55","v":0},0,0,0]
[null,{"$f":"'Log til risikostyring'!B56","v":0},{"$f":"'Log til risikostyring'!C56","v":0},{"$f":"'Log til risikostyring'!D56","v":0},{"$f":"'Log til risikostyring'!E56","v":0},{"$f":"'Log til risikostyring'!F56","v":0},{"$f":"'Log til risikostyring'!G56","v":0},{"$f":"'Log til risikostyring'!H56","v":0},{"$f":"'Log til risikostyring'!I56","v":0},{"$f":"'Log til risikostyring'!J56","v":0},{"$f":"'Log til risikostyring'!K56","v":0},{"$f":"'Log til risikostyring'!L56","v":0},{"$f":"'Log til risikostyring'!M56","v":0},{"$f":"'Log til risikostyring'!N56","v":0},{"$f":"'Log til risikostyring'!O56","v":0},{"$f":"'Log til risikostyring'!P56","v":0},{"$f":"'Log til risikostyring'!Q56","v":0},{"$f":"'Log til risikostyring'!R56","v":0},{"$f":"'Log til risikostyring'!S56","v":0},{"$f":"'Log til risikostyring'!T56","v":0},{"$f":"'Log til risikostyring'!U56","v":0},{"$f":"'Log til risikostyring'!V56","v":0},0,0,0]
[null,{"$f":"'Log til risikostyring'!B57","v":0},{"$f":"'Log til risikostyring'!C57","v":0},{"$f":"'Log til risikostyring'!D57","v":0},{"$f":"'Log til risikostyring'!E57","v":0},{"$f":"'Log til risikostyring'!F57","v":0},{"$f":"'Log til risikostyring'!G57","v":0},{"$f":"'Log til risikostyring'!H57","v":0},{"$f":"'Log til risikostyring'!I57","v":0},{"$f":"'Log til risikostyring'!J57","v":0},{"$f":"'Log til risikostyring'!K57","v":0},{"$f":"'Log til risikostyring'!L57","v":0},{"$f":"'Log til risikostyring'!M57","v":0},{"$f":"'Log til risikostyring'!N57","v":0},{"$f":"'Log til risikostyring'!O57","v":0},{"$f":"'Log til risikostyring'!P57","v":0},{"$f":"'Log til risikostyring'!Q57","v":0},{"$f":"'Log til risikostyring'!R57","v":0},{"$f":"'Log til risikostyring'!S57","v":0},{"$f":"'Log til risikostyring'!T57","v":0},{"$f":"'Log til risikostyring'!U57","v":0},{"$f":"'Log til risikostyring'!V57","v":0},0,0,0]
[null,{"$f":"'Log til risikostyring'!B58","v":0},{"$f":"'Log til risikostyring'!C58","v":0},{"$f":"'Log til risikostyring'!D58","v":0},{"$f":"'Log til risikostyring'!E58","v":0},{"$f":"'Log til risikostyring'!F58","v":0},{"$f":"'Log til risikostyring'!G58","v":0},{"$f":"'Log til risikostyring'!H58","v":0},{"$f":"'Log til risikostyring'!I58","v":0},{"$f":"'Log til risikostyring'!J58","v":0},{"$f":"'Log til risikostyring'!K58","v":0},{"$f":"'Log til risikostyring'!L58","v":0},{"$f":"'Log til risikostyring'!M58","v":0},{"$f":"'Log til risikostyring'!N58","v":0},{"$f":"'Log til risikostyring'!O58","v":0},{"$f":"'Log til risikostyring'!P58","v":0},{"$f":"'Log til risikostyring'!Q58","v":0},{"$f":"'Log til risikostyring'!R58","v":0},{"$f":"'Log til risikostyring'!S58","v":0},{"$f":"'Log til risikostyring'!T58","v":0},{"$f":"'Log til risikostyring'!U58","v":0},{"$f":"'Log til risikostyring'!V58","v":0},0,0,0]
[null,{"$f":"'Log til risikostyring'!B59","v":0},{"$f":"'Log til risikostyring'!C59","v":0},{"$f":"'Log til risikostyring'!D59","v":0},{"$f":"'Log til risikostyring'!E59","v":0},{"$f":"'Log til risikostyring'!F59","v":0},{"$f":"'Log til risikostyring'!G59","v":0},{"$f":"'Log til risikostyring'!H59","v":0},{"$f":"'Log til risikostyring'!I59","v":0},{"$f":"'Log til risikostyring'!J59","v":0},{"$f":"'Log til risikostyring'!K59","v":0},{"$f":"'Log til risikostyring'!L59","v":0},{"$f":"'Log til risikostyring'!M59","v":0},{"$f":"'Log til risikostyring'!N59","v":0},{"$f":"'Log til risikostyring'!O59","v":0},{"$f":"'Log til risikostyring'!P59","v":0},{"$f":"'Log til risikostyring'!Q59","v":0},{"$f":"'Log til risikostyring'!R59","v":0},{"$f":"'Log til risikostyring'!S59","v":0},{"$f":"'Log til risikostyring'!T59","v":0},{"$f":"'Log til risikostyring'!U59","v":0},{"$f":"'Log til risikostyring'!V59","v":0},0,0,0]
[null,{"$f":"'Log til risikostyring'!B60","v":0},{"$f":"'Log til risikostyring'!C60","v":0},{"$f":"'Log til risikostyring'!D60","v":0},{"$f":"'Log til risikostyring'!E60","v":0},{"$f":"'Log til risikostyring'!F60","v":0},{"$f":"'Log til risikostyring'!G60","v":0},{"$f":"'Log til risikostyring'!H60","v":0},{"$f":"'Log til risikostyring'!I60","v":0},{"$f":"'Log til risikostyring'!J60","v":0},{"$f":"'Log til risikostyring'!K60","v":0},{"$f":"'Log til risikostyring'!L60","v":0},{"$f":"'Log til risikostyring'!M60","v":0},{"$f":"'Log til risikostyring'!N60","v":0},{"$f":"'Log til risikostyring'!O60","v":0},{"$f":"'Log til risikostyring'!P60","v":0},{"$f":"'Log til risikostyring'!Q60","v":0},{"$f":"'Log til risikostyring'!R60","v":0},{"$f":"'Log til risikostyring'!S60","v":0},{"$f":"'Log til risikostyring'!T60","v":0},{"$f":"'Log til risikostyring'!U60","v":0},{"$f":"'Log til risikostyring'!V60","v":0},0,0,0]
[null,{"$f":"'Log til risikostyring'!B61","v":0},{"$f":"'Log til risikostyring'!C61","v":0},{"$f":"'Log til risikostyring'!D61","v":0},{"$f":"'Log til risikostyring'!E61","v":0},{"$f":"'Log til risikostyring'!F61","v":0},{"$f":"'Log til risikostyring'!G61","v":0},{"$f":"'Log til risikostyring'!H61","v":0},{"$f":"'Log til risikostyring'!I61","v":0},{"$f":"'Log til risikostyring'!J61","v":0},{"$f":"'Log til risikostyring'!K61","v":0},{"$f":"'Log til risikostyring'!L61","v":0},{"$f":"'Log til risikostyring'!M61","v":0},{"$f":"'Log til risikostyring'!N61","v":0},{"$f":"'Log til risikostyring'!O61","v":0},{"$f":"'Log til risikostyring'!P61","v":0},{"$f":"'Log til risikostyring'!Q61","v":0},{"$f":"'Log til risikostyring'!R61","v":0},{"$f":"'Log til risikostyring'!S61","v":0},{"$f":"'Log til risikostyring'!T61","v":0},{"$f":"'Log til risikostyring'!U61","v":0},{"$f":"'Log til risikostyring'!V61","v":0},0,0,0]
[null,{"$f":"'Log til risikostyring'!B62","v":0},{"$f":"'Log til risikostyring'!C62","v":0},{"$f":"'Log til risikostyring'!D62","v":0},{"$f":"'Log til risikostyring'!E62","v":0},{"$f":"'Log til risikostyring'!F62","v":0},{"$f":"'Log til risikostyring'!G62","v":0},{"$f":"'Log til risikostyring'!H62","v":0},{"$f":"'Log til risikostyring'!I62","v":0},{"$f":"'Log til risikostyring'!J62","v":0},{"$f":"'Log til risikostyring'!K62","v":0},{"$f":"'Log til risikostyring'!L62","v":0},{"$f":"'Log til risikostyring'!M62","v":0},{"$f":"'Log til risikostyring'!N62","v":0},{"$f":"'Log til risikostyring'!O62","v":0},{"$f":"'Log til risikostyring'!P62","v":0},{"$f":"'Log til risikostyring'!Q62","v":0},{"$f":"'Log til risikostyring'!R62","v":0},{"$f":"'Log til risikostyring'!S62","v":0},{"$f":"'Log til risikostyring'!T62","v":0},{"$f":"'Log til risikostyring'!U62","v":0},{"$f":"'Log til risikostyring'!V62","v":0},0,0,0]
[null,{"$f":"'Log til risikostyring'!B63","v":0},{"$f":"'Log til risikostyring'!C63","v":0},{"$f":"'Log til risikostyring'!D63","v":0},{"$f":"'Log til risikostyring'!E63","v":0},{"$f":"'Log til risikostyring'!F63","v":0},{"$f":"'Log til risikostyring'!G63","v":0},{"$f":"'Log til risikostyring'!H63","v":0},{"$f":"'Log til risikostyring'!I63","v":0},{"$f":"'Log til risikostyring'!J63","v":0},{"$f":"'Log til risikostyring'!K63","v":0},{"$f":"'Log til risikostyring'!L63","v":0},{"$f":"'Log til risikostyring'!M63","v":0},{"$f":"'Log til risikostyring'!N63","v":0},{"$f":"'Log til risikostyring'!O63","v":0},{"$f":"'Log til risikostyring'!P63","v":0},{"$f":"'Log til risikostyring'!Q63","v":0},{"$f":"'Log til risikostyring'!R63","v":0},{"$f":"'Log til risikostyring'!S63","v":0},{"$f":"'Log til risikostyring'!T63","v":0},{"$f":"'Log til risikostyring'!U63","v":0},{"$f":"'Log til risikostyring'!V63","v":0},0,0,0]
[null,{"$f":"'Log til risikostyring'!B64","v":0},{"$f":"'Log til risikostyring'!C64","v":0},{"$f":"'Log til risikostyring'!D64","v":0},{"$f":"'Log til risikostyring'!E64","v":0},{"$f":"'Log til risikostyring'!F64","v":0},{"$f":"'Log til risikostyring'!G64","v":0},{"$f":"'Log til risikostyring'!H64","v":0},{"$f":"'Log til risikostyring'!I64","v":0},{"$f":"'Log til risikostyring'!J64","v":0},{"$f":"'Log til risikostyring'!K64","v":0},{"$f":"'Log til risikostyring'!L64","v":0},{"$f":"'Log til risikostyring'!M64","v":0},{"$f":"'Log til risikostyring'!N64","v":0},{"$f":"'Log til risikostyring'!O64","v":0},{"$f":"'Log til risikostyring'!P64","v":0},{"$f":"'Log til risikostyring'!Q64","v":0},{"$f":"'Log til risikostyring'!R64","v":0},{"$f":"'Log til risikostyring'!S64","v":0},{"$f":"'Log til risikostyring'!T64","v":0},{"$f":"'Log til risikostyring'!U64","v":0},{"$f":"'Log til risikostyring'!V64","v":0},0,0,0]
[null,{"$f":"'Log til risikostyring'!B65","v":0},{"$f":"'Log til risikostyring'!C65","v":0},{"$f":"'Log til risikostyring'!D65","v":0},{"$f":"'Log til risikostyring'!E65","v":0},{"$f":"'Log til risikostyring'!F65","v":0},{"$f":"'Log til risikostyring'!G65","v":0},{"$f":"'Log til risikostyring'!H65","v":0},{"$f":"'Log til risikostyring'!I65","v":0},{"$f":"'Log til risikostyring'!J65","v":0},{"$f":"'Log til risikostyring'!K65","v":0},{"$f":"'Log til risikostyring'!L65","v":0},{"$f":"'Log til risikostyring'!M65","v":0},{"$f":"'Log til risikostyring'!N65","v":0},{"$f":"'Log til risikostyring'!O65","v":0},{"$f":"'Log til risikostyring'!P65","v":0},{"$f":"'Log til risikostyring'!Q65","v":0},{"$f":"'Log til risikostyring'!R65","v":0},{"$f":"'Log til risikostyring'!S65","v":0},{"$f":"'Log til risikostyring'!T65","v":0},{"$f":"'Log til risikostyring'!U65","v":0},{"$f":"'Log til risikostyring'!V65","v":0},0,0,0]
[null,{"$f":"'Log til risikostyring'!B66","v":0},{"$f":"'Log til risikostyring'!C66","v":0},{"$f":"'Log til risikostyring'!D66","v":0},{"$f":"'Log til risikostyring'!E66","v":0},{"$f":"'Log til risikostyring'!F66","v":0},{"$f":"'Log til risikostyring'!G66","v":0},{"$f":"'Log til risikostyring'!H66","v":0},{"$f":"'Log til risikostyring'!I66","v":0},{"$f":"'Log til risikostyring'!J66","v":0},{"$f":"'Log til risikostyring'!K66","v":0},{"$f":"'Log til risikostyring'!L66","v":0},{"$f":"'Log til risikostyring'!M66","v":0},{"$f":"'Log til risikostyring'!N66","v":0},{"$f":"'Log til risikostyring'!O66","v":0},{"$f":"'Log til risikostyring'!P66","v":0},{"$f":"'Log til risikostyring'!Q66","v":0},{"$f":"'Log til risikostyring'!R66","v":0},{"$f":"'Log til risikostyring'!S66","v":0},{"$f":"'Log til risikostyring'!T66","v":0},{"$f":"'Log til risikostyring'!U66","v":0},{"$f":"'Log til risikostyring'!V66","v":0},0,0,0]
[null,{"$f":"'Log til risikostyring'!B67","v":0},{"$f":"'Log til risikostyring'!C67","v":0},{"$f":"'Log til risikostyring'!D67","v":0},{"$f":"'Log til risikostyring'!E67","v":0},{"$f":"'Log til risikostyring'!F67","v":0},{"$f":"'Log til risikostyring'!G67","v":0},{"$f":"'Log til risikostyring'!H67","v":0},{"$f":"'Log til risikostyring'!I67","v":0},{"$f":"'Log til risikostyring'!J67","v":0},{"$f":"'Log til risikostyring'!K67","v":0},{"$f":"'Log til risikostyring'!L67","v":0},{"$f":"'Log til risikostyring'!M67","v":0},{"$f":"'Log til risikostyring'!N67","v":0},{"$f":"'Log til risikostyring'!O67","v":0},{"$f":"'Log til risikostyring'!P67","v":0},{"$f":"'Log til risikostyring'!Q67","v":0},{"$f":"'Log til risikostyring'!R67","v":0},{"$f":"'Log til risikostyring'!S67","v":0},{"$f":"'Log til risikostyring'!T67","v":0},{"$f":"'Log til risikostyring'!U67","v":0},{"$f":"'Log til risikostyring'!V67","v":0},0,0,0]
[null,{"$f":"'Log til risikostyring'!B68","v":0},{"$f":"'Log til risikostyring'!C68","v":0},{"$f":"'Log til risikostyring'!D68","v":0},{"$f":"'Log til risikostyring'!E68","v":0},{"$f":"'Log til risikostyring'!F68","v":0},{"$f":"'Log til risikostyring'!G68","v":0},{"$f":"'Log til risikostyring'!H68","v":0},{"$f":"'Log til risikostyring'!I68","v":0},{"$f":"'Log til risikostyring'!J68","v":0},{"$f":"'Log til risikostyring'!K68","v":0},{"$f":"'Log til risikostyring'!L68","v":0},{"$f":"'Log til risikostyring'!M68","v":0},{"$f":"'Log til risikostyring'!N68","v":0},{"$f":"'Log til risikostyring'!O68","v":0},{"$f":"'Log til risikostyring'!P68","v":0},{"$f":"'Log til risikostyring'!Q68","v":0},{"$f":"'Log til risikostyring'!R68","v":0},{"$f":"'Log til risikostyring'!S68","v":0},{"$f":"'Log til risikostyring'!T68","v":0},{"$f":"'Log til risikostyring'!U68","v":0},{"$f":"'Log til risikostyring'!V68","v":0},0,0,0]
[null,{"$f":"'Log til risikostyring'!B69","v":0},{"$f":"'Log til risikostyring'!C69","v":0},{"$f":"'Log til risikostyring'!D69","v":0},{"$f":"'Log til risikostyring'!E69","v":0},{"$f":"'Log til risikostyring'!F69","v":0},{"$f":"'Log til risikostyring'!G69","v":0},{"$f":"'Log til risikostyring'!H69","v":0},{"$f":"'Log til risikostyring'!I69","v":0},{"$f":"'Log til risikostyring'!J69","v":0},{"$f":"'Log til risikostyring'!K69","v":0},{"$f":"'Log til risikostyring'!L69","v":0},{"$f":"'Log til risikostyring'!M69","v":0},{"$f":"'Log til risikostyring'!N69","v":0},{"$f":"'Log til risikostyring'!O69","v":0},{"$f":"'Log til risikostyring'!P69","v":0},{"$f":"'Log til risikostyring'!Q69","v":0},{"$f":"'Log til risikostyring'!R69","v":0},{"$f":"'Log til risikostyring'!S69","v":0},{"$f":"'Log til risikostyring'!T69","v":0},{"$f":"'Log til risikostyring'!U69","v":0},{"$f":"'Log til risikostyring'!V69","v":0},0,0,0]
[null,{"$f":"'Log til risikostyring'!B70","v":0},{"$f":"'Log til risikostyring'!C70","v":0},{"$f":"'Log til risikostyring'!D70","v":0},{"$f":"'Log til risikostyring'!E70","v":0},{"$f":"'Log til risikostyring'!F70","v":0},{"$f":"'Log til risikostyring'!G70","v":0},{"$f":"'Log til risikostyring'!H70","v":0},{"$f":"'Log til risikostyring'!I70","v":0},{"$f":"'Log til risikostyring'!J70","v":0},{"$f":"'Log til risikostyring'!K70","v":0},{"$f":"'Log til risikostyring'!L70","v":0},{"$f":"'Log til risikostyring'!M70","v":0},{"$f":"'Log til risikostyring'!N70","v":0},{"$f":"'Log til risikostyring'!O70","v":0},{"$f":"'Log til risikostyring'!P70","v":0},{"$f":"'Log til risikostyring'!Q70","v":0},{"$f":"'Log til risikostyring'!R70","v":0},{"$f":"'Log til risikostyring'!S70","v":0},{"$f":"'Log til risikostyring'!T70","v":0},{"$f":"'Log til risikostyring'!U70","v":0},{"$f":"'Log til risikostyring'!V70","v":0},0,0,0]
[null,{"$f":"'Log til risikostyring'!B71","v":0},{"$f":"'Log til risikostyring'!C71","v":0},{"$f":"'Log til risikostyring'!D71","v":0},{"$f":"'Log til risikostyring'!E71","v":0},{"$f":"'Log til risikostyring'!F71","v":0},{"$f":"'Log til risikostyring'!G71","v":0},{"$f":"'Log til risikostyring'!H71","v":0},{"$f":"'Log til risikostyring'!I71","v":0},{"$f":"'Log til risikostyring'!J71","v":0},{"$f":"'Log til risikostyring'!K71","v":0},{"$f":"'Log til risikostyring'!L71","v":0},{"$f":"'Log til risikostyring'!M71","v":0},{"$f":"'Log til risikostyring'!N71","v":0},{"$f":"'Log til risikostyring'!O71","v":0},{"$f":"'Log til risikostyring'!P71","v":0},{"$f":"'Log til risikostyring'!Q71","v":0},{"$f":"'Log til risikostyring'!R71","v":0},{"$f":"'Log til risikostyring'!S71","v":0},{"$f":"'Log til risikostyring'!T71","v":0},{"$f":"'Log til risikostyring'!U71","v":0},{"$f":"'Log til risikostyring'!V71","v":0},0,0,0]
[null,{"$f":"'Log til risikostyring'!B72","v":0},{"$f":"'Log til risikostyring'!C72","v":0},{"$f":"'Log til risikostyring'!D72","v":0},{"$f":"'Log til risikostyring'!E72","v":0},{"$f":"'Log til risikostyring'!F72","v":0},{"$f":"'Log til risikostyring'!G72","v":0},{"$f":"'Log til risikostyring'!H72","v":0},{"$f":"'Log til risikostyring'!I72","v":0},{"$f":"'Log til risikostyring'!J72","v":0},{"$f":"'Log til risikostyring'!K72","v":0},{"$f":"'Log til risikostyring'!L72","v":0},{"$f":"'Log til risikostyring'!M72","v":0},{"$f":"'Log til risikostyring'!N72","v":0},{"$f":"'Log til risikostyring'!O72","v":0},{"$f":"'Log til risikostyring'!P72","v":0},{"$f":"'Log til risikostyring'!Q72","v":0},{"$f":"'Log til risikostyring'!R72","v":0},{"$f":"'Log til risikostyring'!S72","v":0},{"$f":"'Log til risikostyring'!T72","v":0},{"$f":"'Log til risikostyring'!U72","v":0},{"$f":"'Log til risikostyring'!V72","v":0},0,0,0]
[null,{"$f":"'Log til risikostyring'!B73","v":0},{"$f":"'Log til risikostyring'!C73","v":0},{"$f":"'Log til risikostyring'!D73","v":0},{"$f":"'Log til risikostyring'!E73","v":0},{"$f":"'Log til risikostyring'!F73","v":0},{"$f":"'Log til risikostyring'!G73","v":0},{"$f":"'Log til risikostyring'!H73","v":0},{"$f":"'Log til risikostyring'!I73","v":0},{"$f":"'Log til risikostyring'!J73","v":0},{"$f":"'Log til risikostyring'!K73","v":0},{"$f":"'Log til risikostyring'!L73","v":0},{"$f":"'Log til risikostyring'!M73","v":0},{"$f":"'Log til risikostyring'!N73","v":0},{"$f":"'Log til risikostyring'!O73","v":0},{"$f":"'Log til risikostyring'!P73","v":0},{"$f":"'Log til risikostyring'!Q73","v":0},{"$f":"'Log til risikostyring'!R73","v":0},{"$f":"'Log til risikostyring'!S73","v":0},{"$f":"'Log til risikostyring'!T73","v":0},{"$f":"'Log til risikostyring'!U73","v":0},{"$f":"'Log til risikostyring'!V73","v":0},{"$f":"IF(K69>15,1,0)","v":0},{"$f":"IF(AND(K69<16,K69>4),1,0)","v":0},{"$f":"IF(AND(K69<5,K69>0),1,0)","v":0}]
[null,{"$f":"'Log til risikostyring'!B74","v":0},{"$f":"'Log til risikostyring'!C74","v":0},{"$f":"'Log til risikostyring'!D74","v":0},{"$f":"'Log til risikostyring'!E74","v":0},{"$f":"'Log til risikostyring'!F74","v":0},{"$f":"'Log til risikostyring'!G74","v":0},{"$f":"'Log til risikostyring'!H74","v":0},{"$f":"'Log til risikostyring'!I74","v":0},{"$f":"'Log til risikostyring'!J74","v":0},{"$f":"'Log til risikostyring'!K74","v":0},{"$f":"'Log til risikostyring'!L74","v":0},{"$f":"'Log til risikostyring'!M74","v":0},{"$f":"'Log til risikostyring'!N74","v":0},{"$f":"'Log til risikostyring'!O74","v":0},{"$f":"'Log til risikostyring'!P74","v":0},{"$f":"'Log til risikostyring'!Q74","v":0},{"$f":"'Log til risikostyring'!R74","v":0},{"$f":"'Log til risikostyring'!S74","v":0},{"$f":"'Log til risikostyring'!T74","v":0},{"$f":"'Log til risikostyring'!U74","v":0},{"$f":"'Log til risikostyring'!V74","v":0},0,0,0]
[null,{"$f":"'Log til risikostyring'!B75","v":0},{"$f":"'Log til risikostyring'!C75","v":0},{"$f":"'Log til risikostyring'!D75","v":0},{"$f":"'Log til risikostyring'!E75","v":0},{"$f":"'Log til risikostyring'!F75","v":0},{"$f":"'Log til risikostyring'!G75","v":0},{"$f":"'Log til risikostyring'!H75","v":0},{"$f":"'Log til risikostyring'!I75","v":0},{"$f":"'Log til risikostyring'!J75","v":0},{"$f":"'Log til risikostyring'!K75","v":0},{"$f":"'Log til risikostyring'!L75","v":0},{"$f":"'Log til risikostyring'!M75","v":0},{"$f":"'Log til risikostyring'!N75","v":0},{"$f":"'Log til risikostyring'!O75","v":0},{"$f":"'Log til risikostyring'!P75","v":0},{"$f":"'Log til risikostyring'!Q75","v":0},{"$f":"'Log til risikostyring'!R75","v":0},{"$f":"'Log til risikostyring'!S75","v":0},{"$f":"'Log til risikostyring'!T75","v":0},{"$f":"'Log til risikostyring'!U75","v":0},{"$f":"'Log til risikostyring'!V75","v":0},0,0,0]
[null,{"$f":"'Log til risikostyring'!B76","v":0},{"$f":"'Log til risikostyring'!C76","v":0},{"$f":"'Log til risikostyring'!D76","v":0},{"$f":"'Log til risikostyring'!E76","v":0},{"$f":"'Log til risikostyring'!F76","v":0},{"$f":"'Log til risikostyring'!G76","v":0},{"$f":"'Log til risikostyring'!H76","v":0},{"$f":"'Log til risikostyring'!I76","v":0},{"$f":"'Log til risikostyring'!J76","v":0},{"$f":"'Log til risikostyring'!K76","v":0},{"$f":"'Log til risikostyring'!L76","v":0},{"$f":"'Log til risikostyring'!M76","v":0},{"$f":"'Log til risikostyring'!N76","v":0},{"$f":"'Log til risikostyring'!O76","v":0},{"$f":"'Log til risikostyring'!P76","v":0},{"$f":"'Log til risikostyring'!Q76","v":0},{"$f":"'Log til risikostyring'!R76","v":0},{"$f":"'Log til risikostyring'!S76","v":0},{"$f":"'Log til risikostyring'!T76","v":0},{"$f":"'Log til risikostyring'!U76","v":0},{"$f":"'Log til risikostyring'!V76","v":0},0,0,0]
[null,{"$f":"'Log til risikostyring'!B77","v":0},{"$f":"'Log til risikostyring'!C77","v":0},{"$f":"'Log til risikostyring'!D77","v":0},{"$f":"'Log til risikostyring'!E77","v":0},{"$f":"'Log til risikostyring'!F77","v":0},{"$f":"'Log til risikostyring'!G77","v":0},{"$f":"'Log til risikostyring'!H77","v":0},{"$f":"'Log til risikostyring'!I77","v":0},{"$f":"'Log til risikostyring'!J77","v":0},{"$f":"'Log til risikostyring'!K77","v":0},{"$f":"'Log til risikostyring'!L77","v":0},{"$f":"'Log til risikostyring'!M77","v":0},{"$f":"'Log til risikostyring'!N77","v":0},{"$f":"'Log til risikostyring'!O77","v":0},{"$f":"'Log til risikostyring'!P77","v":0},{"$f":"'Log til risikostyring'!Q77","v":0},{"$f":"'Log til risikostyring'!R77","v":0},{"$f":"'Log til risikostyring'!S77","v":0},{"$f":"'Log til risikostyring'!T77","v":0},{"$f":"'Log til risikostyring'!U77","v":0},{"$f":"'Log til risikostyring'!V77","v":0},0,0,0]
[null,{"$f":"'Log til risikostyring'!B78","v":0},{"$f":"'Log til risikostyring'!C78","v":0},{"$f":"'Log til risikostyring'!D78","v":0},{"$f":"'Log til risikostyring'!E78","v":0},{"$f":"'Log til risikostyring'!F78","v":0},{"$f":"'Log til risikostyring'!G78","v":0},{"$f":"'Log til risikostyring'!H78","v":0},{"$f":"'Log til risikostyring'!I78","v":0},{"$f":"'Log til risikostyring'!J78","v":0},{"$f":"'Log til risikostyring'!K78","v":0},{"$f":"'Log til risikostyring'!L78","v":0},{"$f":"'Log til risikostyring'!M78","v":0},{"$f":"'Log til risikostyring'!N78","v":0},{"$f":"'Log til risikostyring'!O78","v":0},{"$f":"'Log til risikostyring'!P78","v":0},{"$f":"'Log til risikostyring'!Q78","v":0},{"$f":"'Log til risikostyring'!R78","v":0},{"$f":"'Log til risikostyring'!S78","v":0},{"$f":"'Log til risikostyring'!T78","v":0},{"$f":"'Log til risikostyring'!U78","v":0},{"$f":"'Log til risikostyring'!V78","v":0},0,0,0]
[null,{"$f":"'Log til risikostyring'!B79","v":0},{"$f":"'Log til risikostyring'!C79","v":0},{"$f":"'Log til risikostyring'!D79","v":0},{"$f":"'Log til risikostyring'!E79","v":0},{"$f":"'Log til risikostyring'!F79","v":0},{"$f":"'Log til risikostyring'!G79","v":0},{"$f":"'Log til risikostyring'!H79","v":0},{"$f":"'Log til risikostyring'!I79","v":0},{"$f":"'Log til risikostyring'!J79","v":0},{"$f":"'Log til risikostyring'!K79","v":0},{"$f":"'Log til risikostyring'!L79","v":0},{"$f":"'Log til risikostyring'!M79","v":0},{"$f":"'Log til risikostyring'!N79","v":0},{"$f":"'Log til risikostyring'!O79","v":0},{"$f":"'Log til risikostyring'!P79","v":0},{"$f":"'Log til risikostyring'!Q79","v":0},{"$f":"'Log til risikostyring'!R79","v":0},{"$f":"'Log til risikostyring'!S79","v":0},{"$f":"'Log til risikostyring'!T79","v":0},{"$f":"'Log til risikostyring'!U79","v":0},{"$f":"'Log til risikostyring'!V79","v":0},0,0,0]
[null,{"$f":"'Log til risikostyring'!B80","v":0},{"$f":"'Log til risikostyring'!C80","v":0},{"$f":"'Log til risikostyring'!D80","v":0},{"$f":"'Log til risikostyring'!E80","v":0},{"$f":"'Log til risikostyring'!F80","v":0},{"$f":"'Log til risikostyring'!G80","v":0},{"$f":"'Log til risikostyring'!H80","v":0},{"$f":"'Log til risikostyring'!I80","v":0},{"$f":"'Log til risikostyring'!J80","v":0},{"$f":"'Log til risikostyring'!K80","v":0},{"$f":"'Log til risikostyring'!L80","v":0},{"$f":"'Log til risikostyring'!M80","v":0},{"$f":"'Log til risikostyring'!N80","v":0},{"$f":"'Log til risikostyring'!O80","v":0},{"$f":"'Log til risikostyring'!P80","v":0},{"$f":"'Log til risikostyring'!Q80","v":0},{"$f":"'Log til risikostyring'!R80","v":0},{"$f":"'Log til risikostyring'!S80","v":0},{"$f":"'Log til risikostyring'!T80","v":0},{"$f":"'Log til risikostyring'!U80","v":0},{"$f":"'Log til risikostyring'!V80","v":0},0,0,0]
[null,{"$f":"'Log til risikostyring'!B81","v":0},{"$f":"'Log til risikostyring'!C81","v":0},{"$f":"'Log til risikostyring'!D81","v":0},{"$f":"'Log til risikostyring'!E81","v":0},{"$f":"'Log til risikostyring'!F81","v":0},{"$f":"'Log til risikostyring'!G81","v":0},{"$f":"'Log til risikostyring'!H81","v":0},{"$f":"'Log til risikostyring'!I81","v":0},{"$f":"'Log til risikostyring'!J81","v":0},{"$f":"'Log til risikostyring'!K81","v":0},{"$f":"'Log til risikostyring'!L81","v":0},{"$f":"'Log til risikostyring'!M81","v":0},{"$f":"'Log til risikostyring'!N81","v":0},{"$f":"'Log til risikostyring'!O81","v":0},{"$f":"'Log til risikostyring'!P81","v":0},{"$f":"'Log til risikostyring'!Q81","v":0},{"$f":"'Log til risikostyring'!R81","v":0},{"$f":"'Log til risikostyring'!S81","v":0},{"$f":"'Log til risikostyring'!T81","v":0},{"$f":"'Log til risikostyring'!U81","v":0},{"$f":"'Log til risikostyring'!V81","v":0},0,0,0]
[null,{"$f":"'Log til risikostyring'!B82","v":0},{"$f":"'Log til risikostyring'!C82","v":0},{"$f":"'Log til risikostyring'!D82","v":0},{"$f":"'Log til risikostyring'!E82","v":0},{"$f":"'Log til risikostyring'!F82","v":0},{"$f":"'Log til risikostyring'!G82","v":0},{"$f":"'Log til risikostyring'!H82","v":0},{"$f":"'Log til risikostyring'!I82","v":0},{"$f":"'Log til risikostyring'!J82","v":0},{"$f":"'Log til risikostyring'!K82","v":0},{"$f":"'Log til risikostyring'!L82","v":0},{"$f":"'Log til risikostyring'!M82","v":0},{"$f":"'Log til risikostyring'!N82","v":0},{"$f":"'Log til risikostyring'!O82","v":0},{"$f":"'Log til risikostyring'!P82","v":0},{"$f":"'Log til risikostyring'!Q82","v":0},{"$f":"'Log til risikostyring'!R82","v":0},{"$f":"'Log til risikostyring'!S82","v":0},{"$f":"'Log til risikostyring'!T82","v":0},{"$f":"'Log til risikostyring'!U82","v":0},{"$f":"'Log til risikostyring'!V82","v":0},0,0,0]
[null,{"$f":"'Log til risikostyring'!B83","v":0},{"$f":"'Log til risikostyring'!C83","v":0},{"$f":"'Log til risikostyring'!D83","v":0},{"$f":"'Log til risikostyring'!E83","v":0},{"$f":"'Log til risikostyring'!F83","v":0},{"$f":"'Log til risikostyring'!G83","v":0},{"$f":"'Log til risikostyring'!H83","v":0},{"$f":"'Log til risikostyring'!I83","v":0},{"$f":"'Log til risikostyring'!J83","v":0},{"$f":"'Log til risikostyring'!K83","v":0},{"$f":"'Log til risikostyring'!L83","v":0},{"$f":"'Log til risikostyring'!M83","v":0},{"$f":"'Log til risikostyring'!N83","v":0},{"$f":"'Log til risikostyring'!O83","v":0},{"$f":"'Log til risikostyring'!P83","v":0},{"$f":"'Log til risikostyring'!Q83","v":0},{"$f":"'Log til risikostyring'!R83","v":0},{"$f":"'Log til risikostyring'!S83","v":0},{"$f":"'Log til risikostyring'!T83","v":0},{"$f":"'Log til risikostyring'!U83","v":0},{"$f":"'Log til risikostyring'!V83","v":0},0,0,0]
[null,{"$f":"'Log til risikostyring'!B84","v":0},{"$f":"'Log til risikostyring'!C84","v":0},{"$f":"'Log til risikostyring'!D84","v":0},{"$f":"'Log til risikostyring'!E84","v":0},{"$f":"'Log til risikostyring'!F84","v":0},{"$f":"'Log til risikostyring'!G84","v":0},{"$f":"'Log til risikostyring'!H84","v":0},{"$f":"'Log til risikostyring'!I84","v":0},{"$f":"'Log til risikostyring'!J84","v":0},{"$f":"'Log til risikostyring'!K84","v":0},{"$f":"'Log til risikostyring'!L84","v":0},{"$f":"'Log til risikostyring'!M84","v":0},{"$f":"'Log til risikostyring'!N84","v":0},{"$f":"'Log til risikostyring'!O84","v":0},{"$f":"'Log til risikostyring'!P84","v":0},{"$f":"'Log til risikostyring'!Q84","v":0},{"$f":"'Log til risikostyring'!R84","v":0},{"$f":"'Log til risikostyring'!S84","v":0},{"$f":"'Log til risikostyring'!T84","v":0},{"$f":"'Log til risikostyring'!U84","v":0},{"$f":"'Log til risikostyring'!V84","v":0},0,0,0]
[null,{"$f":"'Log til risikostyring'!B85","v":0},{"$f":"'Log til risikostyring'!C85","v":0},{"$f":"'Log til risikostyring'!D85","v":0},{"$f":"'Log til risikostyring'!E85","v":0},{"$f":"'Log til risikostyring'!F85","v":0},{"$f":"'Log til risikostyring'!G85","v":0},{"$f":"'Log til risikostyring'!H85","v":0},{"$f":"'Log til risikostyring'!I85","v":0},{"$f":"'Log til risikostyring'!J85","v":0},{"$f":"'Log til risikostyring'!K85","v":0},{"$f":"'Log til risikostyring'!L85","v":0},{"$f":"'Log til risikostyring'!M85","v":0},{"$f":"'Log til risikostyring'!N85","v":0},{"$f":"'Log til risikostyring'!O85","v":0},{"$f":"'Log til risikostyring'!P85","v":0},{"$f":"'Log til risikostyring'!Q85","v":0},{"$f":"'Log til risikostyring'!R85","v":0},{"$f":"'Log til risikostyring'!S85","v":0},{"$f":"'Log til risikostyring'!T85","v":0},{"$f":"'Log til risikostyring'!U85","v":0},{"$f":"'Log til risikostyring'!V85","v":0},0,0,0]
[null,{"$f":"'Log til risikostyring'!B86","v":0},{"$f":"'Log til risikostyring'!C86","v":0},{"$f":"'Log til risikostyring'!D86","v":0},{"$f":"'Log til risikostyring'!E86","v":0},{"$f":"'Log til risikostyring'!F86","v":0},{"$f":"'Log til risikostyring'!G86","v":0},{"$f":"'Log til risikostyring'!H86","v":0},{"$f":"'Log til risikostyring'!I86","v":0},{"$f":"'Log til risikostyring'!J86","v":0},{"$f":"'Log til risikostyring'!K86","v":0},{"$f":"'Log til risikostyring'!L86","v":0},{"$f":"'Log til risikostyring'!M86","v":0},{"$f":"'Log til risikostyring'!N86","v":0},{"$f":"'Log til risikostyring'!O86","v":0},{"$f":"'Log til risikostyring'!P86","v":0},{"$f":"'Log til risikostyring'!Q86","v":0},{"$f":"'Log til risikostyring'!R86","v":0},{"$f":"'Log til risikostyring'!S86","v":0},{"$f":"'Log til risikostyring'!T86","v":0},{"$f":"'Log til risikostyring'!U86","v":0},{"$f":"'Log til risikostyring'!V86","v":0},0,0,0]
[null,{"$f":"'Log til risikostyring'!B87","v":0},{"$f":"'Log til risikostyring'!C87","v":0},{"$f":"'Log til risikostyring'!D87","v":0},{"$f":"'Log til risikostyring'!E87","v":0},{"$f":"'Log til risikostyring'!F87","v":0},{"$f":"'Log til risikostyring'!G87","v":0},{"$f":"'Log til risikostyring'!H87","v":0},{"$f":"'Log til risikostyring'!I87","v":0},{"$f":"'Log til risikostyring'!J87","v":0},{"$f":"'Log til risikostyring'!K87","v":0},{"$f":"'Log til risikostyring'!L87","v":0},{"$f":"'Log til risikostyring'!M87","v":0},{"$f":"'Log til risikostyring'!N87","v":0},{"$f":"'Log til risikostyring'!O87","v":0},{"$f":"'Log til risikostyring'!P87","v":0},{"$f":"'Log til risikostyring'!Q87","v":0},{"$f":"'Log til risikostyring'!R87","v":0},{"$f":"'Log til risikostyring'!S87","v":0},{"$f":"'Log til risikostyring'!T87","v":0},{"$f":"'Log til risikostyring'!U87","v":0},{"$f":"'Log til risikostyring'!V87","v":0},0,0,0]
[null,{"$f":"'Log til risikostyring'!B88","v":0},{"$f":"'Log til risikostyring'!C88","v":0},{"$f":"'Log til risikostyring'!D88","v":0},{"$f":"'Log til risikostyring'!E88","v":0},{"$f":"'Log til risikostyring'!F88","v":0},{"$f":"'Log til risikostyring'!G88","v":0},{"$f":"'Log til risikostyring'!H88","v":0},{"$f":"'Log til risikostyring'!I88","v":0},{"$f":"'Log til risikostyring'!J88","v":0},{"$f":"'Log til risikostyring'!K88","v":0},{"$f":"'Log til risikostyring'!L88","v":0},{"$f":"'Log til risikostyring'!M88","v":0},{"$f":"'Log til risikostyring'!N88","v":0},{"$f":"'Log til risikostyring'!O88","v":0},{"$f":"'Log til risikostyring'!P88","v":0},{"$f":"'Log til risikostyring'!Q88","v":0},{"$f":"'Log til risikostyring'!R88","v":0},{"$f":"'Log til risikostyring'!S88","v":0},{"$f":"'Log til risikostyring'!T88","v":0},{"$f":"'Log til risikostyring'!U88","v":0},{"$f":"'Log til risikostyring'!V88","v":0},0,0,0]
[null,{"$f":"'Log til risikostyring'!B89","v":0},{"$f":"'Log til risikostyring'!C89","v":0},{"$f":"'Log til risikostyring'!D89","v":0},{"$f":"'Log til risikostyring'!E89","v":0},{"$f":"'Log til risikostyring'!F89","v":0},{"$f":"'Log til risikostyring'!G89","v":0},{"$f":"'Log til risikostyring'!H89","v":0},{"$f":"'Log til risikostyring'!I89","v":0},{"$f":"'Log til risikostyring'!J89","v":0},{"$f":"'Log til risikostyring'!K89","v":0},{"$f":"'Log til risikostyring'!L89","v":0},{"$f":"'Log til risikostyring'!M89","v":0},{"$f":"'Log til risikostyring'!N89","v":0},{"$f":"'Log til risikostyring'!O89","v":0},{"$f":"'Log til risikostyring'!P89","v":0},{"$f":"'Log til risikostyring'!Q89","v":0},{"$f":"'Log til risikostyring'!R89","v":0},{"$f":"'Log til risikostyring'!S89","v":0},{"$f":"'Log til risikostyring'!T89","v":0},{"$f":"'Log til risikostyring'!U89","v":0},{"$f":"'Log til risikostyring'!V89","v":0},0,0,0]
[null,{"$f":"'Log til risikostyring'!B90","v":0},{"$f":"'Log til risikostyring'!C90","v":0},{"$f":"'Log til risikostyring'!D90","v":0},{"$f":"'Log til risikostyring'!E90","v":0},{"$f":"'Log til risikostyring'!F90","v":0},{"$f":"'Log til risikostyring'!G90","v":0},{"$f":"'Log til risikostyring'!H90","v":0},{"$f":"'Log til risikostyring'!I90","v":0},{"$f":"'Log til risikostyring'!J90","v":0},{"$f":"'Log til risikostyring'!K90","v":0},{"$f":"'Log til risikostyring'!L90","v":0},{"$f":"'Log til risikostyring'!M90","v":0},{"$f":"'Log til risikostyring'!N90","v":0},{"$f":"'Log til risikostyring'!O90","v":0},{"$f":"'Log til risikostyring'!P90","v":0},{"$f":"'Log til risikostyring'!Q90","v":0},{"$f":"'Log til risikostyring'!R90","v":0},{"$f":"'Log til risikostyring'!S90","v":0},{"$f":"'Log til risikostyring'!T90","v":0},{"$f":"'Log til risikostyring'!U90","v":0},{"$f":"'Log til risikostyring'!V90","v":0},0,0,0]
[null,{"$f":"'Log til risikostyring'!B91","v":0},{"$f":"'Log til risikostyring'!C91","v":0},{"$f":"'Log til risikostyring'!D91","v":0},{"$f":"'Log til risikostyring'!E91","v":0},{"$f":"'Log til risikostyring'!F91","v":0},{"$f":"'Log til risikostyring'!G91","v":0},{"$f":"'Log til risikostyring'!H91","v":0},{"$f":"'Log til risikostyring'!I91","v":0},{"$f":"'Log til risikostyring'!J91","v":0},{"$f":"'Log til risikostyring'!K91","v":0},{"$f":"'Log til risikostyring'!L91","v":0},{"$f":"'Log til risikostyring'!M91","v":0},{"$f":"'Log til risikostyring'!N91","v":0},{"$f":"'Log til risikostyring'!O91","v":0},{"$f":"'Log til risikostyring'!P91","v":0},{"$f":"'Log til risikostyring'!Q91","v":0},{"$f":"'Log til risikostyring'!R91","v":0},{"$f":"'Log til risikostyring'!S91","v":0},{"$f":"'Log til risikostyring'!T91","v":0},{"$f":"'Log til risikostyring'!U91","v":0},{"$f":"'Log til risikostyring'!V91","v":0},0,0,0]
[null,{"$f":"'Log til risikostyring'!B92","v":0},{"$f":"'Log til risikostyring'!C92","v":0},{"$f":"'Log til risikostyring'!D92","v":0},{"$f":"'Log til risikostyring'!E92","v":0},{"$f":"'Log til risikostyring'!F92","v":0},{"$f":"'Log til risikostyring'!G92","v":0},{"$f":"'Log til risikostyring'!H92","v":0},{"$f":"'Log til risikostyring'!I92","v":0},{"$f":"'Log til risikostyring'!J92","v":0},{"$f":"'Log til risikostyring'!K92","v":0},{"$f":"'Log til risikostyring'!L92","v":0},{"$f":"'Log til risikostyring'!M92","v":0},{"$f":"'Log til risikostyring'!N92","v":0},{"$f":"'Log til risikostyring'!O92","v":0},{"$f":"'Log til risikostyring'!P92","v":0},{"$f":"'Log til risikostyring'!Q92","v":0},{"$f":"'Log til risikostyring'!R92","v":0},{"$f":"'Log til risikostyring'!S92","v":0},{"$f":"'Log til risikostyring'!T92","v":0},{"$f":"'Log til risikostyring'!U92","v":0},{"$f":"'Log til risikostyring'!V92","v":0},0,0,0]
[null,{"$f":"'Log til risikostyring'!B93","v":0},{"$f":"'Log til risikostyring'!C93","v":0},{"$f":"'Log til risikostyring'!D93","v":0},{"$f":"'Log til risikostyring'!E93","v":0},{"$f":"'Log til risikostyring'!F93","v":0},{"$f":"'Log til risikostyring'!G93","v":0},{"$f":"'Log til risikostyring'!H93","v":0},{"$f":"'Log til risikostyring'!I93","v":0},{"$f":"'Log til risikostyring'!J93","v":0},{"$f":"'Log til risikostyring'!K93","v":0},{"$f":"'Log til risikostyring'!L93","v":0},{"$f":"'Log til risikostyring'!M93","v":0},{"$f":"'Log til risikostyring'!N93","v":0},{"$f":"'Log til risikostyring'!O93","v":0},{"$f":"'Log til risikostyring'!P93","v":0},{"$f":"'Log til risikostyring'!Q93","v":0},{"$f":"'Log til risikostyring'!R93","v":0},{"$f":"'Log til risikostyring'!S93","v":0},{"$f":"'Log til risikostyring'!T93","v":0},{"$f":"'Log til risikostyring'!U93","v":0},{"$f":"'Log til risikostyring'!V93","v":0},0,0,0]
[null,{"$f":"'Log til risikostyring'!B94","v":0},{"$f":"'Log til risikostyring'!C94","v":0},{"$f":"'Log til risikostyring'!D94","v":0},{"$f":"'Log til risikostyring'!E94","v":0},{"$f":"'Log til risikostyring'!F94","v":0},{"$f":"'Log til risikostyring'!G94","v":0},{"$f":"'Log til risikostyring'!H94","v":0},{"$f":"'Log til risikostyring'!I94","v":0},{"$f":"'Log til risikostyring'!J94","v":0},{"$f":"'Log til risikostyring'!K94","v":0},{"$f":"'Log til risikostyring'!L94","v":0},{"$f":"'Log til risikostyring'!M94","v":0},{"$f":"'Log til risikostyring'!N94","v":0},{"$f":"'Log til risikostyring'!O94","v":0},{"$f":"'Log til risikostyring'!P94","v":0},{"$f":"'Log til risikostyring'!Q94","v":0},{"$f":"'Log til risikostyring'!R94","v":0},{"$f":"'Log til risikostyring'!S94","v":0},{"$f":"'Log til risikostyring'!T94","v":0},{"$f":"'Log til risikostyring'!U94","v":0},{"$f":"'Log til risikostyring'!V94","v":0},0,0,0]
[null,{"$f":"'Log til risikostyring'!B95","v":0},{"$f":"'Log til risikostyring'!C95","v":0},{"$f":"'Log til risikostyring'!D95","v":0},{"$f":"'Log til risikostyring'!E95","v":0},{"$f":"'Log til risikostyring'!F95","v":0},{"$f":"'Log til risikostyring'!G95","v":0},{"$f":"'Log til risikostyring'!H95","v":0},{"$f":"'Log til risikostyring'!I95","v":0},{"$f":"'Log til risikostyring'!J95","v":0},{"$f":"'Log til risikostyring'!K95","v":0},{"$f":"'Log til risikostyring'!L95","v":0},{"$f":"'Log til risikostyring'!M95","v":0},{"$f":"'Log til risikostyring'!N95","v":0},{"$f":"'Log til risikostyring'!O95","v":0},{"$f":"'Log til risikostyring'!P95","v":0},{"$f":"'Log til risikostyring'!Q95","v":0},{"$f":"'Log til risikostyring'!R95","v":0},{"$f":"'Log til risikostyring'!S95","v":0},{"$f":"'Log til risikostyring'!T95","v":0},{"$f":"'Log til risikostyring'!U95","v":0},{"$f":"'Log til risikostyring'!V95","v":0},0,0,0]
[null,{"$f":"'Log til risikostyring'!B96","v":0},{"$f":"'Log til risikostyring'!C96","v":0},{"$f":"'Log til risikostyring'!D96","v":0},{"$f":"'Log til risikostyring'!E96","v":0},{"$f":"'Log til risikostyring'!F96","v":0},{"$f":"'Log til risikostyring'!G96","v":0},{"$f":"'Log til risikostyring'!H96","v":0},{"$f":"'Log til risikostyring'!I96","v":0},{"$f":"'Log til risikostyring'!J96","v":0},{"$f":"'Log til risikostyring'!K96","v":0},{"$f":"'Log til risikostyring'!L96","v":0},{"$f":"'Log til risikostyring'!M96","v":0},{"$f":"'Log til risikostyring'!N96","v":0},{"$f":"'Log til risikostyring'!O96","v":0},{"$f":"'Log til risikostyring'!P96","v":0},{"$f":"'Log til risikostyring'!Q96","v":0},{"$f":"'Log til risikostyring'!R96","v":0},{"$f":"'Log til risikostyring'!S96","v":0},{"$f":"'Log til risikostyring'!T96","v":0},{"$f":"'Log til risikostyring'!U96","v":0},{"$f":"'Log til risikostyring'!V96","v":0},0,0,0]
[null,{"$f":"'Log til risikostyring'!B97","v":0},{"$f":"'Log til risikostyring'!C97","v":0},{"$f":"'Log til risikostyring'!D97","v":0},{"$f":"'Log til risikostyring'!E97","v":0},{"$f":"'Log til risikostyring'!F97","v":0},{"$f":"'Log til risikostyring'!G97","v":0},{"$f":"'Log til risikostyring'!H97","v":0},{"$f":"'Log til risikostyring'!I97","v":0},{"$f":"'Log til risikostyring'!J97","v":0},{"$f":"'Log til risikostyring'!K97","v":0},{"$f":"'Log til risikostyring'!L97","v":0},{"$f":"'Log til risikostyring'!M97","v":0},{"$f":"'Log til risikostyring'!N97","v":0},{"$f":"'Log til risikostyring'!O97","v":0},{"$f":"'Log til risikostyring'!P97","v":0},{"$f":"'Log til risikostyring'!Q97","v":0},{"$f":"'Log til risikostyring'!R97","v":0},{"$f":"'Log til risikostyring'!S97","v":0},{"$f":"'Log til risikostyring'!T97","v":0},{"$f":"'Log til risikostyring'!U97","v":0},{"$f":"'Log til risikostyring'!V97","v":0},0,0,0]
[null,{"$f":"'Log til risikostyring'!B98","v":0},{"$f":"'Log til risikostyring'!C98","v":0},{"$f":"'Log til risikostyring'!D98","v":0},{"$f":"'Log til risikostyring'!E98","v":0},{"$f":"'Log til risikostyring'!F98","v":0},{"$f":"'Log til risikostyring'!G98","v":0},{"$f":"'Log til risikostyring'!H98","v":0},{"$f":"'Log til risikostyring'!I98","v":0},{"$f":"'Log til risikostyring'!J98","v":0},{"$f":"'Log til risikostyring'!K98","v":0},{"$f":"'Log til risikostyring'!L98","v":0},{"$f":"'Log til risikostyring'!M98","v":0},{"$f":"'Log til risikostyring'!N98","v":0},{"$f":"'Log til risikostyring'!O98","v":0},{"$f":"'Log til risikostyring'!P98","v":0},{"$f":"'Log til risikostyring'!Q98","v":0},{"$f":"'Log til risikostyring'!R98","v":0},{"$f":"'Log til risikostyring'!S98","v":0},{"$f":"'Log til risikostyring'!T98","v":0},{"$f":"'Log til risikostyring'!U98","v":0},{"$f":"'Log til risikostyring'!V98","v":0},0,0,0]
[null,{"$f":"'Log til risikostyring'!B99","v":0},{"$f":"'Log til risikostyring'!C99","v":0},{"$f":"'Log til risikostyring'!D99","v":0},{"$f":"'Log til risikostyring'!E99","v":0},{"$f":"'Log til risikostyring'!F99","v":0},{"$f":"'Log til risikostyring'!G99","v":0},{"$f":"'Log til risikostyring'!H99","v":0},{"$f":"'Log til risikostyring'!I99","v":0},{"$f":"'Log til risikostyring'!J99","v":0},{"$f":"'Log til risikostyring'!K99","v":0},{"$f":"'Log til risikostyring'!L99","v":0},{"$f":"'Log til risikostyring'!M99","v":0},{"$f":"'Log til risikostyring'!N99","v":0},{"$f":"'Log til risikostyring'!O99","v":0},{"$f":"'Log til risikostyring'!P99","v":0},{"$f":"'Log til risikostyring'!Q99","v":0},{"$f":"'Log til risikostyring'!R99","v":0},{"$f":"'Log til risikostyring'!S99","v":0},{"$f":"'Log til risikostyring'!T99","v":0},{"$f":"'Log til risikostyring'!U99","v":0},{"$f":"'Log til risikostyring'!V99","v":0},0,0,0]
[null,{"$f":"'Log til risikostyring'!B100","v":0},{"$f":"'Log til risikostyring'!C100","v":0},{"$f":"'Log til risikostyring'!D100","v":0},{"$f":"'Log til risikostyring'!E100","v":0},{"$f":"'Log til risikostyring'!F100","v":0},{"$f":"'Log til risikostyring'!G100","v":0},{"$f":"'Log til risikostyring'!H100","v":0},{"$f":"'Log til risikostyring'!I100","v":0},{"$f":"'Log til risikostyring'!J100","v":0},{"$f":"'Log til risikostyring'!K100","v":0},{"$f":"'Log til risikostyring'!L100","v":0},{"$f":"'Log til risikostyring'!M100","v":0},{"$f":"'Log til risikostyring'!N100","v":0},{"$f":"'Log til risikostyring'!O100","v":0},{"$f":"'Log til risikostyring'!P100","v":0},{"$f":"'Log til risikostyring'!Q100","v":0},{"$f":"'Log til risikostyring'!R100","v":0},{"$f":"'Log til risikostyring'!S100","v":0},{"$f":"'Log til risikostyring'!T100","v":0},{"$f":"'Log til risikostyring'!U100","v":0},{"$f":"'Log til risikostyring'!V100","v":0},0,0,0]
[null,{"$f":"'Log til risikostyring'!B101","v":0},{"$f":"'Log til risikostyring'!C101","v":0},{"$f":"'Log til risikostyring'!D101","v":0},{"$f":"'Log til risikostyring'!E101","v":0},{"$f":"'Log til risikostyring'!F101","v":0},{"$f":"'Log til risikostyring'!G101","v":0},{"$f":"'Log til risikostyring'!H101","v":0},{"$f":"'Log til risikostyring'!I101","v":0},{"$f":"'Log til risikostyring'!J101","v":0},{"$f":"'Log til risikostyring'!K101","v":0},{"$f":"'Log til risikostyring'!L101","v":0},{"$f":"'Log til risikostyring'!M101","v":0},{"$f":"'Log til risikostyring'!N101","v":0},{"$f":"'Log til risikostyring'!O101","v":0},{"$f":"'Log til risikostyring'!P101","v":0},{"$f":"'Log til risikostyring'!Q101","v":0},{"$f":"'Log til risikostyring'!R101","v":0},{"$f":"'Log til risikostyring'!S101","v":0},{"$f":"'Log til risikostyring'!T101","v":0},{"$f":"'Log til risikostyring'!U101","v":0},{"$f":"'Log til risikostyring'!V101","v":0},0,0,0]
[null,{"$f":"'Log til risikostyring'!B102","v":0},{"$f":"'Log til risikostyring'!C102","v":0},{"$f":"'Log til risikostyring'!D102","v":0},{"$f":"'Log til risikostyring'!E102","v":0},{"$f":"'Log til risikostyring'!F102","v":0},{"$f":"'Log til risikostyring'!G102","v":0},{"$f":"'Log til risikostyring'!H102","v":0},{"$f":"'Log til risikostyring'!I102","v":0},{"$f":"'Log til risikostyring'!J102","v":0},{"$f":"'Log til risikostyring'!K102","v":0},{"$f":"'Log til risikostyring'!L102","v":0},{"$f":"'Log til risikostyring'!M102","v":0},{"$f":"'Log til risikostyring'!N102","v":0},{"$f":"'Log til risikostyring'!O102","v":0},{"$f":"'Log til risikostyring'!P102","v":0},{"$f":"'Log til risikostyring'!Q102","v":0},{"$f":"'Log til risikostyring'!R102","v":0},{"$f":"'Log til risikostyring'!S102","v":0},{"$f":"'Log til risikostyring'!T102","v":0},{"$f":"'Log til risikostyring'!U102","v":0},{"$f":"'Log til risikostyring'!V102","v":0},0,0,0]
[null,{"$f":"'Log til risikostyring'!B103","v":0},{"$f":"'Log til risikostyring'!C103","v":0},{"$f":"'Log til risikostyring'!D103","v":0},{"$f":"'Log til risikostyring'!E103","v":0},{"$f":"'Log til risikostyring'!F103","v":0},{"$f":"'Log til risikostyring'!G103","v":0},{"$f":"'Log til risikostyring'!H103","v":0},{"$f":"'Log til risikostyring'!I103","v":0},{"$f":"'Log til risikostyring'!J103","v":0},{"$f":"'Log til risikostyring'!K103","v":0},{"$f":"'Log til risikostyring'!L103","v":0},{"$f":"'Log til risikostyring'!M103","v":0},{"$f":"'Log til risikostyring'!N103","v":0},{"$f":"'Log til risikostyring'!O103","v":0},{"$f":"'Log til risikostyring'!P103","v":0},{"$f":"'Log til risikostyring'!Q103","v":0},{"$f":"'Log til risikostyring'!R103","v":0},{"$f":"'Log til risikostyring'!S103","v":0},{"$f":"'Log til risikostyring'!T103","v":0},{"$f":"'Log til risikostyring'!U103","v":0},{"$f":"'Log til risikostyring'!V103","v":0},0,0,0]
[null,{"$f":"'Log til risikostyring'!B104","v":0},{"$f":"'Log til risikostyring'!C104","v":0},{"$f":"'Log til risikostyring'!D104","v":0},{"$f":"'Log til risikostyring'!E104","v":0},{"$f":"'Log til risikostyring'!F104","v":0},{"$f":"'Log til risikostyring'!G104","v":0},{"$f":"'Log til risikostyring'!H104","v":0},{"$f":"'Log til risikostyring'!I104","v":0},{"$f":"'Log til risikostyring'!J104","v":0},{"$f":"'Log til risikostyring'!K104","v":0},{"$f":"'Log til risikostyring'!L104","v":0},{"$f":"'Log til risikostyring'!M104","v":0},{"$f":"'Log til risikostyring'!N104","v":0},{"$f":"'Log til risikostyring'!O104","v":0},{"$f":"'Log til risikostyring'!P104","v":0},{"$f":"'Log til risikostyring'!Q104","v":0},{"$f":"'Log til risikostyring'!R104","v":0},{"$f":"'Log til risikostyring'!S104","v":0},{"$f":"'Log til risikostyring'!T104","v":0},{"$f":"'Log til risikostyring'!U104","v":0},{"$f":"'Log til risikostyring'!V104","v":0},0,0,0]
[null,{"$f":"'Log til risikostyring'!B105","v":0},{"$f":"'Log til risikostyring'!C105","v":0},{"$f":"'Log til risikostyring'!D105","v":0},{"$f":"'Log til risikostyring'!E105","v":0},{"$f":"'Log til risikostyring'!F105","v":0},{"$f":"'Log til risikostyring'!G105","v":0},{"$f":"'Log til risikostyring'!H105","v":0},{"$f":"'Log til risikostyring'!I105","v":0},{"$f":"'Log til risikostyring'!J105","v":0},{"$f":"'Log til risikostyring'!K105","v":0},{"$f":"'Log til risikostyring'!L105","v":0},{"$f":"'Log til risikostyring'!M105","v":0},{"$f":"'Log til risikostyring'!N105","v":0},{"$f":"'Log til risikostyring'!O105","v":0},{"$f":"'Log til risikostyring'!P105","v":0},{"$f":"'Log til risikostyring'!Q105","v":0},{"$f":"'Log til risikostyring'!R105","v":0},{"$f":"'Log til risikostyring'!S105","v":0},{"$f":"'Log til risikostyring'!T105","v":0},{"$f":"'Log til risikostyring'!U105","v":0},{"$f":"'Log til risikostyring'!V105","v":0},0,0,0]
[null,{"$f":"'Log til risikostyring'!B106","v":0},{"$f":"'Log til risikostyring'!C106","v":0},{"$f":"'Log til risikostyring'!D106","v":0},{"$f":"'Log til risikostyring'!E106","v":0},{"$f":"'Log til risikostyring'!F106","v":0},{"$f":"'Log til risikostyring'!G106","v":0},{"$f":"'Log til risikostyring'!H106","v":0},{"$f":"'Log til risikostyring'!I106","v":0},{"$f":"'Log til risikostyring'!J106","v":0},{"$f":"'Log til risikostyring'!K106","v":0},{"$f":"'Log til risikostyring'!L106","v":0},{"$f":"'Log til risikostyring'!M106","v":0},{"$f":"'Log til risikostyring'!N106","v":0},{"$f":"'Log til risikostyring'!O106","v":0},{"$f":"'Log til risikostyring'!P106","v":0},{"$f":"'Log til risikostyring'!Q106","v":0},{"$f":"'Log til risikostyring'!R106","v":0},{"$f":"'Log til risikostyring'!S106","v":0},{"$f":"'Log til risikostyring'!T106","v":0},{"$f":"'Log til risikostyring'!U106","v":0},{"$f":"'Log til risikostyring'!V106","v":0},0,0,0]
[null,{"$f":"'Log til risikostyring'!B107","v":0},{"$f":"'Log til risikostyring'!C107","v":0},{"$f":"'Log til risikostyring'!D107","v":0},{"$f":"'Log til risikostyring'!E107","v":0},{"$f":"'Log til risikostyring'!F107","v":0},{"$f":"'Log til risikostyring'!G107","v":0},{"$f":"'Log til risikostyring'!H107","v":0},{"$f":"'Log til risikostyring'!I107","v":0},{"$f":"'Log til risikostyring'!J107","v":0},{"$f":"'Log til risikostyring'!K107","v":0},{"$f":"'Log til risikostyring'!L107","v":0},{"$f":"'Log til risikostyring'!M107","v":0},{"$f":"'Log til risikostyring'!N107","v":0},{"$f":"'Log til risikostyring'!O107","v":0},{"$f":"'Log til risikostyring'!P107","v":0},{"$f":"'Log til risikostyring'!Q107","v":0},{"$f":"'Log til risikostyring'!R107","v":0},{"$f":"'Log til risikostyring'!S107","v":0},{"$f":"'Log til risikostyring'!T107","v":0},{"$f":"'Log til risikostyring'!U107","v":0},{"$f":"'Log til risikostyring'!V107","v":0},0,0,0]
[null,{"$f":"'Log til risikostyring'!B108","v":0},{"$f":"'Log til risikostyring'!C108","v":0},{"$f":"'Log til risikostyring'!D108","v":0},{"$f":"'Log til risikostyring'!E108","v":0},{"$f":"'Log til risikostyring'!F108","v":0},{"$f":"'Log til risikostyring'!G108","v":0},{"$f":"'Log til risikostyring'!H108","v":0},{"$f":"'Log til risikostyring'!I108","v":0},{"$f":"'Log til risikostyring'!J108","v":0},{"$f":"'Log til risikostyring'!K108","v":0},{"$f":"'Log til risikostyring'!L108","v":0},{"$f":"'Log til risikostyring'!M108","v":0},{"$f":"'Log til risikostyring'!N108","v":0},{"$f":"'Log til risikostyring'!O108","v":0},{"$f":"'Log til risikostyring'!P108","v":0},{"$f":"'Log til risikostyring'!Q108","v":0},{"$f":"'Log til risikostyring'!R108","v":0},{"$f":"'Log til risikostyring'!S108","v":0},{"$f":"'Log til risikostyring'!T108","v":0},{"$f":"'Log til risikostyring'!U108","v":0},{"$f":"'Log til risikostyring'!V108","v":0},0,0,0]
[null,{"$f":"'Log til risikostyring'!B109","v":0},{"$f":"'Log til risikostyring'!C109","v":0},{"$f":"'Log til risikostyring'!D109","v":0},{"$f":"'Log til risikostyring'!E109","v":0},{"$f":"'Log til risikostyring'!F109","v":0},{"$f":"'Log til risikostyring'!G109","v":0},{"$f":"'Log til risikostyring'!H109","v":0},{"$f":"'Log til risikostyring'!I109","v":0},{"$f":"'Log til risikostyring'!J109","v":0},{"$f":"'Log til risikostyring'!K109","v":0},{"$f":"'Log til risikostyring'!L109","v":0},{"$f":"'Log til risikostyring'!M109","v":0},{"$f":"'Log til risikostyring'!N109","v":0},{"$f":"'Log til risikostyring'!O109","v":0},{"$f":"'Log til risikostyring'!P109","v":0},{"$f":"'Log til risikostyring'!Q109","v":0},{"$f":"'Log til risikostyring'!R109","v":0},{"$f":"'Log til risikostyring'!S109","v":0},{"$f":"'Log til risikostyring'!T109","v":0},{"$f":"'Log til risikostyring'!U109","v":0},{"$f":"'Log til risikostyring'!V109","v":0},0,0,0]
[null,{"$f":"'Log til risikostyring'!B110","v":0},{"$f":"'Log til risikostyring'!C110","v":0},{"$f":"'Log til risikostyring'!D110","v":0},{"$f":"'Log til risikostyring'!E110","v":0},{"$f":"'Log til risikostyring'!F110","v":0},{"$f":"'Log til risikostyring'!G110","v":0},{"$f":"'Log til risikostyring'!H110","v":0},{"$f":"'Log til risikostyring'!I110","v":0},{"$f":"'Log til risikostyring'!J110","v":0},{"$f":"'Log til risikostyring'!K110","v":0},{"$f":"'Log til risikostyring'!L110","v":0},{"$f":"'Log til risikostyring'!M110","v":0},{"$f":"'Log til risikostyring'!N110","v":0},{"$f":"'Log til risikostyring'!O110","v":0},{"$f":"'Log til risikostyring'!P110","v":0},{"$f":"'Log til risikostyring'!Q110","v":0},{"$f":"'Log til risikostyring'!R110","v":0},{"$f":"'Log til risikostyring'!S110","v":0},{"$f":"'Log til risikostyring'!T110","v":0},{"$f":"'Log til risikostyring'!U110","v":0},{"$f":"'Log til risikostyring'!V110","v":0},0,0,0]
[null,{"$f":"'Log til risikostyring'!B111","v":0},{"$f":"'Log til risikostyring'!C111","v":0},{"$f":"'Log til risikostyring'!D111","v":0},{"$f":"'Log til risikostyring'!E111","v":0},{"$f":"'Log til risikostyring'!F111","v":0},{"$f":"'Log til risikostyring'!G111","v":0},{"$f":"'Log til risikostyring'!H111","v":0},{"$f":"'Log til risikostyring'!I111","v":0},{"$f":"'Log til risikostyring'!J111","v":0},{"$f":"'Log til risikostyring'!K111","v":0},{"$f":"'Log til risikostyring'!L111","v":0},{"$f":"'Log til risikostyring'!M111","v":0},{"$f":"'Log til risikostyring'!N111","v":0},{"$f":"'Log til risikostyring'!O111","v":0},{"$f":"'Log til risikostyring'!P111","v":0},{"$f":"'Log til risikostyring'!Q111","v":0},{"$f":"'Log til risikostyring'!R111","v":0},{"$f":"'Log til risikostyring'!S111","v":0},{"$f":"'Log til risikostyring'!T111","v":0},{"$f":"'Log til risikostyring'!U111","v":0},{"$f":"'Log til risikostyring'!V111","v":0},0,0,0]
[null,{"$f":"'Log til risikostyring'!B112","v":0},{"$f":"'Log til risikostyring'!C112","v":0},{"$f":"'Log til risikostyring'!D112","v":0},{"$f":"'Log til risikostyring'!E112","v":0},{"$f":"'Log til risikostyring'!F112","v":0},{"$f":"'Log til risikostyring'!G112","v":0},{"$f":"'Log til risikostyring'!H112","v":0},{"$f":"'Log til risikostyring'!I112","v":0},{"$f":"'Log til risikostyring'!J112","v":0},{"$f":"'Log til risikostyring'!K112","v":0},{"$f":"'Log til risikostyring'!L112","v":0},{"$f":"'Log til risikostyring'!M112","v":0},{"$f":"'Log til risikostyring'!N112","v":0},{"$f":"'Log til risikostyring'!O112","v":0},{"$f":"'Log til risikostyring'!P112","v":0},{"$f":"'Log til risikostyring'!Q112","v":0},{"$f":"'Log til risikostyring'!R112","v":0},{"$f":"'Log til risikostyring'!S112","v":0},{"$f":"'Log til risikostyring'!T112","v":0},{"$f":"'Log til risikostyring'!U112","v":0},{"$f":"'Log til risikostyring'!V112","v":0},0,0,0]
[null,{"$f":"'Log til risikostyring'!B113","v":0},{"$f":"'Log til risikostyring'!C113","v":0},{"$f":"'Log til risikostyring'!D113","v":0},{"$f":"'Log til risikostyring'!E113","v":0},{"$f":"'Log til risikostyring'!F113","v":0},{"$f":"'Log til risikostyring'!G113","v":0},{"$f":"'Log til risikostyring'!H113","v":0},{"$f":"'Log til risikostyring'!I113","v":0},{"$f":"'Log til risikostyring'!J113","v":0},{"$f":"'Log til risikostyring'!K113","v":0},{"$f":"'Log til risikostyring'!L113","v":0},{"$f":"'Log til risikostyring'!M113","v":0},{"$f":"'Log til risikostyring'!N113","v":0},{"$f":"'Log til risikostyring'!O113","v":0},{"$f":"'Log til risikostyring'!P113","v":0},{"$f":"'Log til risikostyring'!Q113","v":0},{"$f":"'Log til risikostyring'!R113","v":0},{"$f":"'Log til risikostyring'!S113","v":0},{"$f":"'Log til risikostyring'!T113","v":0},{"$f":"'Log til risikostyring'!U113","v":0},{"$f":"'Log til risikostyring'!V113","v":0},0,0,0]
[null,{"$f":"'Log til risikostyring'!B114","v":0},{"$f":"'Log til risikostyring'!C114","v":0},{"$f":"'Log til risikostyring'!D114","v":0},{"$f":"'Log til risikostyring'!E114","v":0},{"$f":"'Log til risikostyring'!F114","v":0},{"$f":"'Log til risikostyring'!G114","v":0},{"$f":"'Log til risikostyring'!H114","v":0},{"$f":"'Log til risikostyring'!I114","v":0},{"$f":"'Log til risikostyring'!J114","v":0},{"$f":"'Log til risikostyring'!K114","v":0},{"$f":"'Log til risikostyring'!L114","v":0},{"$f":"'Log til risikostyring'!M114","v":0},{"$f":"'Log til risikostyring'!N114","v":0},{"$f":"'Log til risikostyring'!O114","v":0},{"$f":"'Log til risikostyring'!P114","v":0},{"$f":"'Log til risikostyring'!Q114","v":0},{"$f":"'Log til risikostyring'!R114","v":0},{"$f":"'Log til risikostyring'!S114","v":0},{"$f":"'Log til risikostyring'!T114","v":0},{"$f":"'Log til risikostyring'!U114","v":0},{"$f":"'Log til risikostyring'!V114","v":0},0,0,0]
[null,{"$f":"'Log til risikostyring'!B115","v":0},{"$f":"'Log til risikostyring'!C115","v":0},{"$f":"'Log til risikostyring'!D115","v":0},{"$f":"'Log til risikostyring'!E115","v":0},{"$f":"'Log til risikostyring'!F115","v":0},{"$f":"'Log til risikostyring'!G115","v":0},{"$f":"'Log til risikostyring'!H115","v":0},{"$f":"'Log til risikostyring'!I115","v":0},{"$f":"'Log til risikostyring'!J115","v":0},{"$f":"'Log til risikostyring'!K115","v":0},{"$f":"'Log til risikostyring'!L115","v":0},{"$f":"'Log til risikostyring'!M115","v":0},{"$f":"'Log til risikostyring'!N115","v":0},{"$f":"'Log til risikostyring'!O115","v":0},{"$f":"'Log til risikostyring'!P115","v":0},{"$f":"'Log til risikostyring'!Q115","v":0},{"$f":"'Log til risikostyring'!R115","v":0},{"$f":"'Log til risikostyring'!S115","v":0},{"$f":"'Log til risikostyring'!T115","v":0},{"$f":"'Log til risikostyring'!U115","v":0},{"$f":"'Log til risikostyring'!V115","v":0},0,0,0]
[null,{"$f":"'Log til risikostyring'!B116","v":0},{"$f":"'Log til risikostyring'!C116","v":0},{"$f":"'Log til risikostyring'!D116","v":0},{"$f":"'Log til risikostyring'!E116","v":0},{"$f":"'Log til risikostyring'!F116","v":0},{"$f":"'Log til risikostyring'!G116","v":0},{"$f":"'Log til risikostyring'!H116","v":0},{"$f":"'Log til risikostyring'!I116","v":0},{"$f":"'Log til risikostyring'!J116","v":0},{"$f":"'Log til risikostyring'!K116","v":0},{"$f":"'Log til risikostyring'!L116","v":0},{"$f":"'Log til risikostyring'!M116","v":0},{"$f":"'Log til risikostyring'!N116","v":0},{"$f":"'Log til risikostyring'!O116","v":0},{"$f":"'Log til risikostyring'!P116","v":0},{"$f":"'Log til risikostyring'!Q116","v":0},{"$f":"'Log til risikostyring'!R116","v":0},{"$f":"'Log til risikostyring'!S116","v":0},{"$f":"'Log til risikostyring'!T116","v":0},{"$f":"'Log til risikostyring'!U116","v":0},{"$f":"'Log til risikostyring'!V116","v":0},0,0,0]
[null,{"$f":"'Log til risikostyring'!B117","v":0},{"$f":"'Log til risikostyring'!C117","v":0},{"$f":"'Log til risikostyring'!D117","v":0},{"$f":"'Log til risikostyring'!E117","v":0},{"$f":"'Log til risikostyring'!F117","v":0},{"$f":"'Log til risikostyring'!G117","v":0},{"$f":"'Log til risikostyring'!H117","v":0},{"$f":"'Log til risikostyring'!I117","v":0},{"$f":"'Log til risikostyring'!J117","v":0},{"$f":"'Log til risikostyring'!K117","v":0},{"$f":"'Log til risikostyring'!L117","v":0},{"$f":"'Log til risikostyring'!M117","v":0},{"$f":"'Log til risikostyring'!N117","v":0},{"$f":"'Log til risikostyring'!O117","v":0},{"$f":"'Log til risikostyring'!P117","v":0},{"$f":"'Log til risikostyring'!Q117","v":0},{"$f":"'Log til risikostyring'!R117","v":0},{"$f":"'Log til risikostyring'!S117","v":0},{"$f":"'Log til risikostyring'!T117","v":0},{"$f":"'Log til risikostyring'!U117","v":0},{"$f":"'Log til risikostyring'!V117","v":0},0,0,0]
[null,{"$f":"'Log til risikostyring'!B118","v":0},{"$f":"'Log til risikostyring'!C118","v":0},{"$f":"'Log til risikostyring'!D118","v":0},{"$f":"'Log til risikostyring'!E118","v":0},{"$f":"'Log til risikostyring'!F118","v":0},{"$f":"'Log til risikostyring'!G118","v":0},{"$f":"'Log til risikostyring'!H118","v":0},{"$f":"'Log til risikostyring'!I118","v":0},{"$f":"'Log til risikostyring'!J118","v":0},{"$f":"'Log til risikostyring'!K118","v":0},{"$f":"'Log til risikostyring'!L118","v":0},{"$f":"'Log til risikostyring'!M118","v":0},{"$f":"'Log til risikostyring'!N118","v":0},{"$f":"'Log til risikostyring'!O118","v":0},{"$f":"'Log til risikostyring'!P118","v":0},{"$f":"'Log til risikostyring'!Q118","v":0},{"$f":"'Log til risikostyring'!R118","v":0},{"$f":"'Log til risikostyring'!S118","v":0},{"$f":"'Log til risikostyring'!T118","v":0},{"$f":"'Log til risikostyring'!U118","v":0},{"$f":"'Log til risikostyring'!V118","v":0},0,0,0]
[null,{"$f":"'Log til risikostyring'!B119","v":0},{"$f":"'Log til risikostyring'!C119","v":0},{"$f":"'Log til risikostyring'!D119","v":0},{"$f":"'Log til risikostyring'!E119","v":0},{"$f":"'Log til risikostyring'!F119","v":0},{"$f":"'Log til risikostyring'!G119","v":0},{"$f":"'Log til risikostyring'!H119","v":0},{"$f":"'Log til risikostyring'!I119","v":0},{"$f":"'Log til risikostyring'!J119","v":0},{"$f":"'Log til risikostyring'!K119","v":0},{"$f":"'Log til risikostyring'!L119","v":0},{"$f":"'Log til risikostyring'!M119","v":0},{"$f":"'Log til risikostyring'!N119","v":0},{"$f":"'Log til risikostyring'!O119","v":0},{"$f":"'Log til risikostyring'!P119","v":0},{"$f":"'Log til risikostyring'!Q119","v":0},{"$f":"'Log til risikostyring'!R119","v":0},{"$f":"'Log til risikostyring'!S119","v":0},{"$f":"'Log til risikostyring'!T119","v":0},{"$f":"'Log til risikostyring'!U119","v":0},{"$f":"'Log til risikostyring'!V119","v":0},0,0,0]
[null,{"$f":"'Log til risikostyring'!B120","v":0},{"$f":"'Log til risikostyring'!C120","v":0},{"$f":"'Log til risikostyring'!D120","v":0},{"$f":"'Log til risikostyring'!E120","v":0},{"$f":"'Log til risikostyring'!F120","v":0},{"$f":"'Log til risikostyring'!G120","v":0},{"$f":"'Log til risikostyring'!H120","v":0},{"$f":"'Log til risikostyring'!I120","v":0},{"$f":"'Log til risikostyring'!J120","v":0},{"$f":"'Log til risikostyring'!K120","v":0},{"$f":"'Log til risikostyring'!L120","v":0},{"$f":"'Log til risikostyring'!M120","v":0},{"$f":"'Log til risikostyring'!N120","v":0},{"$f":"'Log til risikostyring'!O120","v":0},{"$f":"'Log til risikostyring'!P120","v":0},{"$f":"'Log til risikostyring'!Q120","v":0},{"$f":"'Log til risikostyring'!R120","v":0},{"$f":"'Log til risikostyring'!S120","v":0},{"$f":"'Log til risikostyring'!T120","v":0},{"$f":"'Log til risikostyring'!U120","v":0},{"$f":"'Log til risikostyring'!V120","v":0},0,0,0]
[null,{"$f":"'Log til risikostyring'!B121","v":0},{"$f":"'Log til risikostyring'!C121","v":0},{"$f":"'Log til risikostyring'!D121","v":0},{"$f":"'Log til risikostyring'!E121","v":0},{"$f":"'Log til risikostyring'!F121","v":0},{"$f":"'Log til risikostyring'!G121","v":0},{"$f":"'Log til risikostyring'!H121","v":0},{"$f":"'Log til risikostyring'!I121","v":0},{"$f":"'Log til risikostyring'!J121","v":0},{"$f":"'Log til risikostyring'!K121","v":0},{"$f":"'Log til risikostyring'!L121","v":0},{"$f":"'Log til risikostyring'!M121","v":0},{"$f":"'Log til risikostyring'!N121","v":0},{"$f":"'Log til risikostyring'!O121","v":0},{"$f":"'Log til risikostyring'!P121","v":0},{"$f":"'Log til risikostyring'!Q121","v":0},{"$f":"'Log til risikostyring'!R121","v":0},{"$f":"'Log til risikostyring'!S121","v":0},{"$f":"'Log til risikostyring'!T121","v":0},{"$f":"'Log til risikostyring'!U121","v":0},{"$f":"'Log til risikostyring'!V121","v":0},0,0,0]
[null,{"$f":"'Log til risikostyring'!B122","v":0},{"$f":"'Log til risikostyring'!C122","v":0},{"$f":"'Log til risikostyring'!D122","v":0},{"$f":"'Log til risikostyring'!E122","v":0},{"$f":"'Log til risikostyring'!F122","v":0},{"$f":"'Log til risikostyring'!G122","v":0},{"$f":"'Log til risikostyring'!H122","v":0},{"$f":"'Log til risikostyring'!I122","v":0},{"$f":"'Log til risikostyring'!J122","v":0},{"$f":"'Log til risikostyring'!K122","v":0},{"$f":"'Log til risikostyring'!L122","v":0},{"$f":"'Log til risikostyring'!M122","v":0},{"$f":"'Log til risikostyring'!N122","v":0},{"$f":"'Log til risikostyring'!O122","v":0},{"$f":"'Log til risikostyring'!P122","v":0},{"$f":"'Log til risikostyring'!Q122","v":0},{"$f":"'Log til risikostyring'!R122","v":0},{"$f":"'Log til risikostyring'!S122","v":0},{"$f":"'Log til risikostyring'!T122","v":0},{"$f":"'Log til risikostyring'!U122","v":0},{"$f":"'Log til risikostyring'!V122","v":0},0,0,0]
[null,{"$f":"'Log til risikostyring'!B123","v":0},{"$f":"'Log til risikostyring'!C123","v":0},{"$f":"'Log til risikostyring'!D123","v":0},{"$f":"'Log til risikostyring'!E123","v":0},{"$f":"'Log til risikostyring'!F123","v":0},{"$f":"'Log til risikostyring'!G123","v":0},{"$f":"'Log til risikostyring'!H123","v":0},{"$f":"'Log til risikostyring'!I123","v":0},{"$f":"'Log til risikostyring'!J123","v":0},{"$f":"'Log til risikostyring'!K123","v":0},{"$f":"'Log til risikostyring'!L123","v":0},{"$f":"'Log til risikostyring'!M123","v":0},{"$f":"'Log til risikostyring'!N123","v":0},{"$f":"'Log til risikostyring'!O123","v":0},{"$f":"'Log til risikostyring'!P123","v":0},{"$f":"'Log til risikostyring'!Q123","v":0},{"$f":"'Log til risikostyring'!R123","v":0},{"$f":"'Log til risikostyring'!S123","v":0},{"$f":"'Log til risikostyring'!T123","v":0},{"$f":"'Log til risikostyring'!U123","v":0},{"$f":"'Log til risikostyring'!V123","v":0},0,0,0]
[null,{"$f":"'Log til risikostyring'!B124","v":0},{"$f":"'Log til risikostyring'!C124","v":0},{"$f":"'Log til risikostyring'!D124","v":0},{"$f":"'Log til risikostyring'!E124","v":0},{"$f":"'Log til risikostyring'!F124","v":0},{"$f":"'Log til risikostyring'!G124","v":0},{"$f":"'Log til risikostyring'!H124","v":0},{"$f":"'Log til risikostyring'!I124","v":0},{"$f":"'Log til risikostyring'!J124","v":0},{"$f":"'Log til risikostyring'!K124","v":0},{"$f":"'Log til risikostyring'!L124","v":0},{"$f":"'Log til risikostyring'!M124","v":0},{"$f":"'Log til risikostyring'!N124","v":0},{"$f":"'Log til risikostyring'!O124","v":0},{"$f":"'Log til risikostyring'!P124","v":0},{"$f":"'Log til risikostyring'!Q124","v":0},{"$f":"'Log til risikostyring'!R124","v":0},{"$f":"'Log til risikostyring'!S124","v":0},{"$f":"'Log til risikostyring'!T124","v":0},{"$f":"'Log til risikostyring'!U124","v":0},{"$f":"'Log til risikostyring'!V124","v":0},0,0,0]
[null,{"$f":"'Log til risikostyring'!B125","v":0},{"$f":"'Log til risikostyring'!C125","v":0},{"$f":"'Log til risikostyring'!D125","v":0},{"$f":"'Log til risikostyring'!E125","v":0},{"$f":"'Log til risikostyring'!F125","v":0},{"$f":"'Log til risikostyring'!G125","v":0},{"$f":"'Log til risikostyring'!H125","v":0},{"$f":"'Log til risikostyring'!I125","v":0},{"$f":"'Log til risikostyring'!J125","v":0},{"$f":"'Log til risikostyring'!K125","v":0},{"$f":"'Log til risikostyring'!L125","v":0},{"$f":"'Log til risikostyring'!M125","v":0},{"$f":"'Log til risikostyring'!N125","v":0},{"$f":"'Log til risikostyring'!O125","v":0},{"$f":"'Log til risikostyring'!P125","v":0},{"$f":"'Log til risikostyring'!Q125","v":0},{"$f":"'Log til risikostyring'!R125","v":0},{"$f":"'Log til risikostyring'!S125","v":0},{"$f":"'Log til risikostyring'!T125","v":0},{"$f":"'Log til risikostyring'!U125","v":0},{"$f":"'Log til risikostyring'!V125","v":0},0,0,0]
[null,{"$f":"'Log til risikostyring'!B126","v":0},{"$f":"'Log til risikostyring'!C126","v":0},{"$f":"'Log til risikostyring'!D126","v":0},{"$f":"'Log til risikostyring'!E126","v":0},{"$f":"'Log til risikostyring'!F126","v":0},{"$f":"'Log til risikostyring'!G126","v":0},{"$f":"'Log til risikostyring'!H126","v":0},{"$f":"'Log til risikostyring'!I126","v":0},{"$f":"'Log til risikostyring'!J126","v":0},{"$f":"'Log til risikostyring'!K126","v":0},{"$f":"'Log til risikostyring'!L126","v":0},{"$f":"'Log til risikostyring'!M126","v":0},{"$f":"'Log til risikostyring'!N126","v":0},{"$f":"'Log til risikostyring'!O126","v":0},{"$f":"'Log til risikostyring'!P126","v":0},{"$f":"'Log til risikostyring'!Q126","v":0},{"$f":"'Log til risikostyring'!R126","v":0},{"$f":"'Log til risikostyring'!S126","v":0},{"$f":"'Log til risikostyring'!T126","v":0},{"$f":"'Log til risikostyring'!U126","v":0},{"$f":"'Log til risikostyring'!V126","v":0},0,0,0]
[null,{"$f":"'Log til risikostyring'!B127","v":0},{"$f":"'Log til risikostyring'!C127","v":0},{"$f":"'Log til risikostyring'!D127","v":0},{"$f":"'Log til risikostyring'!E127","v":0},{"$f":"'Log til risikostyring'!F127","v":0},{"$f":"'Log til risikostyring'!G127","v":0},{"$f":"'Log til risikostyring'!H127","v":0},{"$f":"'Log til risikostyring'!I127","v":0},{"$f":"'Log til risikostyring'!J127","v":0},{"$f":"'Log til risikostyring'!K127","v":0},{"$f":"'Log til risikostyring'!L127","v":0},{"$f":"'Log til risikostyring'!M127","v":0},{"$f":"'Log til risikostyring'!N127","v":0},{"$f":"'Log til risikostyring'!O127","v":0},{"$f":"'Log til risikostyring'!P127","v":0},{"$f":"'Log til risikostyring'!Q127","v":0},{"$f":"'Log til risikostyring'!R127","v":0},{"$f":"'Log til risikostyring'!S127","v":0},{"$f":"'Log til risikostyring'!T127","v":0},{"$f":"'Log til risikostyring'!U127","v":0},{"$f":"'Log til risikostyring'!V127","v":0},0,0,0]
[null,{"$f":"'Log til risikostyring'!B128","v":0},{"$f":"'Log til risikostyring'!C128","v":0},{"$f":"'Log til risikostyring'!D128","v":0},{"$f":"'Log til risikostyring'!E128","v":0},{"$f":"'Log til risikostyring'!F128","v":0},{"$f":"'Log til risikostyring'!G128","v":0},{"$f":"'Log til risikostyring'!H128","v":0},{"$f":"'Log til risikostyring'!I128","v":0},{"$f":"'Log til risikostyring'!J128","v":0},{"$f":"'Log til risikostyring'!K128","v":0},{"$f":"'Log til risikostyring'!L128","v":0},{"$f":"'Log til risikostyring'!M128","v":0},{"$f":"'Log til risikostyring'!N128","v":0},{"$f":"'Log til risikostyring'!O128","v":0},{"$f":"'Log til risikostyring'!P128","v":0},{"$f":"'Log til risikostyring'!Q128","v":0},{"$f":"'Log til risikostyring'!R128","v":0},{"$f":"'Log til risikostyring'!S128","v":0},{"$f":"'Log til risikostyring'!T128","v":0},{"$f":"'Log til risikostyring'!U128","v":0},{"$f":"'Log til risikostyring'!V128","v":0},0,0,0]
[null,{"$f":"'Log til risikostyring'!B129","v":0},{"$f":"'Log til risikostyring'!C129","v":0},{"$f":"'Log til risikostyring'!D129","v":0},{"$f":"'Log til risikostyring'!E129","v":0},{"$f":"'Log til risikostyring'!F129","v":0},{"$f":"'Log til risikostyring'!G129","v":0},{"$f":"'Log til risikostyring'!H129","v":0},{"$f":"'Log til risikostyring'!I129","v":0},{"$f":"'Log til risikostyring'!J129","v":0},{"$f":"'Log til risikostyring'!K129","v":0},{"$f":"'Log til risikostyring'!L129","v":0},{"$f":"'Log til risikostyring'!M129","v":0},{"$f":"'Log til risikostyring'!N129","v":0},{"$f":"'Log til risikostyring'!O129","v":0},{"$f":"'Log til risikostyring'!P129","v":0},{"$f":"'Log til risikostyring'!Q129","v":0},{"$f":"'Log til risikostyring'!R129","v":0},{"$f":"'Log til risikostyring'!S129","v":0},{"$f":"'Log til risikostyring'!T129","v":0},{"$f":"'Log til risikostyring'!U129","v":0},{"$f":"'Log til risikostyring'!V129","v":0},0,0,0]
[null,{"$f":"'Log til risikostyring'!B130","v":0},{"$f":"'Log til risikostyring'!C130","v":0},{"$f":"'Log til risikostyring'!D130","v":0},{"$f":"'Log til risikostyring'!E130","v":0},{"$f":"'Log til risikostyring'!F130","v":0},{"$f":"'Log til risikostyring'!G130","v":0},{"$f":"'Log til risikostyring'!H130","v":0},{"$f":"'Log til risikostyring'!I130","v":0},{"$f":"'Log til risikostyring'!J130","v":0},{"$f":"'Log til risikostyring'!K130","v":0},{"$f":"'Log til risikostyring'!L130","v":0},{"$f":"'Log til risikostyring'!M130","v":0},{"$f":"'Log til risikostyring'!N130","v":0},{"$f":"'Log til risikostyring'!O130","v":0},{"$f":"'Log til risikostyring'!P130","v":0},{"$f":"'Log til risikostyring'!Q130","v":0},{"$f":"'Log til risikostyring'!R130","v":0},{"$f":"'Log til risikostyring'!S130","v":0},{"$f":"'Log til risikostyring'!T130","v":0},{"$f":"'Log til risikostyring'!U130","v":0},{"$f":"'Log til risikostyring'!V130","v":0},0,0,0]
[null,{"$f":"'Log til risikostyring'!B131","v":0},{"$f":"'Log til risikostyring'!C131","v":0},{"$f":"'Log til risikostyring'!D131","v":0},{"$f":"'Log til risikostyring'!E131","v":0},{"$f":"'Log til risikostyring'!F131","v":0},{"$f":"'Log til risikostyring'!G131","v":0},{"$f":"'Log til risikostyring'!H131","v":0},{"$f":"'Log til risikostyring'!I131","v":0},{"$f":"'Log til risikostyring'!J131","v":0},{"$f":"'Log til risikostyring'!K131","v":0},{"$f":"'Log til risikostyring'!L131","v":0},{"$f":"'Log til risikostyring'!M131","v":0},{"$f":"'Log til risikostyring'!N131","v":0},{"$f":"'Log til risikostyring'!O131","v":0},{"$f":"'Log til risikostyring'!P131","v":0},{"$f":"'Log til risikostyring'!Q131","v":0},{"$f":"'Log til risikostyring'!R131","v":0},{"$f":"'Log til risikostyring'!S131","v":0},{"$f":"'Log til risikostyring'!T131","v":0},{"$f":"'Log til risikostyring'!U131","v":0},{"$f":"'Log til risikostyring'!V131","v":0},0,0,0]
[null,{"$f":"'Log til risikostyring'!B132","v":0},{"$f":"'Log til risikostyring'!C132","v":0},{"$f":"'Log til risikostyring'!D132","v":0},{"$f":"'Log til risikostyring'!E132","v":0},{"$f":"'Log til risikostyring'!F132","v":0},{"$f":"'Log til risikostyring'!G132","v":0},{"$f":"'Log til risikostyring'!H132","v":0},{"$f":"'Log til risikostyring'!I132","v":0},{"$f":"'Log til risikostyring'!J132","v":0},{"$f":"'Log til risikostyring'!K132","v":0},{"$f":"'Log til risikostyring'!L132","v":0},{"$f":"'Log til risikostyring'!M132","v":0},{"$f":"'Log til risikostyring'!N132","v":0},{"$f":"'Log til risikostyring'!O132","v":0},{"$f":"'Log til risikostyring'!P132","v":0},{"$f":"'Log til risikostyring'!Q132","v":0},{"$f":"'Log til risikostyring'!R132","v":0},{"$f":"'Log til risikostyring'!S132","v":0},{"$f":"'Log til risikostyring'!T132","v":0},{"$f":"'Log til risikostyring'!U132","v":0},{"$f":"'Log til risikostyring'!V132","v":0},0,0,0]
[null,{"$f":"'Log til risikostyring'!B133","v":0},{"$f":"'Log til risikostyring'!C133","v":0},{"$f":"'Log til risikostyring'!D133","v":0},{"$f":"'Log til risikostyring'!E133","v":0},{"$f":"'Log til risikostyring'!F133","v":0},{"$f":"'Log til risikostyring'!G133","v":0},{"$f":"'Log til risikostyring'!H133","v":0},{"$f":"'Log til risikostyring'!I133","v":0},{"$f":"'Log til risikostyring'!J133","v":0},{"$f":"'Log til risikostyring'!K133","v":0},{"$f":"'Log til risikostyring'!L133","v":0},{"$f":"'Log til risikostyring'!M133","v":0},{"$f":"'Log til risikostyring'!N133","v":0},{"$f":"'Log til risikostyring'!O133","v":0},{"$f":"'Log til risikostyring'!P133","v":0},{"$f":"'Log til risikostyring'!Q133","v":0},{"$f":"'Log til risikostyring'!R133","v":0},{"$f":"'Log til risikostyring'!S133","v":0},{"$f":"'Log til risikostyring'!T133","v":0},{"$f":"'Log til risikostyring'!U133","v":0},{"$f":"'Log til risikostyring'!V133","v":0},0,0,0]
[null,{"$f":"'Log til risikostyring'!B134","v":0},{"$f":"'Log til risikostyring'!C134","v":0},{"$f":"'Log til risikostyring'!D134","v":0},{"$f":"'Log til risikostyring'!E134","v":0},{"$f":"'Log til risikostyring'!F134","v":0},{"$f":"'Log til risikostyring'!G134","v":0},{"$f":"'Log til risikostyring'!H134","v":0},{"$f":"'Log til risikostyring'!I134","v":0},{"$f":"'Log til risikostyring'!J134","v":0},{"$f":"'Log til risikostyring'!K134","v":0},{"$f":"'Log til risikostyring'!L134","v":0},{"$f":"'Log til risikostyring'!M134","v":0},{"$f":"'Log til risikostyring'!N134","v":0},{"$f":"'Log til risikostyring'!O134","v":0},{"$f":"'Log til risikostyring'!P134","v":0},{"$f":"'Log til risikostyring'!Q134","v":0},{"$f":"'Log til risikostyring'!R134","v":0},{"$f":"'Log til risikostyring'!S134","v":0},{"$f":"'Log til risikostyring'!T134","v":0},{"$f":"'Log til risikostyring'!U134","v":0},{"$f":"'Log til risikostyring'!V134","v":0},0,0,0]
[null,{"$f":"'Log til risikostyring'!B135","v":0},{"$f":"'Log til risikostyring'!C135","v":0},{"$f":"'Log til risikostyring'!D135","v":0},{"$f":"'Log til risikostyring'!E135","v":0},{"$f":"'Log til risikostyring'!F135","v":0},{"$f":"'Log til risikostyring'!G135","v":0},{"$f":"'Log til risikostyring'!H135","v":0},{"$f":"'Log til risikostyring'!I135","v":0},{"$f":"'Log til risikostyring'!J135","v":0},{"$f":"'Log til risikostyring'!K135","v":0},{"$f":"'Log til risikostyring'!L135","v":0},{"$f":"'Log til risikostyring'!M135","v":0},{"$f":"'Log til risikostyring'!N135","v":0},{"$f":"'Log til risikostyring'!O135","v":0},{"$f":"'Log til risikostyring'!P135","v":0},{"$f":"'Log til risikostyring'!Q135","v":0},{"$f":"'Log til risikostyring'!R135","v":0},{"$f":"'Log til risikostyring'!S135","v":0},{"$f":"'Log til risikostyring'!T135","v":0},{"$f":"'Log til risikostyring'!U135","v":0},{"$f":"'Log til risikostyring'!V135","v":0},0,0,0]
[null,{"$f":"'Log til risikostyring'!B136","v":0},{"$f":"'Log til risikostyring'!C136","v":0},{"$f":"'Log til risikostyring'!D136","v":0},{"$f":"'Log til risikostyring'!E136","v":0},{"$f":"'Log til risikostyring'!F136","v":0},{"$f":"'Log til risikostyring'!G136","v":0},{"$f":"'Log til risikostyring'!H136","v":0},{"$f":"'Log til risikostyring'!I136","v":0},{"$f":"'Log til risikostyring'!J136","v":0},{"$f":"'Log til risikostyring'!K136","v":0},{"$f":"'Log til risikostyring'!L136","v":0},{"$f":"'Log til risikostyring'!M136","v":0},{"$f":"'Log til risikostyring'!N136","v":0},{"$f":"'Log til risikostyring'!O136","v":0},{"$f":"'Log til risikostyring'!P136","v":0},{"$f":"'Log til risikostyring'!Q136","v":0},{"$f":"'Log til risikostyring'!R136","v":0},{"$f":"'Log til risikostyring'!S136","v":0},{"$f":"'Log til risikostyring'!T136","v":0},{"$f":"'Log til risikostyring'!U136","v":0},{"$f":"'Log til risikostyring'!V136","v":0},0,0,0]
[null,{"$f":"'Log til risikostyring'!B137","v":0},{"$f":"'Log til risikostyring'!C137","v":0},{"$f":"'Log til risikostyring'!D137","v":0},{"$f":"'Log til risikostyring'!E137","v":0},{"$f":"'Log til risikostyring'!F137","v":0},{"$f":"'Log til risikostyring'!G137","v":0},{"$f":"'Log til risikostyring'!H137","v":0},{"$f":"'Log til risikostyring'!I137","v":0},{"$f":"'Log til risikostyring'!J137","v":0},{"$f":"'Log til risikostyring'!K137","v":0},{"$f":"'Log til risikostyring'!L137","v":0},{"$f":"'Log til risikostyring'!M137","v":0},{"$f":"'Log til risikostyring'!N137","v":0},{"$f":"'Log til risikostyring'!O137","v":0},{"$f":"'Log til risikostyring'!P137","v":0},{"$f":"'Log til risikostyring'!Q137","v":0},{"$f":"'Log til risikostyring'!R137","v":0},{"$f":"'Log til risikostyring'!S137","v":0},{"$f":"'Log til risikostyring'!T137","v":0},{"$f":"'Log til risikostyring'!U137","v":0},{"$f":"'Log til risikostyring'!V137","v":0},{"$f":"IF(K133>15,1,0)","v":0},{"$f":"IF(AND(K133<16,K133>4),1,0)","v":0},{"$f":"IF(AND(K133<5,K133>0),1,0)","v":0}]
[null,{"$f":"'Log til risikostyring'!B138","v":0},{"$f":"'Log til risikostyring'!C138","v":0},{"$f":"'Log til risikostyring'!D138","v":0},{"$f":"'Log til risikostyring'!E138","v":0},{"$f":"'Log til risikostyring'!F138","v":0},{"$f":"'Log til risikostyring'!G138","v":0},{"$f":"'Log til risikostyring'!H138","v":0},{"$f":"'Log til risikostyring'!I138","v":0},{"$f":"'Log til risikostyring'!J138","v":0},{"$f":"'Log til risikostyring'!K138","v":0},{"$f":"'Log til risikostyring'!L138","v":0},{"$f":"'Log til risikostyring'!M138","v":0},{"$f":"'Log til risikostyring'!N138","v":0},{"$f":"'Log til risikostyring'!O138","v":0},{"$f":"'Log til risikostyring'!P138","v":0},{"$f":"'Log til risikostyring'!Q138","v":0},{"$f":"'Log til risikostyring'!R138","v":0},{"$f":"'Log til risikostyring'!S138","v":0},{"$f":"'Log til risikostyring'!T138","v":0},{"$f":"'Log til risikostyring'!U138","v":0},{"$f":"'Log til risikostyring'!V138","v":0},0,0,0]
[null,{"$f":"'Log til risikostyring'!B139","v":0},{"$f":"'Log til risikostyring'!C139","v":0},{"$f":"'Log til risikostyring'!D139","v":0},{"$f":"'Log til risikostyring'!E139","v":0},{"$f":"'Log til risikostyring'!F139","v":0},{"$f":"'Log til risikostyring'!G139","v":0},{"$f":"'Log til risikostyring'!H139","v":0},{"$f":"'Log til risikostyring'!I139","v":0},{"$f":"'Log til risikostyring'!J139","v":0},{"$f":"'Log til risikostyring'!K139","v":0},{"$f":"'Log til risikostyring'!L139","v":0},{"$f":"'Log til risikostyring'!M139","v":0},{"$f":"'Log til risikostyring'!N139","v":0},{"$f":"'Log til risikostyring'!O139","v":0},{"$f":"'Log til risikostyring'!P139","v":0},{"$f":"'Log til risikostyring'!Q139","v":0},{"$f":"'Log til risikostyring'!R139","v":0},{"$f":"'Log til risikostyring'!S139","v":0},{"$f":"'Log til risikostyring'!T139","v":0},{"$f":"'Log til risikostyring'!U139","v":0},{"$f":"'Log til risikostyring'!V139","v":0},0,0,0]
[null,{"$f":"'Log til risikostyring'!B140","v":0},{"$f":"'Log til risikostyring'!C140","v":0},{"$f":"'Log til risikostyring'!D140","v":0},{"$f":"'Log til risikostyring'!E140","v":0},{"$f":"'Log til risikostyring'!F140","v":0},{"$f":"'Log til risikostyring'!G140","v":0},{"$f":"'Log til risikostyring'!H140","v":0},{"$f":"'Log til risikostyring'!I140","v":0},{"$f":"'Log til risikostyring'!J140","v":0},{"$f":"'Log til risikostyring'!K140","v":0},{"$f":"'Log til risikostyring'!L140","v":0},{"$f":"'Log til risikostyring'!M140","v":0},{"$f":"'Log til risikostyring'!N140","v":0},{"$f":"'Log til risikostyring'!O140","v":0},{"$f":"'Log til risikostyring'!P140","v":0},{"$f":"'Log til risikostyring'!Q140","v":0},{"$f":"'Log til risikostyring'!R140","v":0},{"$f":"'Log til risikostyring'!S140","v":0},{"$f":"'Log til risikostyring'!T140","v":0},{"$f":"'Log til risikostyring'!U140","v":0},{"$f":"'Log til risikostyring'!V140","v":0},0,0,0]
[null,{"$f":"'Log til risikostyring'!B141","v":0},{"$f":"'Log til risikostyring'!C141","v":0},{"$f":"'Log til risikostyring'!D141","v":0},{"$f":"'Log til risikostyring'!E141","v":0},{"$f":"'Log til risikostyring'!F141","v":0},{"$f":"'Log til risikostyring'!G141","v":0},{"$f":"'Log til risikostyring'!H141","v":0},{"$f":"'Log til risikostyring'!I141","v":0},{"$f":"'Log til risikostyring'!J141","v":0},{"$f":"'Log til risikostyring'!K141","v":0},{"$f":"'Log til risikostyring'!L141","v":0},{"$f":"'Log til risikostyring'!M141","v":0},{"$f":"'Log til risikostyring'!N141","v":0},{"$f":"'Log til risikostyring'!O141","v":0},{"$f":"'Log til risikostyring'!P141","v":0},{"$f":"'Log til risikostyring'!Q141","v":0},{"$f":"'Log til risikostyring'!R141","v":0},{"$f":"'Log til risikostyring'!S141","v":0},{"$f":"'Log til risikostyring'!T141","v":0},{"$f":"'Log til risikostyring'!U141","v":0},{"$f":"'Log til risikostyring'!V141","v":0},0,0,0]
[null,{"$f":"'Log til risikostyring'!B142","v":0},{"$f":"'Log til risikostyring'!C142","v":0},{"$f":"'Log til risikostyring'!D142","v":0},{"$f":"'Log til risikostyring'!E142","v":0},{"$f":"'Log til risikostyring'!F142","v":0},{"$f":"'Log til risikostyring'!G142","v":0},{"$f":"'Log til risikostyring'!H142","v":0},{"$f":"'Log til risikostyring'!I142","v":0},{"$f":"'Log til risikostyring'!J142","v":0},{"$f":"'Log til risikostyring'!K142","v":0},{"$f":"'Log til risikostyring'!L142","v":0},{"$f":"'Log til risikostyring'!M142","v":0},{"$f":"'Log til risikostyring'!N142","v":0},{"$f":"'Log til risikostyring'!O142","v":0},{"$f":"'Log til risikostyring'!P142","v":0},{"$f":"'Log til risikostyring'!Q142","v":0},{"$f":"'Log til risikostyring'!R142","v":0},{"$f":"'Log til risikostyring'!S142","v":0},{"$f":"'Log til risikostyring'!T142","v":0},{"$f":"'Log til risikostyring'!U142","v":0},{"$f":"'Log til risikostyring'!V142","v":0},0,0,0]
[null,{"$f":"'Log til risikostyring'!B143","v":0},{"$f":"'Log til risikostyring'!C143","v":0},{"$f":"'Log til risikostyring'!D143","v":0},{"$f":"'Log til risikostyring'!E143","v":0},{"$f":"'Log til risikostyring'!F143","v":0},{"$f":"'Log til risikostyring'!G143","v":0},{"$f":"'Log til risikostyring'!H143","v":0},{"$f":"'Log til risikostyring'!I143","v":0},{"$f":"'Log til risikostyring'!J143","v":0},{"$f":"'Log til risikostyring'!K143","v":0},{"$f":"'Log til risikostyring'!L143","v":0},{"$f":"'Log til risikostyring'!M143","v":0},{"$f":"'Log til risikostyring'!N143","v":0},{"$f":"'Log til risikostyring'!O143","v":0},{"$f":"'Log til risikostyring'!P143","v":0},{"$f":"'Log til risikostyring'!Q143","v":0},{"$f":"'Log til risikostyring'!R143","v":0},{"$f":"'Log til risikostyring'!S143","v":0},{"$f":"'Log til risikostyring'!T143","v":0},{"$f":"'Log til risikostyring'!U143","v":0},{"$f":"'Log til risikostyring'!V143","v":0},0,0,0]
[null,{"$f":"'Log til risikostyring'!B144","v":0},{"$f":"'Log til risikostyring'!C144","v":0},{"$f":"'Log til risikostyring'!D144","v":0},{"$f":"'Log til risikostyring'!E144","v":0},{"$f":"'Log til risikostyring'!F144","v":0},{"$f":"'Log til risikostyring'!G144","v":0},{"$f":"'Log til risikostyring'!H144","v":0},{"$f":"'Log til risikostyring'!I144","v":0},{"$f":"'Log til risikostyring'!J144","v":0},{"$f":"'Log til risikostyring'!K144","v":0},{"$f":"'Log til risikostyring'!L144","v":0},{"$f":"'Log til risikostyring'!M144","v":0},{"$f":"'Log til risikostyring'!N144","v":0},{"$f":"'Log til risikostyring'!O144","v":0},{"$f":"'Log til risikostyring'!P144","v":0},{"$f":"'Log til risikostyring'!Q144","v":0},{"$f":"'Log til risikostyring'!R144","v":0},{"$f":"'Log til risikostyring'!S144","v":0},{"$f":"'Log til risikostyring'!T144","v":0},{"$f":"'Log til risikostyring'!U144","v":0},{"$f":"'Log til risikostyring'!V144","v":0},0,0,0]
[null,{"$f":"'Log til risikostyring'!B145","v":0},{"$f":"'Log til risikostyring'!C145","v":0},{"$f":"'Log til risikostyring'!D145","v":0},{"$f":"'Log til risikostyring'!E145","v":0},{"$f":"'Log til risikostyring'!F145","v":0},{"$f":"'Log til risikostyring'!G145","v":0},{"$f":"'Log til risikostyring'!H145","v":0},{"$f":"'Log til risikostyring'!I145","v":0},{"$f":"'Log til risikostyring'!J145","v":0},{"$f":"'Log til risikostyring'!K145","v":0},{"$f":"'Log til risikostyring'!L145","v":0},{"$f":"'Log til risikostyring'!M145","v":0},{"$f":"'Log til risikostyring'!N145","v":0},{"$f":"'Log til risikostyring'!O145","v":0},{"$f":"'Log til risikostyring'!P145","v":0},{"$f":"'Log til risikostyring'!Q145","v":0},{"$f":"'Log til risikostyring'!R145","v":0},{"$f":"'Log til risikostyring'!S145","v":0},{"$f":"'Log til risikostyring'!T145","v":0},{"$f":"'Log til risikostyring'!U145","v":0},{"$f":"'Log til risikostyring'!V145","v":0},0,0,0]
[null,{"$f":"'Log til risikostyring'!B146","v":0},{"$f":"'Log til risikostyring'!C146","v":0},{"$f":"'Log til risikostyring'!D146","v":0},{"$f":"'Log til risikostyring'!E146","v":0},{"$f":"'Log til risikostyring'!F146","v":0},{"$f":"'Log til risikostyring'!G146","v":0},{"$f":"'Log til risikostyring'!H146","v":0},{"$f":"'Log til risikostyring'!I146","v":0},{"$f":"'Log til risikostyring'!J146","v":0},{"$f":"'Log til risikostyring'!K146","v":0},{"$f":"'Log til risikostyring'!L146","v":0},{"$f":"'Log til risikostyring'!M146","v":0},{"$f":"'Log til risikostyring'!N146","v":0},{"$f":"'Log til risikostyring'!O146","v":0},{"$f":"'Log til risikostyring'!P146","v":0},{"$f":"'Log til risikostyring'!Q146","v":0},{"$f":"'Log til risikostyring'!R146","v":0},{"$f":"'Log til risikostyring'!S146","v":0},{"$f":"'Log til risikostyring'!T146","v":0},{"$f":"'Log til risikostyring'!U146","v":0},{"$f":"'Log til risikostyring'!V146","v":0},0,0,0]
[null,{"$f":"'Log til risikostyring'!B147","v":0},{"$f":"'Log til risikostyring'!C147","v":0},{"$f":"'Log til risikostyring'!D147","v":0},{"$f":"'Log til risikostyring'!E147","v":0},{"$f":"'Log til risikostyring'!F147","v":0},{"$f":"'Log til risikostyring'!G147","v":0},{"$f":"'Log til risikostyring'!H147","v":0},{"$f":"'Log til risikostyring'!I147","v":0},{"$f":"'Log til risikostyring'!J147","v":0},{"$f":"'Log til risikostyring'!K147","v":0},{"$f":"'Log til risikostyring'!L147","v":0},{"$f":"'Log til risikostyring'!M147","v":0},{"$f":"'Log til risikostyring'!N147","v":0},{"$f":"'Log til risikostyring'!O147","v":0},{"$f":"'Log til risikostyring'!P147","v":0},{"$f":"'Log til risikostyring'!Q147","v":0},{"$f":"'Log til risikostyring'!R147","v":0},{"$f":"'Log til risikostyring'!S147","v":0},{"$f":"'Log til risikostyring'!T147","v":0},{"$f":"'Log til risikostyring'!U147","v":0},{"$f":"'Log til risikostyring'!V147","v":0},0,0,0]
[null,{"$f":"'Log til risikostyring'!B148","v":0},{"$f":"'Log til risikostyring'!C148","v":0},{"$f":"'Log til risikostyring'!D148","v":0},{"$f":"'Log til risikostyring'!E148","v":0},{"$f":"'Log til risikostyring'!F148","v":0},{"$f":"'Log til risikostyring'!G148","v":0},{"$f":"'Log til risikostyring'!H148","v":0},{"$f":"'Log til risikostyring'!I148","v":0},{"$f":"'Log til risikostyring'!J148","v":0},{"$f":"'Log til risikostyring'!K148","v":0},{"$f":"'Log til risikostyring'!L148","v":0},{"$f":"'Log til risikostyring'!M148","v":0},{"$f":"'Log til risikostyring'!N148","v":0},{"$f":"'Log til risikostyring'!O148","v":0},{"$f":"'Log til risikostyring'!P148","v":0},{"$f":"'Log til risikostyring'!Q148","v":0},{"$f":"'Log til risikostyring'!R148","v":0},{"$f":"'Log til risikostyring'!S148","v":0},{"$f":"'Log til risikostyring'!T148","v":0},{"$f":"'Log til risikostyring'!U148","v":0},{"$f":"'Log til risikostyring'!V148","v":0},0,0,0]
[null,{"$f":"'Log til risikostyring'!B149","v":0},{"$f":"'Log til risikostyring'!C149","v":0},{"$f":"'Log til risikostyring'!D149","v":0},{"$f":"'Log til risikostyring'!E149","v":0},{"$f":"'Log til risikostyring'!F149","v":0},{"$f":"'Log til risikostyring'!G149","v":0},{"$f":"'Log til risikostyring'!H149","v":0},{"$f":"'Log til risikostyring'!I149","v":0},{"$f":"'Log til risikostyring'!J149","v":0},{"$f":"'Log til risikostyring'!K149","v":0},{"$f":"'Log til risikostyring'!L149","v":0},{"$f":"'Log til risikostyring'!M149","v":0},{"$f":"'Log til risikostyring'!N149","v":0},{"$f":"'Log til risikostyring'!O149","v":0},{"$f":"'Log til risikostyring'!P149","v":0},{"$f":"'Log til risikostyring'!Q149","v":0},{"$f":"'Log til risikostyring'!R149","v":0},{"$f":"'Log til risikostyring'!S149","v":0},{"$f":"'Log til risikostyring'!T149","v":0},{"$f":"'Log til risikostyring'!U149","v":0},{"$f":"'Log til risikostyring'!V149","v":0},0,0,0]
[null,{"$f":"'Log til risikostyring'!B150","v":0},{"$f":"'Log til risikostyring'!C150","v":0},{"$f":"'Log til risikostyring'!D150","v":0},{"$f":"'Log til risikostyring'!E150","v":0},{"$f":"'Log til risikostyring'!F150","v":0},{"$f":"'Log til risikostyring'!G150","v":0},{"$f":"'Log til risikostyring'!H150","v":0},{"$f":"'Log til risikostyring'!I150","v":0},{"$f":"'Log til risikostyring'!J150","v":0},{"$f":"'Log til risikostyring'!K150","v":0},{"$f":"'Log til risikostyring'!L150","v":0},{"$f":"'Log til risikostyring'!M150","v":0},{"$f":"'Log til risikostyring'!N150","v":0},{"$f":"'Log til risikostyring'!O150","v":0},{"$f":"'Log til risikostyring'!P150","v":0},{"$f":"'Log til risikostyring'!Q150","v":0},{"$f":"'Log til risikostyring'!R150","v":0},{"$f":"'Log til risikostyring'!S150","v":0},{"$f":"'Log til risikostyring'!T150","v":0},{"$f":"'Log til risikostyring'!U150","v":0},{"$f":"'Log til risikostyring'!V150","v":0},0,0,0]
[null,{"$f":"'Log til risikostyring'!B151","v":0},{"$f":"'Log til risikostyring'!C151","v":0},{"$f":"'Log til risikostyring'!D151","v":0},{"$f":"'Log til risikostyring'!E151","v":0},{"$f":"'Log til risikostyring'!F151","v":0},{"$f":"'Log til risikostyring'!G151","v":0},{"$f":"'Log til risikostyring'!H151","v":0},{"$f":"'Log til risikostyring'!I151","v":0},{"$f":"'Log til risikostyring'!J151","v":0},{"$f":"'Log til risikostyring'!K151","v":0},{"$f":"'Log til risikostyring'!L151","v":0},{"$f":"'Log til risikostyring'!M151","v":0},{"$f":"'Log til risikostyring'!N151","v":0},{"$f":"'Log til risikostyring'!O151","v":0},{"$f":"'Log til risikostyring'!P151","v":0},{"$f":"'Log til risikostyring'!Q151","v":0},{"$f":"'Log til risikostyring'!R151","v":0},{"$f":"'Log til risikostyring'!S151","v":0},{"$f":"'Log til risikostyring'!T151","v":0},{"$f":"'Log til risikostyring'!U151","v":0},{"$f":"'Log til risikostyring'!V151","v":0},0,0,0]
[null,{"$f":"'Log til risikostyring'!B152","v":0},{"$f":"'Log til risikostyring'!C152","v":0},{"$f":"'Log til risikostyring'!D152","v":0},{"$f":"'Log til risikostyring'!E152","v":0},{"$f":"'Log til risikostyring'!F152","v":0},{"$f":"'Log til risikostyring'!G152","v":0},{"$f":"'Log til risikostyring'!H152","v":0},{"$f":"'Log til risikostyring'!I152","v":0},{"$f":"'Log til risikostyring'!J152","v":0},{"$f":"'Log til risikostyring'!K152","v":0},{"$f":"'Log til risikostyring'!L152","v":0},{"$f":"'Log til risikostyring'!M152","v":0},{"$f":"'Log til risikostyring'!N152","v":0},{"$f":"'Log til risikostyring'!O152","v":0},{"$f":"'Log til risikostyring'!P152","v":0},{"$f":"'Log til risikostyring'!Q152","v":0},{"$f":"'Log til risikostyring'!R152","v":0},{"$f":"'Log til risikostyring'!S152","v":0},{"$f":"'Log til risikostyring'!T152","v":0},{"$f":"'Log til risikostyring'!U152","v":0},{"$f":"'Log til risikostyring'!V152","v":0},0,0,0]
[null,{"$f":"'Log til risikostyring'!B153","v":0},{"$f":"'Log til risikostyring'!C153","v":0},{"$f":"'Log til risikostyring'!D153","v":0},{"$f":"'Log til risikostyring'!E153","v":0},{"$f":"'Log til risikostyring'!F153","v":0},{"$f":"'Log til risikostyring'!G153","v":0},{"$f":"'Log til risikostyring'!H153","v":0},{"$f":"'Log til risikostyring'!I153","v":0},{"$f":"'Log til risikostyring'!J153","v":0},{"$f":"'Log til risikostyring'!K153","v":0},{"$f":"'Log til risikostyring'!L153","v":0},{"$f":"'Log til risikostyring'!M153","v":0},{"$f":"'Log til risikostyring'!N153","v":0},{"$f":"'Log til risikostyring'!O153","v":0},{"$f":"'Log til risikostyring'!P153","v":0},{"$f":"'Log til risikostyring'!Q153","v":0},{"$f":"'Log til risikostyring'!R153","v":0},{"$f":"'Log til risikostyring'!S153","v":0},{"$f":"'Log til risikostyring'!T153","v":0},{"$f":"'Log til risikostyring'!U153","v":0},{"$f":"'Log til risikostyring'!V153","v":0},0,0,0]
[null,{"$f":"'Log til risikostyring'!B154","v":0},{"$f":"'Log til risikostyring'!C154","v":0},{"$f":"'Log til risikostyring'!D154","v":0},{"$f":"'Log til risikostyring'!E154","v":0},{"$f":"'Log til risikostyring'!F154","v":0},{"$f":"'Log til risikostyring'!G154","v":0},{"$f":"'Log til risikostyring'!H154","v":0},{"$f":"'Log til risikostyring'!I154","v":0},{"$f":"'Log til risikostyring'!J154","v":0},{"$f":"'Log til risikostyring'!K154","v":0},{"$f":"'Log til risikostyring'!L154","v":0},{"$f":"'Log til risikostyring'!M154","v":0},{"$f":"'Log til risikostyring'!N154","v":0},{"$f":"'Log til risikostyring'!O154","v":0},{"$f":"'Log til risikostyring'!P154","v":0},{"$f":"'Log til risikostyring'!Q154","v":0},{"$f":"'Log til risikostyring'!R154","v":0},{"$f":"'Log til risikostyring'!S154","v":0},{"$f":"'Log til risikostyring'!T154","v":0},{"$f":"'Log til risikostyring'!U154","v":0},{"$f":"'Log til risikostyring'!V154","v":0},0,0,0]
[null,{"$f":"'Log til risikostyring'!B155","v":0},{"$f":"'Log til risikostyring'!C155","v":0},{"$f":"'Log til risikostyring'!D155","v":0},{"$f":"'Log til risikostyring'!E155","v":0},{"$f":"'Log til risikostyring'!F155","v":0},{"$f":"'Log til risikostyring'!G155","v":0},{"$f":"'Log til risikostyring'!H155","v":0},{"$f":"'Log til risikostyring'!I155","v":0},{"$f":"'Log til risikostyring'!J155","v":0},{"$f":"'Log til risikostyring'!K155","v":0},{"$f":"'Log til risikostyring'!L155","v":0},{"$f":"'Log til risikostyring'!M155","v":0},{"$f":"'Log til risikostyring'!N155","v":0},{"$f":"'Log til risikostyring'!O155","v":0},{"$f":"'Log til risikostyring'!P155","v":0},{"$f":"'Log til risikostyring'!Q155","v":0},{"$f":"'Log til risikostyring'!R155","v":0},{"$f":"'Log til risikostyring'!S155","v":0},{"$f":"'Log til risikostyring'!T155","v":0},{"$f":"'Log til risikostyring'!U155","v":0},{"$f":"'Log til risikostyring'!V155","v":0},0,0,0]
[null,{"$f":"'Log til risikostyring'!B156","v":0},{"$f":"'Log til risikostyring'!C156","v":0},{"$f":"'Log til risikostyring'!D156","v":0},{"$f":"'Log til risikostyring'!E156","v":0},{"$f":"'Log til risikostyring'!F156","v":0},{"$f":"'Log til risikostyring'!G156","v":0},{"$f":"'Log til risikostyring'!H156","v":0},{"$f":"'Log til risikostyring'!I156","v":0},{"$f":"'Log til risikostyring'!J156","v":0},{"$f":"'Log til risikostyring'!K156","v":0},{"$f":"'Log til risikostyring'!L156","v":0},{"$f":"'Log til risikostyring'!M156","v":0},{"$f":"'Log til risikostyring'!N156","v":0},{"$f":"'Log til risikostyring'!O156","v":0},{"$f":"'Log til risikostyring'!P156","v":0},{"$f":"'Log til risikostyring'!Q156","v":0},{"$f":"'Log til risikostyring'!R156","v":0},{"$f":"'Log til risikostyring'!S156","v":0},{"$f":"'Log til risikostyring'!T156","v":0},{"$f":"'Log til risikostyring'!U156","v":0},{"$f":"'Log til risikostyring'!V156","v":0},0,0,0]
[null,{"$f":"'Log til risikostyring'!B157","v":0},{"$f":"'Log til risikostyring'!C157","v":0},{"$f":"'Log til risikostyring'!D157","v":0},{"$f":"'Log til risikostyring'!E157","v":0},{"$f":"'Log til risikostyring'!F157","v":0},{"$f":"'Log til risikostyring'!G157","v":0},{"$f":"'Log til risikostyring'!H157","v":0},{"$f":"'Log til risikostyring'!I157","v":0},{"$f":"'Log til risikostyring'!J157","v":0},{"$f":"'Log til risikostyring'!K157","v":0},{"$f":"'Log til risikostyring'!L157","v":0},{"$f":"'Log til risikostyring'!M157","v":0},{"$f":"'Log til risikostyring'!N157","v":0},{"$f":"'Log til risikostyring'!O157","v":0},{"$f":"'Log til risikostyring'!P157","v":0},{"$f":"'Log til risikostyring'!Q157","v":0},{"$f":"'Log til risikostyring'!R157","v":0},{"$f":"'Log til risikostyring'!S157","v":0},{"$f":"'Log til risikostyring'!T157","v":0},{"$f":"'Log til risikostyring'!U157","v":0},{"$f":"'Log til risikostyring'!V157","v":0},0,0,0]
[null,{"$f":"'Log til risikostyring'!B158","v":0},{"$f":"'Log til risikostyring'!C158","v":0},{"$f":"'Log til risikostyring'!D158","v":0},{"$f":"'Log til risikostyring'!E158","v":0},{"$f":"'Log til risikostyring'!F158","v":0},{"$f":"'Log til risikostyring'!G158","v":0},{"$f":"'Log til risikostyring'!H158","v":0},{"$f":"'Log til risikostyring'!I158","v":0},{"$f":"'Log til risikostyring'!J158","v":0},{"$f":"'Log til risikostyring'!K158","v":0},{"$f":"'Log til risikostyring'!L158","v":0},{"$f":"'Log til risikostyring'!M158","v":0},{"$f":"'Log til risikostyring'!N158","v":0},{"$f":"'Log til risikostyring'!O158","v":0},{"$f":"'Log til risikostyring'!P158","v":0},{"$f":"'Log til risikostyring'!Q158","v":0},{"$f":"'Log til risikostyring'!R158","v":0},{"$f":"'Log til risikostyring'!S158","v":0},{"$f":"'Log til risikostyring'!T158","v":0},{"$f":"'Log til risikostyring'!U158","v":0},{"$f":"'Log til risikostyring'!V158","v":0},0,0,0]
[null,{"$f":"'Log til risikostyring'!B159","v":0},{"$f":"'Log til risikostyring'!C159","v":0},{"$f":"'Log til risikostyring'!D159","v":0},{"$f":"'Log til risikostyring'!E159","v":0},{"$f":"'Log til risikostyring'!F159","v":0},{"$f":"'Log til risikostyring'!G159","v":0},{"$f":"'Log til risikostyring'!H159","v":0},{"$f":"'Log til risikostyring'!I159","v":0},{"$f":"'Log til risikostyring'!J159","v":0},{"$f":"'Log til risikostyring'!K159","v":0},{"$f":"'Log til risikostyring'!L159","v":0},{"$f":"'Log til risikostyring'!M159","v":0},{"$f":"'Log til risikostyring'!N159","v":0},{"$f":"'Log til risikostyring'!O159","v":0},{"$f":"'Log til risikostyring'!P159","v":0},{"$f":"'Log til risikostyring'!Q159","v":0},{"$f":"'Log til risikostyring'!R159","v":0},{"$f":"'Log til risikostyring'!S159","v":0},{"$f":"'Log til risikostyring'!T159","v":0},{"$f":"'Log til risikostyring'!U159","v":0},{"$f":"'Log til risikostyring'!V159","v":0},0,0,0]
[null,{"$f":"'Log til risikostyring'!B160","v":0},{"$f":"'Log til risikostyring'!C160","v":0},{"$f":"'Log til risikostyring'!D160","v":0},{"$f":"'Log til risikostyring'!E160","v":0},{"$f":"'Log til risikostyring'!F160","v":0},{"$f":"'Log til risikostyring'!G160","v":0},{"$f":"'Log til risikostyring'!H160","v":0},{"$f":"'Log til risikostyring'!I160","v":0},{"$f":"'Log til risikostyring'!J160","v":0},{"$f":"'Log til risikostyring'!K160","v":0},{"$f":"'Log til risikostyring'!L160","v":0},{"$f":"'Log til risikostyring'!M160","v":0},{"$f":"'Log til risikostyring'!N160","v":0},{"$f":"'Log til risikostyring'!O160","v":0},{"$f":"'Log til risikostyring'!P160","v":0},{"$f":"'Log til risikostyring'!Q160","v":0},{"$f":"'Log til risikostyring'!R160","v":0},{"$f":"'Log til risikostyring'!S160","v":0},{"$f":"'Log til risikostyring'!T160","v":0},{"$f":"'Log til risikostyring'!U160","v":0},{"$f":"'Log til risikostyring'!V160","v":0},0,0,0]
[null,{"$f":"'Log til risikostyring'!B161","v":0},{"$f":"'Log til risikostyring'!C161","v":0},{"$f":"'Log til risikostyring'!D161","v":0},{"$f":"'Log til risikostyring'!E161","v":0},{"$f":"'Log til risikostyring'!F161","v":0},{"$f":"'Log til risikostyring'!G161","v":0},{"$f":"'Log til risikostyring'!H161","v":0},{"$f":"'Log til risikostyring'!I161","v":0},{"$f":"'Log til risikostyring'!J161","v":0},{"$f":"'Log til risikostyring'!K161","v":0},{"$f":"'Log til risikostyring'!L161","v":0},{"$f":"'Log til risikostyring'!M161","v":0},{"$f":"'Log til risikostyring'!N161","v":0},{"$f":"'Log til risikostyring'!O161","v":0},{"$f":"'Log til risikostyring'!P161","v":0},{"$f":"'Log til risikostyring'!Q161","v":0},{"$f":"'Log til risikostyring'!R161","v":0},{"$f":"'Log til risikostyring'!S161","v":0},{"$f":"'Log til risikostyring'!T161","v":0},{"$f":"'Log til risikostyring'!U161","v":0},{"$f":"'Log til risikostyring'!V161","v":0},0,0,0]
[null,{"$f":"'Log til risikostyring'!B162","v":0},{"$f":"'Log til risikostyring'!C162","v":0},{"$f":"'Log til risikostyring'!D162","v":0},{"$f":"'Log til risikostyring'!E162","v":0},{"$f":"'Log til risikostyring'!F162","v":0},{"$f":"'Log til risikostyring'!G162","v":0},{"$f":"'Log til risikostyring'!H162","v":0},{"$f":"'Log til risikostyring'!I162","v":0},{"$f":"'Log til risikostyring'!J162","v":0},{"$f":"'Log til risikostyring'!K162","v":0},{"$f":"'Log til risikostyring'!L162","v":0},{"$f":"'Log til risikostyring'!M162","v":0},{"$f":"'Log til risikostyring'!N162","v":0},{"$f":"'Log til risikostyring'!O162","v":0},{"$f":"'Log til risikostyring'!P162","v":0},{"$f":"'Log til risikostyring'!Q162","v":0},{"$f":"'Log til risikostyring'!R162","v":0},{"$f":"'Log til risikostyring'!S162","v":0},{"$f":"'Log til risikostyring'!T162","v":0},{"$f":"'Log til risikostyring'!U162","v":0},{"$f":"'Log til risikostyring'!V162","v":0},0,0,0]
[null,{"$f":"'Log til risikostyring'!B163","v":0},{"$f":"'Log til risikostyring'!C163","v":0},{"$f":"'Log til risikostyring'!D163","v":0},{"$f":"'Log til risikostyring'!E163","v":0},{"$f":"'Log til risikostyring'!F163","v":0},{"$f":"'Log til risikostyring'!G163","v":0},{"$f":"'Log til risikostyring'!H163","v":0},{"$f":"'Log til risikostyring'!I163","v":0},{"$f":"'Log til risikostyring'!J163","v":0},{"$f":"'Log til risikostyring'!K163","v":0},{"$f":"'Log til risikostyring'!L163","v":0},{"$f":"'Log til risikostyring'!M163","v":0},{"$f":"'Log til risikostyring'!N163","v":0},{"$f":"'Log til risikostyring'!O163","v":0},{"$f":"'Log til risikostyring'!P163","v":0},{"$f":"'Log til risikostyring'!Q163","v":0},{"$f":"'Log til risikostyring'!R163","v":0},{"$f":"'Log til risikostyring'!S163","v":0},{"$f":"'Log til risikostyring'!T163","v":0},{"$f":"'Log til risikostyring'!U163","v":0},{"$f":"'Log til risikostyring'!V163","v":0},0,0,0]
[null,{"$f":"'Log til risikostyring'!B164","v":0},{"$f":"'Log til risikostyring'!C164","v":0},{"$f":"'Log til risikostyring'!D164","v":0},{"$f":"'Log til risikostyring'!E164","v":0},{"$f":"'Log til risikostyring'!F164","v":0},{"$f":"'Log til risikostyring'!G164","v":0},{"$f":"'Log til risikostyring'!H164","v":0},{"$f":"'Log til risikostyring'!I164","v":0},{"$f":"'Log til risikostyring'!J164","v":0},{"$f":"'Log til risikostyring'!K164","v":0},{"$f":"'Log til risikostyring'!L164","v":0},{"$f":"'Log til risikostyring'!M164","v":0},{"$f":"'Log til risikostyring'!N164","v":0},{"$f":"'Log til risikostyring'!O164","v":0},{"$f":"'Log til risikostyring'!P164","v":0},{"$f":"'Log til risikostyring'!Q164","v":0},{"$f":"'Log til risikostyring'!R164","v":0},{"$f":"'Log til risikostyring'!S164","v":0},{"$f":"'Log til risikostyring'!T164","v":0},{"$f":"'Log til risikostyring'!U164","v":0},{"$f":"'Log til risikostyring'!V164","v":0},0,0,0]
[null,{"$f":"'Log til risikostyring'!B165","v":0},{"$f":"'Log til risikostyring'!C165","v":0},{"$f":"'Log til risikostyring'!D165","v":0},{"$f":"'Log til risikostyring'!E165","v":0},{"$f":"'Log til risikostyring'!F165","v":0},{"$f":"'Log til risikostyring'!G165","v":0},{"$f":"'Log til risikostyring'!H165","v":0},{"$f":"'Log til risikostyring'!I165","v":0},{"$f":"'Log til risikostyring'!J165","v":0},{"$f":"'Log til risikostyring'!K165","v":0},{"$f":"'Log til risikostyring'!L165","v":0},{"$f":"'Log til risikostyring'!M165","v":0},{"$f":"'Log til risikostyring'!N165","v":0},{"$f":"'Log til risikostyring'!O165","v":0},{"$f":"'Log til risikostyring'!P165","v":0},{"$f":"'Log til risikostyring'!Q165","v":0},{"$f":"'Log til risikostyring'!R165","v":0},{"$f":"'Log til risikostyring'!S165","v":0},{"$f":"'Log til risikostyring'!T165","v":0},{"$f":"'Log til risikostyring'!U165","v":0},{"$f":"'Log til risikostyring'!V165","v":0},0,0,0]
[null,{"$f":"'Log til risikostyring'!B166","v":0},{"$f":"'Log til risikostyring'!C166","v":0},{"$f":"'Log til risikostyring'!D166","v":0},{"$f":"'Log til risikostyring'!E166","v":0},{"$f":"'Log til risikostyring'!F166","v":0},{"$f":"'Log til risikostyring'!G166","v":0},{"$f":"'Log til risikostyring'!H166","v":0},{"$f":"'Log til risikostyring'!I166","v":0},{"$f":"'Log til risikostyring'!J166","v":0},{"$f":"'Log til risikostyring'!K166","v":0},{"$f":"'Log til risikostyring'!L166","v":0},{"$f":"'Log til risikostyring'!M166","v":0},{"$f":"'Log til risikostyring'!N166","v":0},{"$f":"'Log til risikostyring'!O166","v":0},{"$f":"'Log til risikostyring'!P166","v":0},{"$f":"'Log til risikostyring'!Q166","v":0},{"$f":"'Log til risikostyring'!R166","v":0},{"$f":"'Log til risikostyring'!S166","v":0},{"$f":"'Log til risikostyring'!T166","v":0},{"$f":"'Log til risikostyring'!U166","v":0},{"$f":"'Log til risikostyring'!V166","v":0},0,0,0]
[null,{"$f":"'Log til risikostyring'!B167","v":0},{"$f":"'Log til risikostyring'!C167","v":0},{"$f":"'Log til risikostyring'!D167","v":0},{"$f":"'Log til risikostyring'!E167","v":0},{"$f":"'Log til risikostyring'!F167","v":0},{"$f":"'Log til risikostyring'!G167","v":0},{"$f":"'Log til risikostyring'!H167","v":0},{"$f":"'Log til risikostyring'!I167","v":0},{"$f":"'Log til risikostyring'!J167","v":0},{"$f":"'Log til risikostyring'!K167","v":0},{"$f":"'Log til risikostyring'!L167","v":0},{"$f":"'Log til risikostyring'!M167","v":0},{"$f":"'Log til risikostyring'!N167","v":0},{"$f":"'Log til risikostyring'!O167","v":0},{"$f":"'Log til risikostyring'!P167","v":0},{"$f":"'Log til risikostyring'!Q167","v":0},{"$f":"'Log til risikostyring'!R167","v":0},{"$f":"'Log til risikostyring'!S167","v":0},{"$f":"'Log til risikostyring'!T167","v":0},{"$f":"'Log til risikostyring'!U167","v":0},{"$f":"'Log til risikostyring'!V167","v":0},0,0,0]
[null,{"$f":"'Log til risikostyring'!B168","v":0},{"$f":"'Log til risikostyring'!C168","v":0},{"$f":"'Log til risikostyring'!D168","v":0},{"$f":"'Log til risikostyring'!E168","v":0},{"$f":"'Log til risikostyring'!F168","v":0},{"$f":"'Log til risikostyring'!G168","v":0},{"$f":"'Log til risikostyring'!H168","v":0},{"$f":"'Log til risikostyring'!I168","v":0},{"$f":"'Log til risikostyring'!J168","v":0},{"$f":"'Log til risikostyring'!K168","v":0},{"$f":"'Log til risikostyring'!L168","v":0},{"$f":"'Log til risikostyring'!M168","v":0},{"$f":"'Log til risikostyring'!N168","v":0},{"$f":"'Log til risikostyring'!O168","v":0},{"$f":"'Log til risikostyring'!P168","v":0},{"$f":"'Log til risikostyring'!Q168","v":0},{"$f":"'Log til risikostyring'!R168","v":0},{"$f":"'Log til risikostyring'!S168","v":0},{"$f":"'Log til risikostyring'!T168","v":0},{"$f":"'Log til risikostyring'!U168","v":0},{"$f":"'Log til risikostyring'!V168","v":0},0,0,0]
[null,{"$f":"'Log til risikostyring'!B169","v":0},{"$f":"'Log til risikostyring'!C169","v":0},{"$f":"'Log til risikostyring'!D169","v":0},{"$f":"'Log til risikostyring'!E169","v":0},{"$f":"'Log til risikostyring'!F169","v":0},{"$f":"'Log til risikostyring'!G169","v":0},{"$f":"'Log til risikostyring'!H169","v":0},{"$f":"'Log til risikostyring'!I169","v":0},{"$f":"'Log til risikostyring'!J169","v":0},{"$f":"'Log til risikostyring'!K169","v":0},{"$f":"'Log til risikostyring'!L169","v":0},{"$f":"'Log til risikostyring'!M169","v":0},{"$f":"'Log til risikostyring'!N169","v":0},{"$f":"'Log til risikostyring'!O169","v":0},{"$f":"'Log til risikostyring'!P169","v":0},{"$f":"'Log til risikostyring'!Q169","v":0},{"$f":"'Log til risikostyring'!R169","v":0},{"$f":"'Log til risikostyring'!S169","v":0},{"$f":"'Log til risikostyring'!T169","v":0},{"$f":"'Log til risikostyring'!U169","v":0},{"$f":"'Log til risikostyring'!V169","v":0},0,0,0]
[null,{"$f":"'Log til risikostyring'!B170","v":0},{"$f":"'Log til risikostyring'!C170","v":0},{"$f":"'Log til risikostyring'!D170","v":0},{"$f":"'Log til risikostyring'!E170","v":0},{"$f":"'Log til risikostyring'!F170","v":0},{"$f":"'Log til risikostyring'!G170","v":0},{"$f":"'Log til risikostyring'!H170","v":0},{"$f":"'Log til risikostyring'!I170","v":0},{"$f":"'Log til risikostyring'!J170","v":0},{"$f":"'Log til risikostyring'!K170","v":0},{"$f":"'Log til risikostyring'!L170","v":0},{"$f":"'Log til risikostyring'!M170","v":0},{"$f":"'Log til risikostyring'!N170","v":0},{"$f":"'Log til risikostyring'!O170","v":0},{"$f":"'Log til risikostyring'!P170","v":0},{"$f":"'Log til risikostyring'!Q170","v":0},{"$f":"'Log til risikostyring'!R170","v":0},{"$f":"'Log til risikostyring'!S170","v":0},{"$f":"'Log til risikostyring'!T170","v":0},{"$f":"'Log til risikostyring'!U170","v":0},{"$f":"'Log til risikostyring'!V170","v":0},0,0,0]
[null,{"$f":"'Log til risikostyring'!B171","v":0},{"$f":"'Log til risikostyring'!C171","v":0},{"$f":"'Log til risikostyring'!D171","v":0},{"$f":"'Log til risikostyring'!E171","v":0},{"$f":"'Log til risikostyring'!F171","v":0},{"$f":"'Log til risikostyring'!G171","v":0},{"$f":"'Log til risikostyring'!H171","v":0},{"$f":"'Log til risikostyring'!I171","v":0},{"$f":"'Log til risikostyring'!J171","v":0},{"$f":"'Log til risikostyring'!K171","v":0},{"$f":"'Log til risikostyring'!L171","v":0},{"$f":"'Log til risikostyring'!M171","v":0},{"$f":"'Log til risikostyring'!N171","v":0},{"$f":"'Log til risikostyring'!O171","v":0},{"$f":"'Log til risikostyring'!P171","v":0},{"$f":"'Log til risikostyring'!Q171","v":0},{"$f":"'Log til risikostyring'!R171","v":0},{"$f":"'Log til risikostyring'!S171","v":0},{"$f":"'Log til risikostyring'!T171","v":0},{"$f":"'Log til risikostyring'!U171","v":0},{"$f":"'Log til risikostyring'!V171","v":0},0,0,0]
[null,{"$f":"'Log til risikostyring'!B172","v":0},{"$f":"'Log til risikostyring'!C172","v":0},{"$f":"'Log til risikostyring'!D172","v":0},{"$f":"'Log til risikostyring'!E172","v":0},{"$f":"'Log til risikostyring'!F172","v":0},{"$f":"'Log til risikostyring'!G172","v":0},{"$f":"'Log til risikostyring'!H172","v":0},{"$f":"'Log til risikostyring'!I172","v":0},{"$f":"'Log til risikostyring'!J172","v":0},{"$f":"'Log til risikostyring'!K172","v":0},{"$f":"'Log til risikostyring'!L172","v":0},{"$f":"'Log til risikostyring'!M172","v":0},{"$f":"'Log til risikostyring'!N172","v":0},{"$f":"'Log til risikostyring'!O172","v":0},{"$f":"'Log til risikostyring'!P172","v":0},{"$f":"'Log til risikostyring'!Q172","v":0},{"$f":"'Log til risikostyring'!R172","v":0},{"$f":"'Log til risikostyring'!S172","v":0},{"$f":"'Log til risikostyring'!T172","v":0},{"$f":"'Log til risikostyring'!U172","v":0},{"$f":"'Log til risikostyring'!V172","v":0},0,0,0]
[null,{"$f":"'Log til risikostyring'!B173","v":0},{"$f":"'Log til risikostyring'!C173","v":0},{"$f":"'Log til risikostyring'!D173","v":0},{"$f":"'Log til risikostyring'!E173","v":0},{"$f":"'Log til risikostyring'!F173","v":0},{"$f":"'Log til risikostyring'!G173","v":0},{"$f":"'Log til risikostyring'!H173","v":0},{"$f":"'Log til risikostyring'!I173","v":0},{"$f":"'Log til risikostyring'!J173","v":0},{"$f":"'Log til risikostyring'!K173","v":0},{"$f":"'Log til risikostyring'!L173","v":0},{"$f":"'Log til risikostyring'!M173","v":0},{"$f":"'Log til risikostyring'!N173","v":0},{"$f":"'Log til risikostyring'!O173","v":0},{"$f":"'Log til risikostyring'!P173","v":0},{"$f":"'Log til risikostyring'!Q173","v":0},{"$f":"'Log til risikostyring'!R173","v":0},{"$f":"'Log til risikostyring'!S173","v":0},{"$f":"'Log til risikostyring'!T173","v":0},{"$f":"'Log til risikostyring'!U173","v":0},{"$f":"'Log til risikostyring'!V173","v":0},0,0,0]
[null,{"$f":"'Log til risikostyring'!B174","v":0},{"$f":"'Log til risikostyring'!C174","v":0},{"$f":"'Log til risikostyring'!D174","v":0},{"$f":"'Log til risikostyring'!E174","v":0},{"$f":"'Log til risikostyring'!F174","v":0},{"$f":"'Log til risikostyring'!G174","v":0},{"$f":"'Log til risikostyring'!H174","v":0},{"$f":"'Log til risikostyring'!I174","v":0},{"$f":"'Log til risikostyring'!J174","v":0},{"$f":"'Log til risikostyring'!K174","v":0},{"$f":"'Log til risikostyring'!L174","v":0},{"$f":"'Log til risikostyring'!M174","v":0},{"$f":"'Log til risikostyring'!N174","v":0},{"$f":"'Log til risikostyring'!O174","v":0},{"$f":"'Log til risikostyring'!P174","v":0},{"$f":"'Log til risikostyring'!Q174","v":0},{"$f":"'Log til risikostyring'!R174","v":0},{"$f":"'Log til risikostyring'!S174","v":0},{"$f":"'Log til risikostyring'!T174","v":0},{"$f":"'Log til risikostyring'!U174","v":0},{"$f":"'Log til risikostyring'!V174","v":0},0,0,0]
[null,{"$f":"'Log til risikostyring'!B175","v":0},{"$f":"'Log til risikostyring'!C175","v":0},{"$f":"'Log til risikostyring'!D175","v":0},{"$f":"'Log til risikostyring'!E175","v":0},{"$f":"'Log til risikostyring'!F175","v":0},{"$f":"'Log til risikostyring'!G175","v":0},{"$f":"'Log til risikostyring'!H175","v":0},{"$f":"'Log til risikostyring'!I175","v":0},{"$f":"'Log til risikostyring'!J175","v":0},{"$f":"'Log til risikostyring'!K175","v":0},{"$f":"'Log til risikostyring'!L175","v":0},{"$f":"'Log til risikostyring'!M175","v":0},{"$f":"'Log til risikostyring'!N175","v":0},{"$f":"'Log til risikostyring'!O175","v":0},{"$f":"'Log til risikostyring'!P175","v":0},{"$f":"'Log til risikostyring'!Q175","v":0},{"$f":"'Log til risikostyring'!R175","v":0},{"$f":"'Log til risikostyring'!S175","v":0},{"$f":"'Log til risikostyring'!T175","v":0},{"$f":"'Log til risikostyring'!U175","v":0},{"$f":"'Log til risikostyring'!V175","v":0},0,0,0]
[null,{"$f":"'Log til risikostyring'!B176","v":0},{"$f":"'Log til risikostyring'!C176","v":0},{"$f":"'Log til risikostyring'!D176","v":0},{"$f":"'Log til risikostyring'!E176","v":0},{"$f":"'Log til risikostyring'!F176","v":0},{"$f":"'Log til risikostyring'!G176","v":0},{"$f":"'Log til risikostyring'!H176","v":0},{"$f":"'Log til risikostyring'!I176","v":0},{"$f":"'Log til risikostyring'!J176","v":0},{"$f":"'Log til risikostyring'!K176","v":0},{"$f":"'Log til risikostyring'!L176","v":0},{"$f":"'Log til risikostyring'!M176","v":0},{"$f":"'Log til risikostyring'!N176","v":0},{"$f":"'Log til risikostyring'!O176","v":0},{"$f":"'Log til risikostyring'!P176","v":0},{"$f":"'Log til risikostyring'!Q176","v":0},{"$f":"'Log til risikostyring'!R176","v":0},{"$f":"'Log til risikostyring'!S176","v":0},{"$f":"'Log til risikostyring'!T176","v":0},{"$f":"'Log til risikostyring'!U176","v":0},{"$f":"'Log til risikostyring'!V176","v":0},0,0,0]
[null,{"$f":"'Log til risikostyring'!B177","v":0},{"$f":"'Log til risikostyring'!C177","v":0},{"$f":"'Log til risikostyring'!D177","v":0},{"$f":"'Log til risikostyring'!E177","v":0},{"$f":"'Log til risikostyring'!F177","v":0},{"$f":"'Log til risikostyring'!G177","v":0},{"$f":"'Log til risikostyring'!H177","v":0},{"$f":"'Log til risikostyring'!I177","v":0},{"$f":"'Log til risikostyring'!J177","v":0},{"$f":"'Log til risikostyring'!K177","v":0},{"$f":"'Log til risikostyring'!L177","v":0},{"$f":"'Log til risikostyring'!M177","v":0},{"$f":"'Log til risikostyring'!N177","v":0},{"$f":"'Log til risikostyring'!O177","v":0},{"$f":"'Log til risikostyring'!P177","v":0},{"$f":"'Log til risikostyring'!Q177","v":0},{"$f":"'Log til risikostyring'!R177","v":0},{"$f":"'Log til risikostyring'!S177","v":0},{"$f":"'Log til risikostyring'!T177","v":0},{"$f":"'Log til risikostyring'!U177","v":0},{"$f":"'Log til risikostyring'!V177","v":0},0,0,0]
[null,{"$f":"'Log til risikostyring'!B178","v":0},{"$f":"'Log til risikostyring'!C178","v":0},{"$f":"'Log til risikostyring'!D178","v":0},{"$f":"'Log til risikostyring'!E178","v":0},{"$f":"'Log til risikostyring'!F178","v":0},{"$f":"'Log til risikostyring'!G178","v":0},{"$f":"'Log til risikostyring'!H178","v":0},{"$f":"'Log til risikostyring'!I178","v":0},{"$f":"'Log til risikostyring'!J178","v":0},{"$f":"'Log til risikostyring'!K178","v":0},{"$f":"'Log til risikostyring'!L178","v":0},{"$f":"'Log til risikostyring'!M178","v":0},{"$f":"'Log til risikostyring'!N178","v":0},{"$f":"'Log til risikostyring'!O178","v":0},{"$f":"'Log til risikostyring'!P178","v":0},{"$f":"'Log til risikostyring'!Q178","v":0},{"$f":"'Log til risikostyring'!R178","v":0},{"$f":"'Log til risikostyring'!S178","v":0},{"$f":"'Log til risikostyring'!T178","v":0},{"$f":"'Log til risikostyring'!U178","v":0},{"$f":"'Log til risikostyring'!V178","v":0},0,0,0]
[null,{"$f":"'Log til risikostyring'!B179","v":0},{"$f":"'Log til risikostyring'!C179","v":0},{"$f":"'Log til risikostyring'!D179","v":0},{"$f":"'Log til risikostyring'!E179","v":0},{"$f":"'Log til risikostyring'!F179","v":0},{"$f":"'Log til risikostyring'!G179","v":0},{"$f":"'Log til risikostyring'!H179","v":0},{"$f":"'Log til risikostyring'!I179","v":0},{"$f":"'Log til risikostyring'!J179","v":0},{"$f":"'Log til risikostyring'!K179","v":0},{"$f":"'Log til risikostyring'!L179","v":0},{"$f":"'Log til risikostyring'!M179","v":0},{"$f":"'Log til risikostyring'!N179","v":0},{"$f":"'Log til risikostyring'!O179","v":0},{"$f":"'Log til risikostyring'!P179","v":0},{"$f":"'Log til risikostyring'!Q179","v":0},{"$f":"'Log til risikostyring'!R179","v":0},{"$f":"'Log til risikostyring'!S179","v":0},{"$f":"'Log til risikostyring'!T179","v":0},{"$f":"'Log til risikostyring'!U179","v":0},{"$f":"'Log til risikostyring'!V179","v":0},0,0,0]
[null,{"$f":"'Log til risikostyring'!B180","v":0},{"$f":"'Log til risikostyring'!C180","v":0},{"$f":"'Log til risikostyring'!D180","v":0},{"$f":"'Log til risikostyring'!E180","v":0},{"$f":"'Log til risikostyring'!F180","v":0},{"$f":"'Log til risikostyring'!G180","v":0},{"$f":"'Log til risikostyring'!H180","v":0},{"$f":"'Log til risikostyring'!I180","v":0},{"$f":"'Log til risikostyring'!J180","v":0},{"$f":"'Log til risikostyring'!K180","v":0},{"$f":"'Log til risikostyring'!L180","v":0},{"$f":"'Log til risikostyring'!M180","v":0},{"$f":"'Log til risikostyring'!N180","v":0},{"$f":"'Log til risikostyring'!O180","v":0},{"$f":"'Log til risikostyring'!P180","v":0},{"$f":"'Log til risikostyring'!Q180","v":0},{"$f":"'Log til risikostyring'!R180","v":0},{"$f":"'Log til risikostyring'!S180","v":0},{"$f":"'Log til risikostyring'!T180","v":0},{"$f":"'Log til risikostyring'!U180","v":0},{"$f":"'Log til risikostyring'!V180","v":0},0,0,0]
[null,{"$f":"'Log til risikostyring'!B181","v":0},{"$f":"'Log til risikostyring'!C181","v":0},{"$f":"'Log til risikostyring'!D181","v":0},{"$f":"'Log til risikostyring'!E181","v":0},{"$f":"'Log til risikostyring'!F181","v":0},{"$f":"'Log til risikostyring'!G181","v":0},{"$f":"'Log til risikostyring'!H181","v":0},{"$f":"'Log til risikostyring'!I181","v":0},{"$f":"'Log til risikostyring'!J181","v":0},{"$f":"'Log til risikostyring'!K181","v":0},{"$f":"'Log til risikostyring'!L181","v":0},{"$f":"'Log til risikostyring'!M181","v":0},{"$f":"'Log til risikostyring'!N181","v":0},{"$f":"'Log til risikostyring'!O181","v":0},{"$f":"'Log til risikostyring'!P181","v":0},{"$f":"'Log til risikostyring'!Q181","v":0},{"$f":"'Log til risikostyring'!R181","v":0},{"$f":"'Log til risikostyring'!S181","v":0},{"$f":"'Log til risikostyring'!T181","v":0},{"$f":"'Log til risikostyring'!U181","v":0},{"$f":"'Log til risikostyring'!V181","v":0},0,0,0]
[null,{"$f":"'Log til risikostyring'!B182","v":0},{"$f":"'Log til risikostyring'!C182","v":0},{"$f":"'Log til risikostyring'!D182","v":0},{"$f":"'Log til risikostyring'!E182","v":0},{"$f":"'Log til risikostyring'!F182","v":0},{"$f":"'Log til risikostyring'!G182","v":0},{"$f":"'Log til risikostyring'!H182","v":0},{"$f":"'Log til risikostyring'!I182","v":0},{"$f":"'Log til risikostyring'!J182","v":0},{"$f":"'Log til risikostyring'!K182","v":0},{"$f":"'Log til risikostyring'!L182","v":0},{"$f":"'Log til risikostyring'!M182","v":0},{"$f":"'Log til risikostyring'!N182","v":0},{"$f":"'Log til risikostyring'!O182","v":0},{"$f":"'Log til risikostyring'!P182","v":0},{"$f":"'Log til risikostyring'!Q182","v":0},{"$f":"'Log til risikostyring'!R182","v":0},{"$f":"'Log til risikostyring'!S182","v":0},{"$f":"'Log til risikostyring'!T182","v":0},{"$f":"'Log til risikostyring'!U182","v":0},{"$f":"'Log til risikostyring'!V182","v":0},0,0,0]
[null,{"$f":"'Log til risikostyring'!B183","v":0},{"$f":"'Log til risikostyring'!C183","v":0},{"$f":"'Log til risikostyring'!D183","v":0},{"$f":"'Log til risikostyring'!E183","v":0},{"$f":"'Log til risikostyring'!F183","v":0},{"$f":"'Log til risikostyring'!G183","v":0},{"$f":"'Log til risikostyring'!H183","v":0},{"$f":"'Log til risikostyring'!I183","v":0},{"$f":"'Log til risikostyring'!J183","v":0},{"$f":"'Log til risikostyring'!K183","v":0},{"$f":"'Log til risikostyring'!L183","v":0},{"$f":"'Log til risikostyring'!M183","v":0},{"$f":"'Log til risikostyring'!N183","v":0},{"$f":"'Log til risikostyring'!O183","v":0},{"$f":"'Log til risikostyring'!P183","v":0},{"$f":"'Log til risikostyring'!Q183","v":0},{"$f":"'Log til risikostyring'!R183","v":0},{"$f":"'Log til risikostyring'!S183","v":0},{"$f":"'Log til risikostyring'!T183","v":0},{"$f":"'Log til risikostyring'!U183","v":0},{"$f":"'Log til risikostyring'!V183","v":0},0,0,0]
[null,{"$f":"'Log til risikostyring'!B184","v":0},{"$f":"'Log til risikostyring'!C184","v":0},{"$f":"'Log til risikostyring'!D184","v":0},{"$f":"'Log til risikostyring'!E184","v":0},{"$f":"'Log til risikostyring'!F184","v":0},{"$f":"'Log til risikostyring'!G184","v":0},{"$f":"'Log til risikostyring'!H184","v":0},{"$f":"'Log til risikostyring'!I184","v":0},{"$f":"'Log til risikostyring'!J184","v":0},{"$f":"'Log til risikostyring'!K184","v":0},{"$f":"'Log til risikostyring'!L184","v":0},{"$f":"'Log til risikostyring'!M184","v":0},{"$f":"'Log til risikostyring'!N184","v":0},{"$f":"'Log til risikostyring'!O184","v":0},{"$f":"'Log til risikostyring'!P184","v":0},{"$f":"'Log til risikostyring'!Q184","v":0},{"$f":"'Log til risikostyring'!R184","v":0},{"$f":"'Log til risikostyring'!S184","v":0},{"$f":"'Log til risikostyring'!T184","v":0},{"$f":"'Log til risikostyring'!U184","v":0},{"$f":"'Log til risikostyring'!V184","v":0},0,0,0]
[null,{"$f":"'Log til risikostyring'!B185","v":0},{"$f":"'Log til risikostyring'!C185","v":0},{"$f":"'Log til risikostyring'!D185","v":0},{"$f":"'Log til risikostyring'!E185","v":0},{"$f":"'Log til risikostyring'!F185","v":0},{"$f":"'Log til risikostyring'!G185","v":0},{"$f":"'Log til risikostyring'!H185","v":0},{"$f":"'Log til risikostyring'!I185","v":0},{"$f":"'Log til risikostyring'!J185","v":0},{"$f":"'Log til risikostyring'!K185","v":0},{"$f":"'Log til risikostyring'!L185","v":0},{"$f":"'Log til risikostyring'!M185","v":0},{"$f":"'Log til risikostyring'!N185","v":0},{"$f":"'Log til risikostyring'!O185","v":0},{"$f":"'Log til risikostyring'!P185","v":0},{"$f":"'Log til risikostyring'!Q185","v":0},{"$f":"'Log til risikostyring'!R185","v":0},{"$f":"'Log til risikostyring'!S185","v":0},{"$f":"'Log til risikostyring'!T185","v":0},{"$f":"'Log til risikostyring'!U185","v":0},{"$f":"'Log til risikostyring'!V185","v":0},0,0,0]
[null,{"$f":"'Log til risikostyring'!B186","v":0},{"$f":"'Log til risikostyring'!C186","v":0},{"$f":"'Log til risikostyring'!D186","v":0},{"$f":"'Log til risikostyring'!E186","v":0},{"$f":"'Log til risikostyring'!F186","v":0},{"$f":"'Log til risikostyring'!G186","v":0},{"$f":"'Log til risikostyring'!H186","v":0},{"$f":"'Log til risikostyring'!I186","v":0},{"$f":"'Log til risikostyring'!J186","v":0},{"$f":"'Log til risikostyring'!K186","v":0},{"$f":"'Log til risikostyring'!L186","v":0},{"$f":"'Log til risikostyring'!M186","v":0},{"$f":"'Log til risikostyring'!N186","v":0},{"$f":"'Log til risikostyring'!O186","v":0},{"$f":"'Log til risikostyring'!P186","v":0},{"$f":"'Log til risikostyring'!Q186","v":0},{"$f":"'Log til risikostyring'!R186","v":0},{"$f":"'Log til risikostyring'!S186","v":0},{"$f":"'Log til risikostyring'!T186","v":0},{"$f":"'Log til risikostyring'!U186","v":0},{"$f":"'Log til risikostyring'!V186","v":0},0,0,0]
[null,{"$f":"'Log til risikostyring'!B187","v":0},{"$f":"'Log til risikostyring'!C187","v":0},{"$f":"'Log til risikostyring'!D187","v":0},{"$f":"'Log til risikostyring'!E187","v":0},{"$f":"'Log til risikostyring'!F187","v":0},{"$f":"'Log til risikostyring'!G187","v":0},{"$f":"'Log til risikostyring'!H187","v":0},{"$f":"'Log til risikostyring'!I187","v":0},{"$f":"'Log til risikostyring'!J187","v":0},{"$f":"'Log til risikostyring'!K187","v":0},{"$f":"'Log til risikostyring'!L187","v":0},{"$f":"'Log til risikostyring'!M187","v":0},{"$f":"'Log til risikostyring'!N187","v":0},{"$f":"'Log til risikostyring'!O187","v":0},{"$f":"'Log til risikostyring'!P187","v":0},{"$f":"'Log til risikostyring'!Q187","v":0},{"$f":"'Log til risikostyring'!R187","v":0},{"$f":"'Log til risikostyring'!S187","v":0},{"$f":"'Log til risikostyring'!T187","v":0},{"$f":"'Log til risikostyring'!U187","v":0},{"$f":"'Log til risikostyring'!V187","v":0},0,0,0]
[null,{"$f":"'Log til risikostyring'!B188","v":0},{"$f":"'Log til risikostyring'!C188","v":0},{"$f":"'Log til risikostyring'!D188","v":0},{"$f":"'Log til risikostyring'!E188","v":0},{"$f":"'Log til risikostyring'!F188","v":0},{"$f":"'Log til risikostyring'!G188","v":0},{"$f":"'Log til risikostyring'!H188","v":0},{"$f":"'Log til risikostyring'!I188","v":0},{"$f":"'Log til risikostyring'!J188","v":0},{"$f":"'Log til risikostyring'!K188","v":0},{"$f":"'Log til risikostyring'!L188","v":0},{"$f":"'Log til risikostyring'!M188","v":0},{"$f":"'Log til risikostyring'!N188","v":0},{"$f":"'Log til risikostyring'!O188","v":0},{"$f":"'Log til risikostyring'!P188","v":0},{"$f":"'Log til risikostyring'!Q188","v":0},{"$f":"'Log til risikostyring'!R188","v":0},{"$f":"'Log til risikostyring'!S188","v":0},{"$f":"'Log til risikostyring'!T188","v":0},{"$f":"'Log til risikostyring'!U188","v":0},{"$f":"'Log til risikostyring'!V188","v":0},0,0,0]
[null,{"$f":"'Log til risikostyring'!B189","v":0},{"$f":"'Log til risikostyring'!C189","v":0},{"$f":"'Log til risikostyring'!D189","v":0},{"$f":"'Log til risikostyring'!E189","v":0},{"$f":"'Log til risikostyring'!F189","v":0},{"$f":"'Log til risikostyring'!G189","v":0},{"$f":"'Log til risikostyring'!H189","v":0},{"$f":"'Log til risikostyring'!I189","v":0},{"$f":"'Log til risikostyring'!J189","v":0},{"$f":"'Log til risikostyring'!K189","v":0},{"$f":"'Log til risikostyring'!L189","v":0},{"$f":"'Log til risikostyring'!M189","v":0},{"$f":"'Log til risikostyring'!N189","v":0},{"$f":"'Log til risikostyring'!O189","v":0},{"$f":"'Log til risikostyring'!P189","v":0},{"$f":"'Log til risikostyring'!Q189","v":0},{"$f":"'Log til risikostyring'!R189","v":0},{"$f":"'Log til risikostyring'!S189","v":0},{"$f":"'Log til risikostyring'!T189","v":0},{"$f":"'Log til risikostyring'!U189","v":0},{"$f":"'Log til risikostyring'!V189","v":0},0,0,0]
[null,{"$f":"'Log til risikostyring'!B190","v":0},{"$f":"'Log til risikostyring'!C190","v":0},{"$f":"'Log til risikostyring'!D190","v":0},{"$f":"'Log til risikostyring'!E190","v":0},{"$f":"'Log til risikostyring'!F190","v":0},{"$f":"'Log til risikostyring'!G190","v":0},{"$f":"'Log til risikostyring'!H190","v":0},{"$f":"'Log til risikostyring'!I190","v":0},{"$f":"'Log til risikostyring'!J190","v":0},{"$f":"'Log til risikostyring'!K190","v":0},{"$f":"'Log til risikostyring'!L190","v":0},{"$f":"'Log til risikostyring'!M190","v":0},{"$f":"'Log til risikostyring'!N190","v":0},{"$f":"'Log til risikostyring'!O190","v":0},{"$f":"'Log til risikostyring'!P190","v":0},{"$f":"'Log til risikostyring'!Q190","v":0},{"$f":"'Log til risikostyring'!R190","v":0},{"$f":"'Log til risikostyring'!S190","v":0},{"$f":"'Log til risikostyring'!T190","v":0},{"$f":"'Log til risikostyring'!U190","v":0},{"$f":"'Log til risikostyring'!V190","v":0},0,0,0]
[null,{"$f":"'Log til risikostyring'!B191","v":0},{"$f":"'Log til risikostyring'!C191","v":0},{"$f":"'Log til risikostyring'!D191","v":0},{"$f":"'Log til risikostyring'!E191","v":0},{"$f":"'Log til risikostyring'!F191","v":0},{"$f":"'Log til risikostyring'!G191","v":0},{"$f":"'Log til risikostyring'!H191","v":0},{"$f":"'Log til risikostyring'!I191","v":0},{"$f":"'Log til risikostyring'!J191","v":0},{"$f":"'Log til risikostyring'!K191","v":0},{"$f":"'Log til risikostyring'!L191","v":0},{"$f":"'Log til risikostyring'!M191","v":0},{"$f":"'Log til risikostyring'!N191","v":0},{"$f":"'Log til risikostyring'!O191","v":0},{"$f":"'Log til risikostyring'!P191","v":0},{"$f":"'Log til risikostyring'!Q191","v":0},{"$f":"'Log til risikostyring'!R191","v":0},{"$f":"'Log til risikostyring'!S191","v":0},{"$f":"'Log til risikostyring'!T191","v":0},{"$f":"'Log til risikostyring'!U191","v":0},{"$f":"'Log til risikostyring'!V191","v":0},0,0,0]
[null,{"$f":"'Log til risikostyring'!B192","v":0},{"$f":"'Log til risikostyring'!C192","v":0},{"$f":"'Log til risikostyring'!D192","v":0},{"$f":"'Log til risikostyring'!E192","v":0},{"$f":"'Log til risikostyring'!F192","v":0},{"$f":"'Log til risikostyring'!G192","v":0},{"$f":"'Log til risikostyring'!H192","v":0},{"$f":"'Log til risikostyring'!I192","v":0},{"$f":"'Log til risikostyring'!J192","v":0},{"$f":"'Log til risikostyring'!K192","v":0},{"$f":"'Log til risikostyring'!L192","v":0},{"$f":"'Log til risikostyring'!M192","v":0},{"$f":"'Log til risikostyring'!N192","v":0},{"$f":"'Log til risikostyring'!O192","v":0},{"$f":"'Log til risikostyring'!P192","v":0},{"$f":"'Log til risikostyring'!Q192","v":0},{"$f":"'Log til risikostyring'!R192","v":0},{"$f":"'Log til risikostyring'!S192","v":0},{"$f":"'Log til risikostyring'!T192","v":0},{"$f":"'Log til risikostyring'!U192","v":0},{"$f":"'Log til risikostyring'!V192","v":0},0,0,0]
[null,{"$f":"'Log til risikostyring'!B193","v":0},{"$f":"'Log til risikostyring'!C193","v":0},{"$f":"'Log til risikostyring'!D193","v":0},{"$f":"'Log til risikostyring'!E193","v":0},{"$f":"'Log til risikostyring'!F193","v":0},{"$f":"'Log til risikostyring'!G193","v":0},{"$f":"'Log til risikostyring'!H193","v":0},{"$f":"'Log til risikostyring'!I193","v":0},{"$f":"'Log til risikostyring'!J193","v":0},{"$f":"'Log til risikostyring'!K193","v":0},{"$f":"'Log til risikostyring'!L193","v":0},{"$f":"'Log til risikostyring'!M193","v":0},{"$f":"'Log til risikostyring'!N193","v":0},{"$f":"'Log til risikostyring'!O193","v":0},{"$f":"'Log til risikostyring'!P193","v":0},{"$f":"'Log til risikostyring'!Q193","v":0},{"$f":"'Log til risikostyring'!R193","v":0},{"$f":"'Log til risikostyring'!S193","v":0},{"$f":"'Log til risikostyring'!T193","v":0},{"$f":"'Log til risikostyring'!U193","v":0},{"$f":"'Log til risikostyring'!V193","v":0},0,0,0]
[null,{"$f":"'Log til risikostyring'!B194","v":0},{"$f":"'Log til risikostyring'!C194","v":0},{"$f":"'Log til risikostyring'!D194","v":0},{"$f":"'Log til risikostyring'!E194","v":0},{"$f":"'Log til risikostyring'!F194","v":0},{"$f":"'Log til risikostyring'!G194","v":0},{"$f":"'Log til risikostyring'!H194","v":0},{"$f":"'Log til risikostyring'!I194","v":0},{"$f":"'Log til risikostyring'!J194","v":0},{"$f":"'Log til risikostyring'!K194","v":0},{"$f":"'Log til risikostyring'!L194","v":0},{"$f":"'Log til risikostyring'!M194","v":0},{"$f":"'Log til risikostyring'!N194","v":0},{"$f":"'Log til risikostyring'!O194","v":0},{"$f":"'Log til risikostyring'!P194","v":0},{"$f":"'Log til risikostyring'!Q194","v":0},{"$f":"'Log til risikostyring'!R194","v":0},{"$f":"'Log til risikostyring'!S194","v":0},{"$f":"'Log til risikostyring'!T194","v":0},{"$f":"'Log til risikostyring'!U194","v":0},{"$f":"'Log til risikostyring'!V194","v":0},0,0,0]
[null,{"$f":"'Log til risikostyring'!B195","v":0},{"$f":"'Log til risikostyring'!C195","v":0},{"$f":"'Log til risikostyring'!D195","v":0},{"$f":"'Log til risikostyring'!E195","v":0},{"$f":"'Log til risikostyring'!F195","v":0},{"$f":"'Log til risikostyring'!G195","v":0},{"$f":"'Log til risikostyring'!H195","v":0},{"$f":"'Log til risikostyring'!I195","v":0},{"$f":"'Log til risikostyring'!J195","v":0},{"$f":"'Log til risikostyring'!K195","v":0},{"$f":"'Log til risikostyring'!L195","v":0},{"$f":"'Log til risikostyring'!M195","v":0},{"$f":"'Log til risikostyring'!N195","v":0},{"$f":"'Log til risikostyring'!O195","v":0},{"$f":"'Log til risikostyring'!P195","v":0},{"$f":"'Log til risikostyring'!Q195","v":0},{"$f":"'Log til risikostyring'!R195","v":0},{"$f":"'Log til risikostyring'!S195","v":0},{"$f":"'Log til risikostyring'!T195","v":0},{"$f":"'Log til risikostyring'!U195","v":0},{"$f":"'Log til risikostyring'!V195","v":0},0,0,0]
[null,{"$f":"'Log til risikostyring'!B196","v":0},{"$f":"'Log til risikostyring'!C196","v":0},{"$f":"'Log til risikostyring'!D196","v":0},{"$f":"'Log til risikostyring'!E196","v":0},{"$f":"'Log til risikostyring'!F196","v":0},{"$f":"'Log til risikostyring'!G196","v":0},{"$f":"'Log til risikostyring'!H196","v":0},{"$f":"'Log til risikostyring'!I196","v":0},{"$f":"'Log til risikostyring'!J196","v":0},{"$f":"'Log til risikostyring'!K196","v":0},{"$f":"'Log til risikostyring'!L196","v":0},{"$f":"'Log til risikostyring'!M196","v":0},{"$f":"'Log til risikostyring'!N196","v":0},{"$f":"'Log til risikostyring'!O196","v":0},{"$f":"'Log til risikostyring'!P196","v":0},{"$f":"'Log til risikostyring'!Q196","v":0},{"$f":"'Log til risikostyring'!R196","v":0},{"$f":"'Log til risikostyring'!S196","v":0},{"$f":"'Log til risikostyring'!T196","v":0},{"$f":"'Log til risikostyring'!U196","v":0},{"$f":"'Log til risikostyring'!V196","v":0},0,0,0]
[null,{"$f":"'Log til risikostyring'!B197","v":0},{"$f":"'Log til risikostyring'!C197","v":0},{"$f":"'Log til risikostyring'!D197","v":0},{"$f":"'Log til risikostyring'!E197","v":0},{"$f":"'Log til risikostyring'!F197","v":0},{"$f":"'Log til risikostyring'!G197","v":0},{"$f":"'Log til risikostyring'!H197","v":0},{"$f":"'Log til risikostyring'!I197","v":0},{"$f":"'Log til risikostyring'!J197","v":0},{"$f":"'Log til risikostyring'!K197","v":0},{"$f":"'Log til risikostyring'!L197","v":0},{"$f":"'Log til risikostyring'!M197","v":0},{"$f":"'Log til risikostyring'!N197","v":0},{"$f":"'Log til risikostyring'!O197","v":0},{"$f":"'Log til risikostyring'!P197","v":0},{"$f":"'Log til risikostyring'!Q197","v":0},{"$f":"'Log til risikostyring'!R197","v":0},{"$f":"'Log til risikostyring'!S197","v":0},{"$f":"'Log til risikostyring'!T197","v":0},{"$f":"'Log til risikostyring'!U197","v":0},{"$f":"'Log til risikostyring'!V197","v":0},0,0,0]
[null,{"$f":"'Log til risikostyring'!B198","v":0},{"$f":"'Log til risikostyring'!C198","v":0},{"$f":"'Log til risikostyring'!D198","v":0},{"$f":"'Log til risikostyring'!E198","v":0},{"$f":"'Log til risikostyring'!F198","v":0},{"$f":"'Log til risikostyring'!G198","v":0},{"$f":"'Log til risikostyring'!H198","v":0},{"$f":"'Log til risikostyring'!I198","v":0},{"$f":"'Log til risikostyring'!J198","v":0},{"$f":"'Log til risikostyring'!K198","v":0},{"$f":"'Log til risikostyring'!L198","v":0},{"$f":"'Log til risikostyring'!M198","v":0},{"$f":"'Log til risikostyring'!N198","v":0},{"$f":"'Log til risikostyring'!O198","v":0},{"$f":"'Log til risikostyring'!P198","v":0},{"$f":"'Log til risikostyring'!Q198","v":0},{"$f":"'Log til risikostyring'!R198","v":0},{"$f":"'Log til risikostyring'!S198","v":0},{"$f":"'Log til risikostyring'!T198","v":0},{"$f":"'Log til risikostyring'!U198","v":0},{"$f":"'Log til risikostyring'!V198","v":0},0,0,0]
[null,{"$f":"'Log til risikostyring'!B199","v":0},{"$f":"'Log til risikostyring'!C199","v":0},{"$f":"'Log til risikostyring'!D199","v":0},{"$f":"'Log til risikostyring'!E199","v":0},{"$f":"'Log til risikostyring'!F199","v":0},{"$f":"'Log til risikostyring'!G199","v":0},{"$f":"'Log til risikostyring'!H199","v":0},{"$f":"'Log til risikostyring'!I199","v":0},{"$f":"'Log til risikostyring'!J199","v":0},{"$f":"'Log til risikostyring'!K199","v":0},{"$f":"'Log til risikostyring'!L199","v":0},{"$f":"'Log til risikostyring'!M199","v":0},{"$f":"'Log til risikostyring'!N199","v":0},{"$f":"'Log til risikostyring'!O199","v":0},{"$f":"'Log til risikostyring'!P199","v":0},{"$f":"'Log til risikostyring'!Q199","v":0},{"$f":"'Log til risikostyring'!R199","v":0},{"$f":"'Log til risikostyring'!S199","v":0},{"$f":"'Log til risikostyring'!T199","v":0},{"$f":"'Log til risikostyring'!U199","v":0},{"$f":"'Log til risikostyring'!V199","v":0},0,0,0]
[null,{"$f":"'Log til risikostyring'!B200","v":0},{"$f":"'Log til risikostyring'!C200","v":0},{"$f":"'Log til risikostyring'!D200","v":0},{"$f":"'Log til risikostyring'!E200","v":0},{"$f":"'Log til risikostyring'!F200","v":0},{"$f":"'Log til risikostyring'!G200","v":0},{"$f":"'Log til risikostyring'!H200","v":0},{"$f":"'Log til risikostyring'!I200","v":0},{"$f":"'Log til risikostyring'!J200","v":0},{"$f":"'Log til risikostyring'!K200","v":0},{"$f":"'Log til risikostyring'!L200","v":0},{"$f":"'Log til risikostyring'!M200","v":0},{"$f":"'Log til risikostyring'!N200","v":0},{"$f":"'Log til risikostyring'!O200","v":0},{"$f":"'Log til risikostyring'!P200","v":0},{"$f":"'Log til risikostyring'!Q200","v":0},{"$f":"'Log til risikostyring'!R200","v":0},{"$f":"'Log til risikostyring'!S200","v":0},{"$f":"'Log til risikostyring'!T200","v":0},{"$f":"'Log til risikostyring'!U200","v":0},{"$f":"'Log til risikostyring'!V200","v":0},0,0,0]
[null,{"$f":"'Log til risikostyring'!B201","v":0},{"$f":"'Log til risikostyring'!C201","v":0},{"$f":"'Log til risikostyring'!D201","v":0},{"$f":"'Log til risikostyring'!E201","v":0},{"$f":"'Log til risikostyring'!F201","v":0},{"$f":"'Log til risikostyring'!G201","v":0},{"$f":"'Log til risikostyring'!H201","v":0},{"$f":"'Log til risikostyring'!I201","v":0},{"$f":"'Log til risikostyring'!J201","v":0},{"$f":"'Log til risikostyring'!K201","v":0},{"$f":"'Log til risikostyring'!L201","v":0},{"$f":"'Log til risikostyring'!M201","v":0},{"$f":"'Log til risikostyring'!N201","v":0},{"$f":"'Log til risikostyring'!O201","v":0},{"$f":"'Log til risikostyring'!P201","v":0},{"$f":"'Log til risikostyring'!Q201","v":0},{"$f":"'Log til risikostyring'!R201","v":0},{"$f":"'Log til risikostyring'!S201","v":0},{"$f":"'Log til risikostyring'!T201","v":0},{"$f":"'Log til risikostyring'!U201","v":0},{"$f":"'Log til risikostyring'!V201","v":0},{"$f":"IF(K197>15,1,0)","v":0},{"$f":"IF(AND(K197<16,K197>4),1,0)","v":0},{"$f":"IF(AND(K197<5,K197>0),1,0)","v":0}]
[null,{"$f":"'Log til risikostyring'!B202","v":0},{"$f":"'Log til risikostyring'!C202","v":0},{"$f":"'Log til risikostyring'!D202","v":0},{"$f":"'Log til risikostyring'!E202","v":0},{"$f":"'Log til risikostyring'!F202","v":0},{"$f":"'Log til risikostyring'!G202","v":0},{"$f":"'Log til risikostyring'!H202","v":0},{"$f":"'Log til risikostyring'!I202","v":0},{"$f":"'Log til risikostyring'!J202","v":0},{"$f":"'Log til risikostyring'!K202","v":0},{"$f":"'Log til risikostyring'!L202","v":0},{"$f":"'Log til risikostyring'!M202","v":0},{"$f":"'Log til risikostyring'!N202","v":0},{"$f":"'Log til risikostyring'!O202","v":0},{"$f":"'Log til risikostyring'!P202","v":0},{"$f":"'Log til risikostyring'!Q202","v":0},{"$f":"'Log til risikostyring'!R202","v":0},{"$f":"'Log til risikostyring'!S202","v":0},{"$f":"'Log til risikostyring'!T202","v":0},{"$f":"'Log til risikostyring'!U202","v":0},{"$f":"'Log til risikostyring'!V202","v":0},0,0,0]
[null,{"$f":"'Log til risikostyring'!B203","v":0},{"$f":"'Log til risikostyring'!C203","v":0},{"$f":"'Log til risikostyring'!D203","v":0},{"$f":"'Log til risikostyring'!E203","v":0},{"$f":"'Log til risikostyring'!F203","v":0},{"$f":"'Log til risikostyring'!G203","v":0},{"$f":"'Log til risikostyring'!H203","v":0},{"$f":"'Log til risikostyring'!I203","v":0},{"$f":"'Log til risikostyring'!J203","v":0},{"$f":"'Log til risikostyring'!K203","v":0},{"$f":"'Log til risikostyring'!L203","v":0},{"$f":"'Log til risikostyring'!M203","v":0},{"$f":"'Log til risikostyring'!N203","v":0},{"$f":"'Log til risikostyring'!O203","v":0},{"$f":"'Log til risikostyring'!P203","v":0},{"$f":"'Log til risikostyring'!Q203","v":0},{"$f":"'Log til risikostyring'!R203","v":0},{"$f":"'Log til risikostyring'!S203","v":0},{"$f":"'Log til risikostyring'!T203","v":0},{"$f":"'Log til risikostyring'!U203","v":0},{"$f":"'Log til risikostyring'!V203","v":0},0,0,0]
[null,{"$f":"'Log til risikostyring'!B204","v":0},{"$f":"'Log til risikostyring'!C204","v":0},{"$f":"'Log til risikostyring'!D204","v":0},{"$f":"'Log til risikostyring'!E204","v":0},{"$f":"'Log til risikostyring'!F204","v":0},{"$f":"'Log til risikostyring'!G204","v":0},{"$f":"'Log til risikostyring'!H204","v":0},{"$f":"'Log til risikostyring'!I204","v":0},{"$f":"'Log til risikostyring'!J204","v":0},{"$f":"'Log til risikostyring'!K204","v":0},{"$f":"'Log til risikostyring'!L204","v":0},{"$f":"'Log til risikostyring'!M204","v":0},{"$f":"'Log til risikostyring'!N204","v":0},{"$f":"'Log til risikostyring'!O204","v":0},{"$f":"'Log til risikostyring'!P204","v":0},{"$f":"'Log til risikostyring'!Q204","v":0},{"$f":"'Log til risikostyring'!R204","v":0},{"$f":"'Log til risikostyring'!S204","v":0},{"$f":"'Log til risikostyring'!T204","v":0},{"$f":"'Log til risikostyring'!U204","v":0},{"$f":"'Log til risikostyring'!V204","v":0},0,0,0]
[null,{"$f":"'Log til risikostyring'!B205","v":0},{"$f":"'Log til risikostyring'!C205","v":0},{"$f":"'Log til risikostyring'!D205","v":0},{"$f":"'Log til risikostyring'!E205","v":0},{"$f":"'Log til risikostyring'!F205","v":0},{"$f":"'Log til risikostyring'!G205","v":0},{"$f":"'Log til risikostyring'!H205","v":0},{"$f":"'Log til risikostyring'!I205","v":0},{"$f":"'Log til risikostyring'!J205","v":0},{"$f":"'Log til risikostyring'!K205","v":0},{"$f":"'Log til risikostyring'!L205","v":0},{"$f":"'Log til risikostyring'!M205","v":0},{"$f":"'Log til risikostyring'!N205","v":0},{"$f":"'Log til risikostyring'!O205","v":0},{"$f":"'Log til risikostyring'!P205","v":0},{"$f":"'Log til risikostyring'!Q205","v":0},{"$f":"'Log til risikostyring'!R205","v":0},{"$f":"'Log til risikostyring'!S205","v":0},{"$f":"'Log til risikostyring'!T205","v":0},{"$f":"'Log til risikostyring'!U205","v":0},{"$f":"'Log til risikostyring'!V205","v":0},0,0,0]
[null,{"$f":"'Log til risikostyring'!B206","v":0},{"$f":"'Log til risikostyring'!C206","v":0},{"$f":"'Log til risikostyring'!D206","v":0},{"$f":"'Log til risikostyring'!E206","v":0},{"$f":"'Log til risikostyring'!F206","v":0},{"$f":"'Log til risikostyring'!G206","v":0},{"$f":"'Log til risikostyring'!H206","v":0},{"$f":"'Log til risikostyring'!I206","v":0},{"$f":"'Log til risikostyring'!J206","v":0},{"$f":"'Log til risikostyring'!K206","v":0},{"$f":"'Log til risikostyring'!L206","v":0},{"$f":"'Log til risikostyring'!M206","v":0},{"$f":"'Log til risikostyring'!N206","v":0},{"$f":"'Log til risikostyring'!O206","v":0},{"$f":"'Log til risikostyring'!P206","v":0},{"$f":"'Log til risikostyring'!Q206","v":0},{"$f":"'Log til risikostyring'!R206","v":0},{"$f":"'Log til risikostyring'!S206","v":0},{"$f":"'Log til risikostyring'!T206","v":0},{"$f":"'Log til risikostyring'!U206","v":0},{"$f":"'Log til risikostyring'!V206","v":0},0,0,0]
[null,{"$f":"'Log til risikostyring'!B207","v":0},{"$f":"'Log til risikostyring'!C207","v":0},{"$f":"'Log til risikostyring'!D207","v":0},{"$f":"'Log til risikostyring'!E207","v":0},{"$f":"'Log til risikostyring'!F207","v":0},{"$f":"'Log til risikostyring'!G207","v":0},{"$f":"'Log til risikostyring'!H207","v":0},{"$f":"'Log til risikostyring'!I207","v":0},{"$f":"'Log til risikostyring'!J207","v":0},{"$f":"'Log til risikostyring'!K207","v":0},{"$f":"'Log til risikostyring'!L207","v":0},{"$f":"'Log til risikostyring'!M207","v":0},{"$f":"'Log til risikostyring'!N207","v":0},{"$f":"'Log til risikostyring'!O207","v":0},{"$f":"'Log til risikostyring'!P207","v":0},{"$f":"'Log til risikostyring'!Q207","v":0},{"$f":"'Log til risikostyring'!R207","v":0},{"$f":"'Log til risikostyring'!S207","v":0},{"$f":"'Log til risikostyring'!T207","v":0},{"$f":"'Log til risikostyring'!U207","v":0},{"$f":"'Log til risikostyring'!V207","v":0},0,0,0]
[null,{"$f":"'Log til risikostyring'!B208","v":0},{"$f":"'Log til risikostyring'!C208","v":0},{"$f":"'Log til risikostyring'!D208","v":0},{"$f":"'Log til risikostyring'!E208","v":0},{"$f":"'Log til risikostyring'!F208","v":0},{"$f":"'Log til risikostyring'!G208","v":0},{"$f":"'Log til risikostyring'!H208","v":0},{"$f":"'Log til risikostyring'!I208","v":0},{"$f":"'Log til risikostyring'!J208","v":0},{"$f":"'Log til risikostyring'!K208","v":0},{"$f":"'Log til risikostyring'!L208","v":0},{"$f":"'Log til risikostyring'!M208","v":0},{"$f":"'Log til risikostyring'!N208","v":0},{"$f":"'Log til risikostyring'!O208","v":0},{"$f":"'Log til risikostyring'!P208","v":0},{"$f":"'Log til risikostyring'!Q208","v":0},{"$f":"'Log til risikostyring'!R208","v":0},{"$f":"'Log til risikostyring'!S208","v":0},{"$f":"'Log til risikostyring'!T208","v":0},{"$f":"'Log til risikostyring'!U208","v":0},{"$f":"'Log til risikostyring'!V208","v":0},0,0,0]
[null,{"$f":"'Log til risikostyring'!B209","v":0},{"$f":"'Log til risikostyring'!C209","v":0},{"$f":"'Log til risikostyring'!D209","v":0},{"$f":"'Log til risikostyring'!E209","v":0},{"$f":"'Log til risikostyring'!F209","v":0},{"$f":"'Log til risikostyring'!G209","v":0},{"$f":"'Log til risikostyring'!H209","v":0},{"$f":"'Log til risikostyring'!I209","v":0},{"$f":"'Log til risikostyring'!J209","v":0},{"$f":"'Log til risikostyring'!K209","v":0},{"$f":"'Log til risikostyring'!L209","v":0},{"$f":"'Log til risikostyring'!M209","v":0},{"$f":"'Log til risikostyring'!N209","v":0},{"$f":"'Log til risikostyring'!O209","v":0},{"$f":"'Log til risikostyring'!P209","v":0},{"$f":"'Log til risikostyring'!Q209","v":0},{"$f":"'Log til risikostyring'!R209","v":0},{"$f":"'Log til risikostyring'!S209","v":0},{"$f":"'Log til risikostyring'!T209","v":0},{"$f":"'Log til risikostyring'!U209","v":0},{"$f":"'Log til risikostyring'!V209","v":0},0,0,0]
[null,{"$f":"'Log til risikostyring'!B210","v":0},{"$f":"'Log til risikostyring'!C210","v":0},{"$f":"'Log til risikostyring'!D210","v":0},{"$f":"'Log til risikostyring'!E210","v":0},{"$f":"'Log til risikostyring'!F210","v":0},{"$f":"'Log til risikostyring'!G210","v":0},{"$f":"'Log til risikostyring'!H210","v":0},{"$f":"'Log til risikostyring'!I210","v":0},{"$f":"'Log til risikostyring'!J210","v":0},{"$f":"'Log til risikostyring'!K210","v":0},{"$f":"'Log til risikostyring'!L210","v":0},{"$f":"'Log til risikostyring'!M210","v":0},{"$f":"'Log til risikostyring'!N210","v":0},{"$f":"'Log til risikostyring'!O210","v":0},{"$f":"'Log til risikostyring'!P210","v":0},{"$f":"'Log til risikostyring'!Q210","v":0},{"$f":"'Log til risikostyring'!R210","v":0},{"$f":"'Log til risikostyring'!S210","v":0},{"$f":"'Log til risikostyring'!T210","v":0},{"$f":"'Log til risikostyring'!U210","v":0},{"$f":"'Log til risikostyring'!V210","v":0},0,0,0]
[null,{"$f":"'Log til risikostyring'!B211","v":0},{"$f":"'Log til risikostyring'!C211","v":0},{"$f":"'Log til risikostyring'!D211","v":0},{"$f":"'Log til risikostyring'!E211","v":0},{"$f":"'Log til risikostyring'!F211","v":0},{"$f":"'Log til risikostyring'!G211","v":0},{"$f":"'Log til risikostyring'!H211","v":0},{"$f":"'Log til risikostyring'!I211","v":0},{"$f":"'Log til risikostyring'!J211","v":0},{"$f":"'Log til risikostyring'!K211","v":0},{"$f":"'Log til risikostyring'!L211","v":0},{"$f":"'Log til risikostyring'!M211","v":0},{"$f":"'Log til risikostyring'!N211","v":0},{"$f":"'Log til risikostyring'!O211","v":0},{"$f":"'Log til risikostyring'!P211","v":0},{"$f":"'Log til risikostyring'!Q211","v":0},{"$f":"'Log til risikostyring'!R211","v":0},{"$f":"'Log til risikostyring'!S211","v":0},{"$f":"'Log til risikostyring'!T211","v":0},{"$f":"'Log til risikostyring'!U211","v":0},{"$f":"'Log til risikostyring'!V211","v":0},0,0,0]
[null,{"$f":"'Log til risikostyring'!B212","v":0},{"$f":"'Log til risikostyring'!C212","v":0},{"$f":"'Log til risikostyring'!D212","v":0},{"$f":"'Log til risikostyring'!E212","v":0},{"$f":"'Log til risikostyring'!F212","v":0},{"$f":"'Log til risikostyring'!G212","v":0},{"$f":"'Log til risikostyring'!H212","v":0},{"$f":"'Log til risikostyring'!I212","v":0},{"$f":"'Log til risikostyring'!J212","v":0},{"$f":"'Log til risikostyring'!K212","v":0},{"$f":"'Log til risikostyring'!L212","v":0},{"$f":"'Log til risikostyring'!M212","v":0},{"$f":"'Log til risikostyring'!N212","v":0},{"$f":"'Log til risikostyring'!O212","v":0},{"$f":"'Log til risikostyring'!P212","v":0},{"$f":"'Log til risikostyring'!Q212","v":0},{"$f":"'Log til risikostyring'!R212","v":0},{"$f":"'Log til risikostyring'!S212","v":0},{"$f":"'Log til risikostyring'!T212","v":0},{"$f":"'Log til risikostyring'!U212","v":0},{"$f":"'Log til risikostyring'!V212","v":0},0,0,0]
[null,{"$f":"'Log til risikostyring'!B213","v":0},{"$f":"'Log til risikostyring'!C213","v":0},{"$f":"'Log til risikostyring'!D213","v":0},{"$f":"'Log til risikostyring'!E213","v":0},{"$f":"'Log til risikostyring'!F213","v":0},{"$f":"'Log til risikostyring'!G213","v":0},{"$f":"'Log til risikostyring'!H213","v":0},{"$f":"'Log til risikostyring'!I213","v":0},{"$f":"'Log til risikostyring'!J213","v":0},{"$f":"'Log til risikostyring'!K213","v":0},{"$f":"'Log til risikostyring'!L213","v":0},{"$f":"'Log til risikostyring'!M213","v":0},{"$f":"'Log til risikostyring'!N213","v":0},{"$f":"'Log til risikostyring'!O213","v":0},{"$f":"'Log til risikostyring'!P213","v":0},{"$f":"'Log til risikostyring'!Q213","v":0},{"$f":"'Log til risikostyring'!R213","v":0},{"$f":"'Log til risikostyring'!S213","v":0},{"$f":"'Log til risikostyring'!T213","v":0},{"$f":"'Log til risikostyring'!U213","v":0},{"$f":"'Log til risikostyring'!V213","v":0},0,0,0]
[null,{"$f":"'Log til risikostyring'!B214","v":0},{"$f":"'Log til risikostyring'!C214","v":0},{"$f":"'Log til risikostyring'!D214","v":0},{"$f":"'Log til risikostyring'!E214","v":0},{"$f":"'Log til risikostyring'!F214","v":0},{"$f":"'Log til risikostyring'!G214","v":0},{"$f":"'Log til risikostyring'!H214","v":0},{"$f":"'Log til risikostyring'!I214","v":0},{"$f":"'Log til risikostyring'!J214","v":0},{"$f":"'Log til risikostyring'!K214","v":0},{"$f":"'Log til risikostyring'!L214","v":0},{"$f":"'Log til risikostyring'!M214","v":0},{"$f":"'Log til risikostyring'!N214","v":0},{"$f":"'Log til risikostyring'!O214","v":0},{"$f":"'Log til risikostyring'!P214","v":0},{"$f":"'Log til risikostyring'!Q214","v":0},{"$f":"'Log til risikostyring'!R214","v":0},{"$f":"'Log til risikostyring'!S214","v":0},{"$f":"'Log til risikostyring'!T214","v":0},{"$f":"'Log til risikostyring'!U214","v":0},{"$f":"'Log til risikostyring'!V214","v":0},0,0,0]